BEGIN:VCALENDAR
VERSION:2.0
PRODID:-//Udenhout-Centraal - ECPv6.15.20//NONSGML v1.0//EN
CALSCALE:GREGORIAN
METHOD:PUBLISH
X-WR-CALNAME:Udenhout-Centraal
X-ORIGINAL-URL:https://udenhout-centraal.nl
X-WR-CALDESC:Evenementen voor Udenhout-Centraal
REFRESH-INTERVAL;VALUE=DURATION:PT1H
X-Robots-Tag:noindex
X-PUBLISHED-TTL:PT1H
BEGIN:VTIMEZONE
TZID:Europe/Amsterdam
BEGIN:DAYLIGHT
TZOFFSETFROM:+0100
TZOFFSETTO:+0200
TZNAME:CEST
DTSTART:20240331T010000
END:DAYLIGHT
BEGIN:STANDARD
TZOFFSETFROM:+0200
TZOFFSETTO:+0100
TZNAME:CET
DTSTART:20241027T010000
END:STANDARD
BEGIN:DAYLIGHT
TZOFFSETFROM:+0100
TZOFFSETTO:+0200
TZNAME:CEST
DTSTART:20250330T010000
END:DAYLIGHT
BEGIN:STANDARD
TZOFFSETFROM:+0200
TZOFFSETTO:+0100
TZNAME:CET
DTSTART:20251026T010000
END:STANDARD
BEGIN:DAYLIGHT
TZOFFSETFROM:+0100
TZOFFSETTO:+0200
TZNAME:CEST
DTSTART:20260329T010000
END:DAYLIGHT
BEGIN:STANDARD
TZOFFSETFROM:+0200
TZOFFSETTO:+0100
TZNAME:CET
DTSTART:20261025T010000
END:STANDARD
END:VTIMEZONE
BEGIN:VEVENT
DTSTART;TZID=Europe/Amsterdam:20250119T090000
DTEND;TZID=Europe/Amsterdam:20250119T130000
DTSTAMP:20260422T012823
CREATED:20241227T143017Z
LAST-MODIFIED:20241227T143017Z
UID:56217-1737277200-1737291600@udenhout-centraal.nl
SUMMARY:Opruimen feestverlichting
DESCRIPTION:De feestverlichting in de Kreitenmolenstraat en slimstraat wordt opgeruimd.\nGeef ze de ruimte.
URL:https://udenhout-centraal.nl/evenement/opruimen-feestverlichting-2/
LOCATION:Kreitenmolenstraat-Slimstraat
CATEGORIES:Evenementen
ORGANIZER;CN="Ondernemers Vereniging Udenhout":MAILTO:Info@welkominudenhout.nl
END:VEVENT
END:VCALENDAR