BEGIN:VCALENDAR
VERSION:2.0
PRODID:-//Udenhout-Centraal - ECPv6.15.20//NONSGML v1.0//EN
CALSCALE:GREGORIAN
METHOD:PUBLISH
X-ORIGINAL-URL:https://udenhout-centraal.nl
X-WR-CALDESC:Evenementen voor Udenhout-Centraal
REFRESH-INTERVAL;VALUE=DURATION:PT1H
X-Robots-Tag:noindex
X-PUBLISHED-TTL:PT1H
BEGIN:VTIMEZONE
TZID:Europe/Amsterdam
BEGIN:DAYLIGHT
TZOFFSETFROM:+0100
TZOFFSETTO:+0200
TZNAME:CEST
DTSTART:20240331T010000
END:DAYLIGHT
BEGIN:STANDARD
TZOFFSETFROM:+0200
TZOFFSETTO:+0100
TZNAME:CET
DTSTART:20241027T010000
END:STANDARD
BEGIN:DAYLIGHT
TZOFFSETFROM:+0100
TZOFFSETTO:+0200
TZNAME:CEST
DTSTART:20250330T010000
END:DAYLIGHT
BEGIN:STANDARD
TZOFFSETFROM:+0200
TZOFFSETTO:+0100
TZNAME:CET
DTSTART:20251026T010000
END:STANDARD
BEGIN:DAYLIGHT
TZOFFSETFROM:+0100
TZOFFSETTO:+0200
TZNAME:CEST
DTSTART:20260329T010000
END:DAYLIGHT
BEGIN:STANDARD
TZOFFSETFROM:+0200
TZOFFSETTO:+0100
TZNAME:CET
DTSTART:20261025T010000
END:STANDARD
END:VTIMEZONE
BEGIN:VEVENT
DTSTART;TZID=Europe/Amsterdam:20250122T103000
DTEND;TZID=Europe/Amsterdam:20250122T120000
DTSTAMP:20260422T012818
CREATED:20241214T140228Z
LAST-MODIFIED:20241214T140228Z
UID:56060-1737541800-1737547200@udenhout-centraal.nl
SUMMARY:Theater en Voorleeslunch tijdens de Nationale Voorleesdagen
DESCRIPTION:Muzikale theatervoorstelling Rinus door Marianne van Houten.\nVer\, ver hiervandaan aam de rand van de jungle\, op de savanne\, daar leven de prachtigste dieren. Ga je mee op safari? Wat een grappige en stoere dieren zijn er te zien. En zie je die neushoorns daar? Dat zijn Rinus en zijn opa! Maar wat gebeurt daar allemaal?\nIn de voorstellingen van Marianne mogen kinderen altijd meespelen. De voorstelling zit vol interactie\, actie\, humor\, geluiden en mooie eigen liedjes.\nNa de voorstelling trakteren we op een klein lunch voor de kleintjes. De toegang is gratis\, aanmelden is verplicht en dat kan via onze website www.bibliotheekmb.nl/udenhout. \nVoorlezen gaat vóór!\nDe Nationale Voorleesdagen is het grootste boekenfeest voor kinderen van 0 tot 6 jaar. Met lekker voorlezen begint een leven lang leesplezier. Voorlezen is bovendien goed voor de ontwikkeling. Daarom leest driekwart van de ouders met kinderen tot zes jaar dagelijks voor. \nVingerpopje\nEn… alle kinderen die tijdens De Nationale Voorleesdagen (gratis) lid worden van de Bibliotheek\, krijgen een vingerpopje cadeau!
URL:https://udenhout-centraal.nl/evenement/theater-en-voorleeslunch-tijdens-de-nationale-voorleesdagen/
LOCATION:’t Plein\, Tongerloplein 1\, Udenhout
CATEGORIES:Evenementen
END:VEVENT
END:VCALENDAR