BEGIN:VCALENDAR
VERSION:2.0
PRODID:-//Udenhout-Centraal - ECPv6.15.20//NONSGML v1.0//EN
CALSCALE:GREGORIAN
METHOD:PUBLISH
X-WR-CALNAME:Udenhout-Centraal
X-ORIGINAL-URL:https://udenhout-centraal.nl
X-WR-CALDESC:Evenementen voor Udenhout-Centraal
REFRESH-INTERVAL;VALUE=DURATION:PT1H
X-Robots-Tag:noindex
X-PUBLISHED-TTL:PT1H
BEGIN:VTIMEZONE
TZID:Europe/Amsterdam
BEGIN:DAYLIGHT
TZOFFSETFROM:+0100
TZOFFSETTO:+0200
TZNAME:CEST
DTSTART:20240331T010000
END:DAYLIGHT
BEGIN:STANDARD
TZOFFSETFROM:+0200
TZOFFSETTO:+0100
TZNAME:CET
DTSTART:20241027T010000
END:STANDARD
BEGIN:DAYLIGHT
TZOFFSETFROM:+0100
TZOFFSETTO:+0200
TZNAME:CEST
DTSTART:20250330T010000
END:DAYLIGHT
BEGIN:STANDARD
TZOFFSETFROM:+0200
TZOFFSETTO:+0100
TZNAME:CET
DTSTART:20251026T010000
END:STANDARD
BEGIN:DAYLIGHT
TZOFFSETFROM:+0100
TZOFFSETTO:+0200
TZNAME:CEST
DTSTART:20260329T010000
END:DAYLIGHT
BEGIN:STANDARD
TZOFFSETFROM:+0200
TZOFFSETTO:+0100
TZNAME:CET
DTSTART:20261025T010000
END:STANDARD
END:VTIMEZONE
BEGIN:VEVENT
DTSTART;TZID=Europe/Amsterdam:20250125T110000
DTEND;TZID=Europe/Amsterdam:20250125T130000
DTSTAMP:20260422T012822
CREATED:20250114T121408Z
LAST-MODIFIED:20250114T121408Z
UID:56294-1737802800-1737810000@udenhout-centraal.nl
SUMMARY:Energieloket
DESCRIPTION:Energieloket voor vragen over energie besparen en opwekken.
URL:https://udenhout-centraal.nl/evenement/energieloket-2/
LOCATION:Bibliotheek Udenhout\, Tongerloplein 15\, Udenhout\, 5071 CX
CATEGORIES:Evenementen
END:VEVENT
BEGIN:VEVENT
DTSTART;TZID=Europe/Amsterdam:20250125T200000
DTEND;TZID=Europe/Amsterdam:20250125T223000
DTSTAMP:20260422T012822
CREATED:20241122T075418Z
LAST-MODIFIED:20241122T075418Z
UID:55771-1737835200-1737844200@udenhout-centraal.nl
SUMMARY:Stichting VOTO presenteert; Het Nieuwe Testament
DESCRIPTION:‘Geld\, liefde\, lust en intriges. Kom kijken naar deze heerlijk olijke avondvullende klucht vol adellijke afgunst met paarden als goudstaven en de waskar als dekmantel.’ Geschreven en geregisseerd door Ruud Vugs past deze klucht Stichting VOTO Toneel als een warme jas. Een avond vol gelach en plezier gegarandeerd!\nKaarten zijn te koop bij ’t Plein\, Piet van Meintjeshoeve in Heukelom\, Takstation Robben Berkel-Enschot en via https://events.flextickets.nl/event/voto-toneel \nZaal open om  19.30 uur
URL:https://udenhout-centraal.nl/evenement/stichting-voto-presenteert-het-nieuwe-testament-2/
LOCATION:’t Plein\, Tongerloplein 1\, Udenhout
CATEGORIES:Evenementen
ORGANIZER;CN="Stichting VOTO Toneel":MAILTO:stichting-voto@hotmail.com
END:VEVENT
END:VCALENDAR