BEGIN:VCALENDAR
VERSION:2.0
PRODID:-//Udenhout-Centraal - ECPv6.15.20//NONSGML v1.0//EN
CALSCALE:GREGORIAN
METHOD:PUBLISH
X-WR-CALNAME:Udenhout-Centraal
X-ORIGINAL-URL:https://udenhout-centraal.nl
X-WR-CALDESC:Evenementen voor Udenhout-Centraal
REFRESH-INTERVAL;VALUE=DURATION:PT1H
X-Robots-Tag:noindex
X-PUBLISHED-TTL:PT1H
BEGIN:VTIMEZONE
TZID:Europe/Amsterdam
BEGIN:DAYLIGHT
TZOFFSETFROM:+0100
TZOFFSETTO:+0200
TZNAME:CEST
DTSTART:20240331T010000
END:DAYLIGHT
BEGIN:STANDARD
TZOFFSETFROM:+0200
TZOFFSETTO:+0100
TZNAME:CET
DTSTART:20241027T010000
END:STANDARD
BEGIN:DAYLIGHT
TZOFFSETFROM:+0100
TZOFFSETTO:+0200
TZNAME:CEST
DTSTART:20250330T010000
END:DAYLIGHT
BEGIN:STANDARD
TZOFFSETFROM:+0200
TZOFFSETTO:+0100
TZNAME:CET
DTSTART:20251026T010000
END:STANDARD
BEGIN:DAYLIGHT
TZOFFSETFROM:+0100
TZOFFSETTO:+0200
TZNAME:CEST
DTSTART:20260329T010000
END:DAYLIGHT
BEGIN:STANDARD
TZOFFSETFROM:+0200
TZOFFSETTO:+0100
TZNAME:CET
DTSTART:20261025T010000
END:STANDARD
END:VTIMEZONE
BEGIN:VEVENT
DTSTART;TZID=Europe/Amsterdam:20250209T141500
DTEND;TZID=Europe/Amsterdam:20250209T160000
DTSTAMP:20260422T001410
CREATED:20250111T153258Z
LAST-MODIFIED:20250111T153258Z
UID:56278-1739110500-1739116800@udenhout-centraal.nl
SUMMARY:Insteken en omslaan (een moderne carnavalsmusical)
DESCRIPTION:“En eens per jaar dan is het feest\, dan is het carnaval!’ \nVoor alle carnavalsliefhebbers (of niet) speelt in ’t Plein te Udenhout op 7 en 9 februari 2025 de voorstelling ‘Insteken en omslaan’. Een muziektheatervoorstelling over hoe een vrouwelijke raad van elf probeert binnen te dringen in de wereld van het traditionele\, georganiseerde carnaval. Om alvast in de stemming te komen óf om nog beter te begrijpen waarom je dit jaar wéér het feestgedruis gaat ontvluchten. \nHet koppel Suus en Reinier leidt met hun twee pubers een comfortabel leven in een fijne woonwijk in een doorsnee Brabants dorp. Op een dag staat de geheimcommissie van de belangrijkste carnavalsvereniging van het dorp ‘De Lepelaars’ op de stoep met de vraag of Reinier Prins carnaval wil worden van het Lepelgat. Suus zit er nietop te wachten en lucht haar hart bij de voetbaltraining. Het vrouwenvoetbalelftal van Suus vindt dat het hoog tijd wordt voor een vrouwelijke prinses carnaval in het Lepelgat en zet de aanval in. Zal het carnaval in het Lepelgat voorgoed veranderen? \nInsteken en omslaan is een nieuwe\, originele voorstelling onder leiding van en geschreven door lokale\, professionele makers: Belinda van Doorn\, Debby Boekema en Fons Toonen. De voorstelling wordt begeleid door een 7-koppig\, professioneel live-orkest. \nBij ZummeZinge 2025 eindigde de Lepelaars in de top 5 met de kraker: ‘Aan mijn lijf geen polonaise’. \nSpelers: Erik Koenderink\, Eipie Bonnema\, Cindy Nouwens\, Irene van Rijsewijk\, Jojanneke Horstman\, Margriet Bel\, Anne Jansen\, Marijke Coppens\, Andre Wolfs\, Willem van Dinteren\, Mary Boekema\, Sandra Verschuren\, Menno van der Meer\, Paulette Flore\, Frederieke Fikkers\, Linda van Wieringen\, Guus van der Mooren en Suus van Hemert. \nRegie: Belinda van Doorn\nLibretto/zang: Debby Boekema\nComponist/bandleider: Fons Toonen \nVrijdag 7 februari 2025\, aanvang 20.15 uur\nZondag 9 februari 2025\, aanvang 14:15 en 20:15\nTickets €25\,00 en €20\,00 (incl. ticketkosten) via ’t Plein.\nLET OP! Gebruik promotiecode: INSTEKEN11 (€5\,00 korting) \nMeer info: www.tplein.com
URL:https://udenhout-centraal.nl/evenement/insteken-en-omslaan-een-moderne-carnavalsmusical-3/
LOCATION:’t Plein\, Tongerloplein 1\, Udenhout
CATEGORIES:Evenementen
ORGANIZER;CN="Insteken en Omslaan":MAILTO:instekenenomslaan@gmail.com
END:VEVENT
BEGIN:VEVENT
DTSTART;TZID=Europe/Amsterdam:20250209T201500
DTEND;TZID=Europe/Amsterdam:20250209T220000
DTSTAMP:20260422T001410
CREATED:20250111T153152Z
LAST-MODIFIED:20250111T153152Z
UID:56275-1739132100-1739138400@udenhout-centraal.nl
SUMMARY:Insteken en omslaan (een moderne carnavalsmusical)
DESCRIPTION:“En eens per jaar dan is het feest\, dan is het carnaval!’ \nVoor alle carnavalsliefhebbers (of niet) speelt in ’t Plein te Udenhout op 7 en 9 februari 2025 de voorstelling ‘Insteken en omslaan’. Een muziektheatervoorstelling over hoe een vrouwelijke raad van elf probeert binnen te dringen in de wereld van het traditionele\, georganiseerde carnaval. Om alvast in de stemming te komen óf om nog beter te begrijpen waarom je dit jaar wéér het feestgedruis gaat ontvluchten. \nHet koppel Suus en Reinier leidt met hun twee pubers een comfortabel leven in een fijne woonwijk in een doorsnee Brabants dorp. Op een dag staat de geheimcommissie van de belangrijkste carnavalsvereniging van het dorp ‘De Lepelaars’ op de stoep met de vraag of Reinier Prins carnaval wil worden van het Lepelgat. Suus zit er nietop te wachten en lucht haar hart bij de voetbaltraining. Het vrouwenvoetbalelftal van Suus vindt dat het hoog tijd wordt voor een vrouwelijke prinses carnaval in het Lepelgat en zet de aanval in. Zal het carnaval in het Lepelgat voorgoed veranderen? \nInsteken en omslaan is een nieuwe\, originele voorstelling onder leiding van en geschreven door lokale\, professionele makers: Belinda van Doorn\, Debby Boekema en Fons Toonen. De voorstelling wordt begeleid door een 7-koppig\, professioneel live-orkest. \nBij ZummeZinge 2025 eindigde de Lepelaars in de top 5 met de kraker: ‘Aan mijn lijf geen polonaise’. \nSpelers: Erik Koenderink\, Eipie Bonnema\, Cindy Nouwens\, Irene van Rijsewijk\, Jojanneke Horstman\, Margriet Bel\, Anne Jansen\, Marijke Coppens\, Andre Wolfs\, Willem van Dinteren\, Mary Boekema\, Sandra Verschuren\, Menno van der Meer\, Paulette Flore\, Frederieke Fikkers\, Linda van Wieringen\, Guus van der Mooren en Suus van Hemert. \nRegie: Belinda van Doorn\nLibretto/zang: Debby Boekema\nComponist/bandleider: Fons Toonen \nVrijdag 7 februari 2025\, aanvang 20.15 uur\nZondag 9 februari 2025\, aanvang 14:15 en 20:15\nTickets €25\,00 en €20\,00 (incl. ticketkosten) via ’t Plein.\nLET OP! Gebruik promotiecode: INSTEKEN11 (€5\,00 korting) \nMeer info: www.tplein.com
URL:https://udenhout-centraal.nl/evenement/insteken-en-omslaan-een-moderne-carnavalsmusical-2/
LOCATION:’t Plein\, Tongerloplein 1\, Udenhout
CATEGORIES:Evenementen
ORGANIZER;CN="Insteken en Omslaan":MAILTO:instekenenomslaan@gmail.com
END:VEVENT
END:VCALENDAR