BEGIN:VCALENDAR
VERSION:2.0
PRODID:-//Udenhout-Centraal - ECPv6.15.20//NONSGML v1.0//EN
CALSCALE:GREGORIAN
METHOD:PUBLISH
X-ORIGINAL-URL:https://udenhout-centraal.nl
X-WR-CALDESC:Evenementen voor Udenhout-Centraal
REFRESH-INTERVAL;VALUE=DURATION:PT1H
X-Robots-Tag:noindex
X-PUBLISHED-TTL:PT1H
BEGIN:VTIMEZONE
TZID:Europe/Amsterdam
BEGIN:DAYLIGHT
TZOFFSETFROM:+0100
TZOFFSETTO:+0200
TZNAME:CEST
DTSTART:20240331T010000
END:DAYLIGHT
BEGIN:STANDARD
TZOFFSETFROM:+0200
TZOFFSETTO:+0100
TZNAME:CET
DTSTART:20241027T010000
END:STANDARD
BEGIN:DAYLIGHT
TZOFFSETFROM:+0100
TZOFFSETTO:+0200
TZNAME:CEST
DTSTART:20250330T010000
END:DAYLIGHT
BEGIN:STANDARD
TZOFFSETFROM:+0200
TZOFFSETTO:+0100
TZNAME:CET
DTSTART:20251026T010000
END:STANDARD
BEGIN:DAYLIGHT
TZOFFSETFROM:+0100
TZOFFSETTO:+0200
TZNAME:CEST
DTSTART:20260329T010000
END:DAYLIGHT
BEGIN:STANDARD
TZOFFSETFROM:+0200
TZOFFSETTO:+0100
TZNAME:CET
DTSTART:20261025T010000
END:STANDARD
END:VTIMEZONE
BEGIN:VEVENT
DTSTART;TZID=Europe/Amsterdam:20250215T100000
DTEND;TZID=Europe/Amsterdam:20250221T210000
DTSTAMP:20260422T001405
CREATED:20250208T090941Z
LAST-MODIFIED:20250208T091220Z
UID:56613-1739613600-1740171600@udenhout-centraal.nl
SUMMARY:Verspreiding Keutel d'n Haozenpot
DESCRIPTION:Verspreiding van carnavalsblad de 53e Keutel in het hele dorp. Er word een vrijwillige bijdrage gevraagd om nog meer edities uit te kunnen brengen en het behoud van carnaval in D’n Haozenpot. Einddatum 22 februari
URL:https://udenhout-centraal.nl/evenement/verspreiding-keutel-dn-haozenpot/
LOCATION:Hele Haozenpot
CATEGORIES:Evenementen
END:VEVENT
BEGIN:VEVENT
DTSTART;TZID=Europe/Amsterdam:20250216T110000
DTEND;TZID=Europe/Amsterdam:20250216T160000
DTSTAMP:20260422T001405
CREATED:20250214T142823Z
LAST-MODIFIED:20250214T142823Z
UID:56670-1739703600-1739721600@udenhout-centraal.nl
SUMMARY:Carnaval speurtocht
DESCRIPTION:Tijdens de carnaval vakantie even lekker actief in de frisse buitenlucht. Speur naar gekke figuurtjes. Vind de oplossing. En ervaar hoe de eenvoud van een speurtocht door de tuin de leukste dag van de vakantie kan worden! \nDe wandeling door en de stilte van de tuin hebben een kalmerend effect. Deze speurtocht is daarom voor jou en/of je kind een ideale afwisseling met het carnavalsfeest. Even een rustmoment in het feestgedruis. Carnaval heeft een traditie van harde muziek en veel mensen dicht op elkaar. Dit kan een mooi pauze moment zijn in de vele prikkels die afkomen op jou en je kind. \nKom samen speuren naar carnavaleske figuurtjes en leer de tuin in de winter kennen.
URL:https://udenhout-centraal.nl/evenement/carnaval-speurtocht-2/
LOCATION:Sprankenhof\, Schoorstraat 26 – A\, Udenhout\, 5071 RA\, Nederland
CATEGORIES:Evenementen
END:VEVENT
BEGIN:VEVENT
DTSTART;TZID=Europe/Amsterdam:20250216T133000
DTEND;TZID=Europe/Amsterdam:20250216T150000
DTSTAMP:20260422T001405
CREATED:20250206T103817Z
LAST-MODIFIED:20250206T103817Z
UID:56554-1739712600-1739718000@udenhout-centraal.nl
SUMMARY:ONT-moeten voor mantelzorgers
DESCRIPTION:Wat is ONT-moeten voor Mantelzorgers?\nDeze mantelzorg inloop biedt een informele\, toegankelijke plek voor mantelzorgers om even tijd voor zichzelf te nemen en in contact te komen met anderen die in dezelfde situatie zitten. Of je nu zorgt voor een partner\, ouder\, vriend of andere naaste\, het kan fijn zijn om met iemand te praten die begrijpt wat je doormaakt. \nTijdens deze inloop MOET je niks maar kun je: ervaringen delen\, informatie verkrijgen\, en even ontspanning vinden. \nGratis toegang\, consumpties voor eigen rekening.
URL:https://udenhout-centraal.nl/evenement/ont-moeten-voor-mantelzorgers/
LOCATION:’t Plein\, Tongerloplein 1\, Udenhout
CATEGORIES:Evenementen
END:VEVENT
BEGIN:VEVENT
DTSTART;TZID=Europe/Amsterdam:20250216T150000
DTEND;TZID=Europe/Amsterdam:20250216T170000
DTSTAMP:20260422T001405
CREATED:20250111T145414Z
LAST-MODIFIED:20250111T145414Z
UID:56264-1739718000-1739725200@udenhout-centraal.nl
SUMMARY:Broederfeest 2025
DESCRIPTION:Op zondag 16 februari 2025 zal weer de nieuwe Udenhoutse Broeder worden bekend gemaakt.\nWe zullen de Noviet aan U voorstellen vanaf 15.00 in de oude Kapel van Huize Vincentius.
URL:https://udenhout-centraal.nl/evenement/broederfeest-2025/
LOCATION:Kapel van Vincentius ASVZ
CATEGORIES:Evenementen
END:VEVENT
END:VCALENDAR