BEGIN:VCALENDAR
VERSION:2.0
PRODID:-//Udenhout-Centraal - ECPv6.15.20//NONSGML v1.0//EN
CALSCALE:GREGORIAN
METHOD:PUBLISH
X-WR-CALNAME:Udenhout-Centraal
X-ORIGINAL-URL:https://udenhout-centraal.nl
X-WR-CALDESC:Evenementen voor Udenhout-Centraal
REFRESH-INTERVAL;VALUE=DURATION:PT1H
X-Robots-Tag:noindex
X-PUBLISHED-TTL:PT1H
BEGIN:VTIMEZONE
TZID:Europe/Amsterdam
BEGIN:DAYLIGHT
TZOFFSETFROM:+0100
TZOFFSETTO:+0200
TZNAME:CEST
DTSTART:20240331T010000
END:DAYLIGHT
BEGIN:STANDARD
TZOFFSETFROM:+0200
TZOFFSETTO:+0100
TZNAME:CET
DTSTART:20241027T010000
END:STANDARD
BEGIN:DAYLIGHT
TZOFFSETFROM:+0100
TZOFFSETTO:+0200
TZNAME:CEST
DTSTART:20250330T010000
END:DAYLIGHT
BEGIN:STANDARD
TZOFFSETFROM:+0200
TZOFFSETTO:+0100
TZNAME:CET
DTSTART:20251026T010000
END:STANDARD
BEGIN:DAYLIGHT
TZOFFSETFROM:+0100
TZOFFSETTO:+0200
TZNAME:CEST
DTSTART:20260329T010000
END:DAYLIGHT
BEGIN:STANDARD
TZOFFSETFROM:+0200
TZOFFSETTO:+0100
TZNAME:CET
DTSTART:20261025T010000
END:STANDARD
END:VTIMEZONE
BEGIN:VEVENT
DTSTART;TZID=Europe/Amsterdam:20250215T100000
DTEND;TZID=Europe/Amsterdam:20250221T210000
DTSTAMP:20260422T001318
CREATED:20250208T090941Z
LAST-MODIFIED:20250208T091220Z
UID:56613-1739613600-1740171600@udenhout-centraal.nl
SUMMARY:Verspreiding Keutel d'n Haozenpot
DESCRIPTION:Verspreiding van carnavalsblad de 53e Keutel in het hele dorp. Er word een vrijwillige bijdrage gevraagd om nog meer edities uit te kunnen brengen en het behoud van carnaval in D’n Haozenpot. Einddatum 22 februari
URL:https://udenhout-centraal.nl/evenement/verspreiding-keutel-dn-haozenpot/
LOCATION:Hele Haozenpot
CATEGORIES:Evenementen
END:VEVENT
BEGIN:VEVENT
DTSTART;TZID=Europe/Amsterdam:20250218T110000
DTEND;TZID=Europe/Amsterdam:20250218T160000
DTSTAMP:20260422T001318
CREATED:20250214T142859Z
LAST-MODIFIED:20250214T142859Z
UID:56676-1739876400-1739894400@udenhout-centraal.nl
SUMMARY:Carnaval speurtocht
DESCRIPTION:Tijdens de carnaval vakantie even lekker actief in de frisse buitenlucht. Speur naar gekke figuurtjes. Vind de oplossing. En ervaar hoe de eenvoud van een speurtocht door de tuin de leukste dag van de vakantie kan worden! \nDe wandeling door en de stilte van de tuin hebben een kalmerend effect. Deze speurtocht is daarom voor jou en/of je kind een ideale afwisseling met het carnavalsfeest. Even een rustmoment in het feestgedruis. Carnaval heeft een traditie van harde muziek en veel mensen dicht op elkaar. Dit kan een mooi pauze moment zijn in de vele prikkels die afkomen op jou en je kind. \nKom samen speuren naar carnavaleske figuurtjes en leer de tuin in de winter kennen.
URL:https://udenhout-centraal.nl/evenement/carnaval-speurtocht-4/
LOCATION:Sprankenhof\, Schoorstraat 26 – A\, Udenhout\, 5071 RA\, Nederland
CATEGORIES:Evenementen
END:VEVENT
BEGIN:VEVENT
DTSTART;TZID=Europe/Amsterdam:20250218T130000
DTEND;TZID=Europe/Amsterdam:20250218T150000
DTSTAMP:20260422T001318
CREATED:20250206T102619Z
LAST-MODIFIED:20250206T102619Z
UID:56527-1739883600-1739890800@udenhout-centraal.nl
SUMMARY:Inloopspreekuur Stichting Leergeld in de Bibliotheek Udenhout
DESCRIPTION:Als Stichting Leergeld Tilburg richten wij ons op kinderen uit gezinnen met geldzorgen. Deze kinderen dreigen door de financiële situatie buiten de boot te vallen als het gaat om binnen- en buitenschoolse activiteiten. Wij zetten ons in voor deze kinderen in de leeftijd van 4 tot 18 jaar. Onze missie is dat elk kind kan meedoen. Want nu meedoen is later meetellen in de maatschappij! \nHet kan hier gaan om schoolspullen\, muziekles of een lidmaatschap bij een sportvereniging. Wij bieden de kinderen een opstapje\, waardoor ze toch deel kunnen nemen\, kennis kunnen opdoen en vaardigheden kunnen ontwikkelen.\nTijdens het Informatieplein in de bibliotheek in Udenhout is er een inloopspreekuur
URL:https://udenhout-centraal.nl/evenement/inloopspreekuur-stichting-leergeld-in-de-bibliotheek-udenhout/
LOCATION:de Bibliotheek Udenhout\, Tongerloplein 15\, Udenhout\, 5071 CX
CATEGORIES:Evenementen
END:VEVENT
BEGIN:VEVENT
DTSTART;TZID=Europe/Amsterdam:20250218T133000
DTEND;TZID=Europe/Amsterdam:20250218T150000
DTSTAMP:20260422T001318
CREATED:20250206T104224Z
LAST-MODIFIED:20250206T104224Z
UID:56584-1739885400-1739890800@udenhout-centraal.nl
SUMMARY:ONT-moeten voor mantelzorgers
DESCRIPTION:Wat is ONT-moeten voor Mantelzorgers?\nDeze mantelzorg inloop biedt een informele\, toegankelijke plek voor mantelzorgers om even tijd voor zichzelf te nemen en in contact te komen met anderen die in dezelfde situatie zitten. Of je nu zorgt voor een partner\, ouder\, vriend of andere naaste\, het kan fijn zijn om met iemand te praten die begrijpt wat je doormaakt. \nTijdens deze inloop MOET je niks maar kun je: ervaringen delen\, informatie verkrijgen\, en even ontspanning vinden. \nGratis toegang\, consumpties voor eigen rekening.
URL:https://udenhout-centraal.nl/evenement/ont-moeten-voor-mantelzorgers-11/
LOCATION:’t Plein\, Tongerloplein 1\, Udenhout
CATEGORIES:Evenementen
END:VEVENT
BEGIN:VEVENT
DTSTART;TZID=Europe/Amsterdam:20250218T153000
DTEND;TZID=Europe/Amsterdam:20250218T173000
DTSTAMP:20260422T001318
CREATED:20250206T103302Z
LAST-MODIFIED:20250206T103302Z
UID:56539-1739892600-1739899800@udenhout-centraal.nl
SUMMARY:Energieloket
DESCRIPTION:Met al je vragen over energie besparen en opwekken kun je nu terecht bij het energieloket in bibliotheek Udenhout !
URL:https://udenhout-centraal.nl/evenement/energieloket-8/
LOCATION:de Bibliotheek Udenhout\, Tongerloplein 15\, Udenhout\, 5071 CX
CATEGORIES:Evenementen
END:VEVENT
END:VCALENDAR