BEGIN:VCALENDAR
VERSION:2.0
PRODID:-//Udenhout-Centraal - ECPv6.15.20//NONSGML v1.0//EN
CALSCALE:GREGORIAN
METHOD:PUBLISH
X-ORIGINAL-URL:https://udenhout-centraal.nl
X-WR-CALDESC:Evenementen voor Udenhout-Centraal
REFRESH-INTERVAL;VALUE=DURATION:PT1H
X-Robots-Tag:noindex
X-PUBLISHED-TTL:PT1H
BEGIN:VTIMEZONE
TZID:Europe/Amsterdam
BEGIN:DAYLIGHT
TZOFFSETFROM:+0100
TZOFFSETTO:+0200
TZNAME:CEST
DTSTART:20240331T010000
END:DAYLIGHT
BEGIN:STANDARD
TZOFFSETFROM:+0200
TZOFFSETTO:+0100
TZNAME:CET
DTSTART:20241027T010000
END:STANDARD
BEGIN:DAYLIGHT
TZOFFSETFROM:+0100
TZOFFSETTO:+0200
TZNAME:CEST
DTSTART:20250330T010000
END:DAYLIGHT
BEGIN:STANDARD
TZOFFSETFROM:+0200
TZOFFSETTO:+0100
TZNAME:CET
DTSTART:20251026T010000
END:STANDARD
BEGIN:DAYLIGHT
TZOFFSETFROM:+0100
TZOFFSETTO:+0200
TZNAME:CEST
DTSTART:20260329T010000
END:DAYLIGHT
BEGIN:STANDARD
TZOFFSETFROM:+0200
TZOFFSETTO:+0100
TZNAME:CET
DTSTART:20261025T010000
END:STANDARD
END:VTIMEZONE
BEGIN:VEVENT
DTSTART;TZID=Europe/Amsterdam:20250301T110000
DTEND;TZID=Europe/Amsterdam:20250301T160000
DTSTAMP:20260421T230303
CREATED:20250214T143121Z
LAST-MODIFIED:20250214T143121Z
UID:56709-1740826800-1740844800@udenhout-centraal.nl
SUMMARY:Carnaval speurtocht
DESCRIPTION:Tijdens de carnaval vakantie even lekker actief in de frisse buitenlucht. Speur naar gekke figuurtjes. Vind de oplossing. En ervaar hoe de eenvoud van een speurtocht door de tuin de leukste dag van de vakantie kan worden! \nDe wandeling door en de stilte van de tuin hebben een kalmerend effect. Deze speurtocht is daarom voor jou en/of je kind een ideale afwisseling met het carnavalsfeest. Even een rustmoment in het feestgedruis. Carnaval heeft een traditie van harde muziek en veel mensen dicht op elkaar. Dit kan een mooi pauze moment zijn in de vele prikkels die afkomen op jou en je kind. \nKom samen speuren naar carnavaleske figuurtjes en leer de tuin in de winter kennen.
URL:https://udenhout-centraal.nl/evenement/carnaval-speurtocht-15/
LOCATION:Sprankenhof\, Schoorstraat 26 – A\, Udenhout\, 5071 RA\, Nederland
CATEGORIES:Evenementen
END:VEVENT
BEGIN:VEVENT
DTSTART;TZID=Europe/Amsterdam:20250301T120000
DTEND;TZID=Europe/Amsterdam:20250301T130000
DTSTAMP:20260421T230303
CREATED:20250223T193047Z
LAST-MODIFIED:20250223T193047Z
UID:56822-1740830400-1740834000@udenhout-centraal.nl
SUMMARY:Installatie Kupke de Stéloor
DESCRIPTION:De start van carnaval! Na ontvangst van de burgermeester in ’t Plein word gezamenlijk Kupke de Stéloor word op zijn sokkel bij het oude Raadhuis geplaatst.
URL:https://udenhout-centraal.nl/evenement/installatie-kupke-de-steloor/
LOCATION:’t Raadhuis\, Slimstraat 2\, Udenhout\, 5071 EJ\, Nederland
CATEGORIES:Evenementen
END:VEVENT
BEGIN:VEVENT
DTSTART;TZID=Europe/Amsterdam:20250301T140000
DTEND;TZID=Europe/Amsterdam:20250301T180000
DTSTAMP:20260421T230303
CREATED:20250214T144833Z
LAST-MODIFIED:20250214T144833Z
UID:56738-1740837600-1740852000@udenhout-centraal.nl
SUMMARY:Kwieke Haozenfist
DESCRIPTION:Een gezellige carnavalsmiddag voor de 50+er die zin heeft in een polonaise\, een lekkere Haozensoes\, lachen bij een tonpraoter en gezellig mee-eten met een stamppottenbuffet. \nKaartverkoop via Fotogalerie Angelique\, Kreit57 en DA Venmans
URL:https://udenhout-centraal.nl/evenement/kwieke-haozenfist/
LOCATION:Oude Raadhuis\, Slimstraat 2\, Udenhout\, Nederland
END:VEVENT
BEGIN:VEVENT
DTSTART;TZID=Europe/Amsterdam:20250301T140000
DTEND;TZID=Europe/Amsterdam:20250301T180000
DTSTAMP:20260421T230303
CREATED:20250223T193216Z
LAST-MODIFIED:20250223T193216Z
UID:56825-1740837600-1740852000@udenhout-centraal.nl
SUMMARY:Kwieke Haozenfist
DESCRIPTION:Een gezellige carnavalsmiddag voor de 50+er die zin heeft in een polonaise\, een lekkere Haozensoes\, lachen bij een tonpraoter en gezellig mee-eten met een stamppottenbuffet. \nKaartverkoop via Fotogalerie Angelique\, Kreit57 en DA Venmans.
URL:https://udenhout-centraal.nl/evenement/kwieke-haozenfist-2/
LOCATION:Oude Raadhuis\, Slimstraat 2\, Udenhout\, Nederland
CATEGORIES:Evenementen
END:VEVENT
BEGIN:VEVENT
DTSTART;TZID=Europe/Amsterdam:20250301T183000
DTEND;TZID=Europe/Amsterdam:20250301T193000
DTSTAMP:20260421T230303
CREATED:20250223T193315Z
LAST-MODIFIED:20250223T193315Z
UID:56828-1740853800-1740857400@udenhout-centraal.nl
SUMMARY:Carnavalsmis
DESCRIPTION:
URL:https://udenhout-centraal.nl/evenement/carnavalsmis/
LOCATION:St. Lambertuskerk\, Slimstraat 7\, Udenhout\, Nederland
CATEGORIES:Evenementen
END:VEVENT
END:VCALENDAR