BEGIN:VCALENDAR
VERSION:2.0
PRODID:-//Udenhout-Centraal - ECPv6.15.20//NONSGML v1.0//EN
CALSCALE:GREGORIAN
METHOD:PUBLISH
X-WR-CALNAME:Udenhout-Centraal
X-ORIGINAL-URL:https://udenhout-centraal.nl
X-WR-CALDESC:Evenementen voor Udenhout-Centraal
REFRESH-INTERVAL;VALUE=DURATION:PT1H
X-Robots-Tag:noindex
X-PUBLISHED-TTL:PT1H
BEGIN:VTIMEZONE
TZID:Europe/Amsterdam
BEGIN:DAYLIGHT
TZOFFSETFROM:+0100
TZOFFSETTO:+0200
TZNAME:CEST
DTSTART:20240331T010000
END:DAYLIGHT
BEGIN:STANDARD
TZOFFSETFROM:+0200
TZOFFSETTO:+0100
TZNAME:CET
DTSTART:20241027T010000
END:STANDARD
BEGIN:DAYLIGHT
TZOFFSETFROM:+0100
TZOFFSETTO:+0200
TZNAME:CEST
DTSTART:20250330T010000
END:DAYLIGHT
BEGIN:STANDARD
TZOFFSETFROM:+0200
TZOFFSETTO:+0100
TZNAME:CET
DTSTART:20251026T010000
END:STANDARD
BEGIN:DAYLIGHT
TZOFFSETFROM:+0100
TZOFFSETTO:+0200
TZNAME:CEST
DTSTART:20260329T010000
END:DAYLIGHT
BEGIN:STANDARD
TZOFFSETFROM:+0200
TZOFFSETTO:+0100
TZNAME:CET
DTSTART:20261025T010000
END:STANDARD
END:VTIMEZONE
BEGIN:VEVENT
DTSTART;TZID=Europe/Amsterdam:20250304T110000
DTEND;TZID=Europe/Amsterdam:20250304T160000
DTSTAMP:20260421T230216
CREATED:20250214T143152Z
LAST-MODIFIED:20250214T143152Z
UID:56718-1741086000-1741104000@udenhout-centraal.nl
SUMMARY:Carnaval speurtocht
DESCRIPTION:Tijdens de carnaval vakantie even lekker actief in de frisse buitenlucht. Speur naar gekke figuurtjes. Vind de oplossing. En ervaar hoe de eenvoud van een speurtocht door de tuin de leukste dag van de vakantie kan worden! \nDe wandeling door en de stilte van de tuin hebben een kalmerend effect. Deze speurtocht is daarom voor jou en/of je kind een ideale afwisseling met het carnavalsfeest. Even een rustmoment in het feestgedruis. Carnaval heeft een traditie van harde muziek en veel mensen dicht op elkaar. Dit kan een mooi pauze moment zijn in de vele prikkels die afkomen op jou en je kind. \nKom samen speuren naar carnavaleske figuurtjes en leer de tuin in de winter kennen.
URL:https://udenhout-centraal.nl/evenement/carnaval-speurtocht-18/
LOCATION:Sprankenhof\, Schoorstraat 26 – A\, Udenhout\, 5071 RA\, Nederland
CATEGORIES:Evenementen
END:VEVENT
BEGIN:VEVENT
DTSTART;TZID=Europe/Amsterdam:20250304T130000
DTEND;TZID=Europe/Amsterdam:20250304T173000
DTSTAMP:20260421T230216
CREATED:20241214T142222Z
LAST-MODIFIED:20241214T142222Z
UID:56063-1741093200-1741109400@udenhout-centraal.nl
SUMMARY:Jeu de boules Carnevalsmix leden VOP
DESCRIPTION:Een toernooi over 3 speelrondes waar alleen leden zich voor kunnen inschrijven.\nAanmelden in de kantine tussen 13.00 uur en 13.30 uur.\nPrijzen in de vorm van levensmiddelenpakketten.
URL:https://udenhout-centraal.nl/evenement/jeu-de-boules-carnevalsmix-leden-vop/
LOCATION:Petanquevereniging VOP\, Sportpark Zeshoeven\, Sportlaan 15e\, Udenhout
CATEGORIES:Evenementen
ORGANIZER;CN="Petanque vereniging Voor Ons Plezier":MAILTO:hans_verhagen@wxs.nl
END:VEVENT
BEGIN:VEVENT
DTSTART;TZID=Europe/Amsterdam:20250304T140000
DTEND;TZID=Europe/Amsterdam:20250304T170000
DTSTAMP:20260421T230216
CREATED:20250214T141812Z
LAST-MODIFIED:20250214T142053Z
UID:56642-1741096800-1741107600@udenhout-centraal.nl
SUMMARY:Haoskesbal 2025
DESCRIPTION:Jeugdcarnaval D’n Haozenpot.
URL:https://udenhout-centraal.nl/evenement/haoskesbal-2025/
LOCATION:’t Plein\, Tongerloplein 1\, Udenhout
CATEGORIES:Evenementen
END:VEVENT
BEGIN:VEVENT
DTSTART;TZID=Europe/Amsterdam:20250304T193000
DTEND;TZID=Europe/Amsterdam:20250304T213000
DTSTAMP:20260421T230216
CREATED:20250214T145054Z
LAST-MODIFIED:20250223T193420Z
UID:56747-1741116600-1741123800@udenhout-centraal.nl
SUMMARY:Lichtjesoptocht d'n Haozenpot
DESCRIPTION:’s Avonds genieten van vele mooi verlichte carnavalswagens en natuurlijk loopgroepen tijdens de enige echte Lichtjesoptocht!
URL:https://udenhout-centraal.nl/evenement/lichtjesoptocht-dn-haozenpot/
LOCATION:Kreitenmolenstraat – Slimstraat – van Heeswijkstraat
CATEGORIES:Evenementen
END:VEVENT
END:VCALENDAR