BEGIN:VCALENDAR
VERSION:2.0
PRODID:-//Udenhout-Centraal - ECPv6.15.20//NONSGML v1.0//EN
CALSCALE:GREGORIAN
METHOD:PUBLISH
X-WR-CALNAME:Udenhout-Centraal
X-ORIGINAL-URL:https://udenhout-centraal.nl
X-WR-CALDESC:Evenementen voor Udenhout-Centraal
REFRESH-INTERVAL;VALUE=DURATION:PT1H
X-Robots-Tag:noindex
X-PUBLISHED-TTL:PT1H
BEGIN:VTIMEZONE
TZID:Europe/Amsterdam
BEGIN:DAYLIGHT
TZOFFSETFROM:+0100
TZOFFSETTO:+0200
TZNAME:CEST
DTSTART:20240331T010000
END:DAYLIGHT
BEGIN:STANDARD
TZOFFSETFROM:+0200
TZOFFSETTO:+0100
TZNAME:CET
DTSTART:20241027T010000
END:STANDARD
BEGIN:DAYLIGHT
TZOFFSETFROM:+0100
TZOFFSETTO:+0200
TZNAME:CEST
DTSTART:20250330T010000
END:DAYLIGHT
BEGIN:STANDARD
TZOFFSETFROM:+0200
TZOFFSETTO:+0100
TZNAME:CET
DTSTART:20251026T010000
END:STANDARD
BEGIN:DAYLIGHT
TZOFFSETFROM:+0100
TZOFFSETTO:+0200
TZNAME:CEST
DTSTART:20260329T010000
END:DAYLIGHT
BEGIN:STANDARD
TZOFFSETFROM:+0200
TZOFFSETTO:+0100
TZNAME:CET
DTSTART:20261025T010000
END:STANDARD
END:VTIMEZONE
BEGIN:VEVENT
DTSTART;TZID=Europe/Amsterdam:20250308T100000
DTEND;TZID=Europe/Amsterdam:20250308T130000
DTSTAMP:20260421T230218
CREATED:20250214T141926Z
LAST-MODIFIED:20250214T141926Z
UID:56647-1741428000-1741438800@udenhout-centraal.nl
SUMMARY:Repaircafé
DESCRIPTION:Repareren kapotte spullen.
URL:https://udenhout-centraal.nl/evenement/repaircafe-20/
LOCATION:Basisschool De Wichelroede (Ingang Kloosterpad t.o. Kerkhof)
CATEGORIES:Evenementen
ORGANIZER;CN="Repaircaf%C3%A9 Udenhout":MAILTO:repaircafe@seniorenub.nl
END:VEVENT
BEGIN:VEVENT
DTSTART;TZID=Europe/Amsterdam:20250308T110000
DTEND;TZID=Europe/Amsterdam:20250308T160000
DTSTAMP:20260421T230218
CREATED:20250214T143235Z
LAST-MODIFIED:20250214T143235Z
UID:56730-1741431600-1741449600@udenhout-centraal.nl
SUMMARY:Carnaval speurtocht
DESCRIPTION:Tijdens de carnaval vakantie even lekker actief in de frisse buitenlucht. Speur naar gekke figuurtjes. Vind de oplossing. En ervaar hoe de eenvoud van een speurtocht door de tuin de leukste dag van de vakantie kan worden! \nDe wandeling door en de stilte van de tuin hebben een kalmerend effect. Deze speurtocht is daarom voor jou en/of je kind een ideale afwisseling met het carnavalsfeest. Even een rustmoment in het feestgedruis. Carnaval heeft een traditie van harde muziek en veel mensen dicht op elkaar. Dit kan een mooi pauze moment zijn in de vele prikkels die afkomen op jou en je kind. \nKom samen speuren naar carnavaleske figuurtjes en leer de tuin in de winter kennen.
URL:https://udenhout-centraal.nl/evenement/carnaval-speurtocht-22/
LOCATION:Sprankenhof\, Schoorstraat 26 – A\, Udenhout\, 5071 RA\, Nederland
CATEGORIES:Evenementen
END:VEVENT
BEGIN:VEVENT
DTSTART;TZID=Europe/Amsterdam:20250308T133000
DTEND;TZID=Europe/Amsterdam:20250308T163000
DTSTAMP:20260421T230218
CREATED:20250214T142509Z
LAST-MODIFIED:20250214T142509Z
UID:56664-1741440600-1741451400@udenhout-centraal.nl
SUMMARY:Erfgoedcentrum 't Schoor geopend
DESCRIPTION:Stap in het verleden van Udenhout en Biezenmortel\, ook voor boekverkoop en voor vragen over de historie is ’t Schoor elke donderdag en de tweede zaterdagmiddag van de maand open.
URL:https://udenhout-centraal.nl/evenement/erfgoedcentrum-t-schoor-geopend-14/
LOCATION:Erfgoedcentrum ’t Schoor\, Schoorstraat 2\, Udenhout\, Nederland
CATEGORIES:Evenementen
ORGANIZER;CN="Erfgoedcentrum 't Schoor":MAILTO:erfgoedcentrumudenhout@gmail.com
END:VEVENT
END:VCALENDAR