BEGIN:VCALENDAR
VERSION:2.0
PRODID:-//Udenhout-Centraal - ECPv6.15.20//NONSGML v1.0//EN
CALSCALE:GREGORIAN
METHOD:PUBLISH
X-ORIGINAL-URL:https://udenhout-centraal.nl
X-WR-CALDESC:Evenementen voor Udenhout-Centraal
REFRESH-INTERVAL;VALUE=DURATION:PT1H
X-Robots-Tag:noindex
X-PUBLISHED-TTL:PT1H
BEGIN:VTIMEZONE
TZID:Europe/Amsterdam
BEGIN:DAYLIGHT
TZOFFSETFROM:+0100
TZOFFSETTO:+0200
TZNAME:CEST
DTSTART:20240331T010000
END:DAYLIGHT
BEGIN:STANDARD
TZOFFSETFROM:+0200
TZOFFSETTO:+0100
TZNAME:CET
DTSTART:20241027T010000
END:STANDARD
BEGIN:DAYLIGHT
TZOFFSETFROM:+0100
TZOFFSETTO:+0200
TZNAME:CEST
DTSTART:20250330T010000
END:DAYLIGHT
BEGIN:STANDARD
TZOFFSETFROM:+0200
TZOFFSETTO:+0100
TZNAME:CET
DTSTART:20251026T010000
END:STANDARD
BEGIN:DAYLIGHT
TZOFFSETFROM:+0100
TZOFFSETTO:+0200
TZNAME:CEST
DTSTART:20260329T010000
END:DAYLIGHT
BEGIN:STANDARD
TZOFFSETFROM:+0200
TZOFFSETTO:+0100
TZNAME:CET
DTSTART:20261025T010000
END:STANDARD
END:VTIMEZONE
BEGIN:VEVENT
DTSTART;TZID=Europe/Amsterdam:20250314T130000
DTEND;TZID=Europe/Amsterdam:20250314T150000
DTSTAMP:20260421T230339
CREATED:20250219T185745Z
LAST-MODIFIED:20250219T185745Z
UID:56761-1741957200-1741964400@udenhout-centraal.nl
SUMMARY:Energieloket
DESCRIPTION:Voor al je vragen over energie besparen en opwekken.
URL:https://udenhout-centraal.nl/evenement/energieloket-14/
LOCATION:de Bibliotheek Udenhout\, Tongerloplein 15\, Udenhout\, 5071 CX
CATEGORIES:Evenementen
END:VEVENT
BEGIN:VEVENT
DTSTART;TZID=Europe/Amsterdam:20250314T200000
DTEND;TZID=Europe/Amsterdam:20250314T230000
DTSTAMP:20260421T230339
CREATED:20250115T182213Z
LAST-MODIFIED:20250115T182213Z
UID:56308-1741982400-1741993200@udenhout-centraal.nl
SUMMARY:Theatergroep Udenhout speelt de klucht CASANOVA
DESCRIPTION:Een dolkomische klucht in 2 bedrijven.
URL:https://udenhout-centraal.nl/evenement/theatergroep-udenhout-speelt-de-klucht-casanova/
LOCATION:’t Plein\, Tongerloplein 1\, Udenhout
CATEGORIES:Evenementen
END:VEVENT
END:VCALENDAR