BEGIN:VCALENDAR
VERSION:2.0
PRODID:-//Udenhout-Centraal - ECPv6.15.20//NONSGML v1.0//EN
CALSCALE:GREGORIAN
METHOD:PUBLISH
X-ORIGINAL-URL:https://udenhout-centraal.nl
X-WR-CALDESC:Evenementen voor Udenhout-Centraal
REFRESH-INTERVAL;VALUE=DURATION:PT1H
X-Robots-Tag:noindex
X-PUBLISHED-TTL:PT1H
BEGIN:VTIMEZONE
TZID:Europe/Amsterdam
BEGIN:DAYLIGHT
TZOFFSETFROM:+0100
TZOFFSETTO:+0200
TZNAME:CEST
DTSTART:20240331T010000
END:DAYLIGHT
BEGIN:STANDARD
TZOFFSETFROM:+0200
TZOFFSETTO:+0100
TZNAME:CET
DTSTART:20241027T010000
END:STANDARD
BEGIN:DAYLIGHT
TZOFFSETFROM:+0100
TZOFFSETTO:+0200
TZNAME:CEST
DTSTART:20250330T010000
END:DAYLIGHT
BEGIN:STANDARD
TZOFFSETFROM:+0200
TZOFFSETTO:+0100
TZNAME:CET
DTSTART:20251026T010000
END:STANDARD
BEGIN:DAYLIGHT
TZOFFSETFROM:+0100
TZOFFSETTO:+0200
TZNAME:CEST
DTSTART:20260329T010000
END:DAYLIGHT
BEGIN:STANDARD
TZOFFSETFROM:+0200
TZOFFSETTO:+0100
TZNAME:CET
DTSTART:20261025T010000
END:STANDARD
END:VTIMEZONE
BEGIN:VEVENT
DTSTART;TZID=Europe/Amsterdam:20250315T103000
DTEND;TZID=Europe/Amsterdam:20250315T113000
DTSTAMP:20260421T230338
CREATED:20241219T100204Z
LAST-MODIFIED:20241219T100838Z
UID:56124-1742034600-1742038200@udenhout-centraal.nl
SUMMARY:Workshop Voorlezen voor ouders in de Bibliotheek Udenhout
DESCRIPTION:Voorlezen is belangrijk\, dat is de boodschap die we steeds vaker voorbij horen komen. Maar hoe kun je van het voorleesmomentje net wat meer maken dan enkel een tekst voorlezen?\nMet interactief voorlezen ga je met een boek echt in gesprek met je kind. Hoe je dat doet\, bespreken we in deze workshop. Enkele vragen die voorbij komen zijn: hoe betrek je jouw kind actief bij het boek en hoe draagt het boek bij aan de ontwikkeling?\nDe workshops zijn op zaterdag 15 maart\, 13 september en 15 november van 10.30 tot 11.30 uur.\nVind je het\, als ouder/opvoeder/verzorger\, leuk om een keertje aan te sluiten?\nMeld je dan aan via www.bibliotheekmb.nl
URL:https://udenhout-centraal.nl/evenement/workshop-voorlezen-voor-ouders-in-de-bibliotheek-udenhout-2/
LOCATION:Bibliotheek Udenhout\, Tongerloplein 15\, Udenhout\, 5071 CX
CATEGORIES:Evenementen
END:VEVENT
BEGIN:VEVENT
DTSTART;TZID=Europe/Amsterdam:20250315T130000
DTEND;TZID=Europe/Amsterdam:20250315T173000
DTSTAMP:20260421T230338
CREATED:20241214T135335Z
LAST-MODIFIED:20241214T135335Z
UID:56040-1742043600-1742059800@udenhout-centraal.nl
SUMMARY:Jeu de Boules Mini-Mix
DESCRIPTION:Een toernooi over 3 speelrondes waar iedereen zich ter plaatse voor kan inschrijven.\nU hoeft geen lid te zijn van een vereniging.\nAanmelden in de kantine tussen 13.00 uur en 13.30 uur.\nPrijzen in de vorm van levensmiddelenpakketten.
URL:https://udenhout-centraal.nl/evenement/jeu-de-boules-mini-mix-7/
LOCATION:Petanquevereniging VOP\, Sportpark Zeshoeven\, Sportlaan 15e\, Udenhout
CATEGORIES:Evenementen
ORGANIZER;CN="Petanque vereniging Voor Ons Plezier":MAILTO:hans_verhagen@wxs.nl
END:VEVENT
BEGIN:VEVENT
DTSTART;TZID=Europe/Amsterdam:20250315T200000
DTEND;TZID=Europe/Amsterdam:20250315T230000
DTSTAMP:20260421T230338
CREATED:20240615T110258Z
LAST-MODIFIED:20250115T182601Z
UID:54559-1742068800-1742079600@udenhout-centraal.nl
SUMMARY:Theatergroep Udenhout speelt de klucht CASANOVA
DESCRIPTION:Een dolkomische klucht in 2 bedrijven.
URL:https://udenhout-centraal.nl/evenement/theatervoorstelling-2/
LOCATION:Ontmoetingscentrum ’t Plein\, Tongerloplein 1\, Udenhout\, 5071 CX
CATEGORIES:Evenementen
END:VEVENT
END:VCALENDAR