BEGIN:VCALENDAR
VERSION:2.0
PRODID:-//Udenhout-Centraal - ECPv6.15.20//NONSGML v1.0//EN
CALSCALE:GREGORIAN
METHOD:PUBLISH
X-WR-CALNAME:Udenhout-Centraal
X-ORIGINAL-URL:https://udenhout-centraal.nl
X-WR-CALDESC:Evenementen voor Udenhout-Centraal
REFRESH-INTERVAL;VALUE=DURATION:PT1H
X-Robots-Tag:noindex
X-PUBLISHED-TTL:PT1H
BEGIN:VTIMEZONE
TZID:Europe/Amsterdam
BEGIN:DAYLIGHT
TZOFFSETFROM:+0100
TZOFFSETTO:+0200
TZNAME:CEST
DTSTART:20240331T010000
END:DAYLIGHT
BEGIN:STANDARD
TZOFFSETFROM:+0200
TZOFFSETTO:+0100
TZNAME:CET
DTSTART:20241027T010000
END:STANDARD
BEGIN:DAYLIGHT
TZOFFSETFROM:+0100
TZOFFSETTO:+0200
TZNAME:CEST
DTSTART:20250330T010000
END:DAYLIGHT
BEGIN:STANDARD
TZOFFSETFROM:+0200
TZOFFSETTO:+0100
TZNAME:CET
DTSTART:20251026T010000
END:STANDARD
BEGIN:DAYLIGHT
TZOFFSETFROM:+0100
TZOFFSETTO:+0200
TZNAME:CEST
DTSTART:20260329T010000
END:DAYLIGHT
BEGIN:STANDARD
TZOFFSETFROM:+0200
TZOFFSETTO:+0100
TZNAME:CET
DTSTART:20261025T010000
END:STANDARD
END:VTIMEZONE
BEGIN:VEVENT
DTSTART;TZID=Europe/Amsterdam:20250317T140000
DTEND;TZID=Europe/Amsterdam:20250317T160000
DTSTAMP:20260421T230218
CREATED:20250206T102112Z
LAST-MODIFIED:20250206T102112Z
UID:56520-1742220000-1742227200@udenhout-centraal.nl
SUMMARY:Geheugenspreekuur door dementieconsulent in de Bibliotheek Udenhout
DESCRIPTION:Het is heel normaal om zo nu en dan iets te vergeten. Dat doen we allemaal. Vergeetachtigheid kan echter ook een teken zijn van (beginnende) dementie. Of het gevolg van een andere hersenaandoening. Vergeetachtigheid brengt hierdoor vaak onzekerheid of angst met zich mee. Vooral als je wat ouder wordt. Heb je vragen over vergeetachtigheid\, (beginnende) dementie of zaken die hiermee te maken hebben? Dan ben je welkom bij het geheugenspreekuur of inloopspreekuur dementieconsulenten. \nDementie\nHet leven met dementie is ingewikkeld en stelt jou en jouw mantelzorger voor nieuwe uitdagingen. Wanneer je leven of dat van jou als mantelzorger wordt beïnvloed door dementie en geheugenverlies\, kan het fijn zijn om te spreken met een dementieconsulent. Een dementieconsulent kan je verhaal aanhoren\, stelt vragen en begrijpt hoe het is om met dementie te leven of als mantelzorger om te gaan met dementie. \nDementieconsulent en dementheek\nDe dementieconsulent(en) biedt een luisterend oor. Verder kun je hier terecht met allerlei vragen over vergeetachtigheid en dementie en kan men je verwijzen naar de juiste ondersteuning. Om te ervaren hoe het is om beginnende dementie te hebben\, kan de VR bril ingezet worden. \nDe Bibliotheek Midden-Brabant heeft ook een mooie collectie boeken en spellen in de aanwezige dementheken.
URL:https://udenhout-centraal.nl/evenement/geheugenspreekuur-door-dementieconsulent-in-de-bibliotheek-udenhout/
LOCATION:de Bibliotheek Udenhout\, Tongerloplein 15\, Udenhout\, 5071 CX
CATEGORIES:Evenementen
END:VEVENT
END:VCALENDAR