BEGIN:VCALENDAR
VERSION:2.0
PRODID:-//Udenhout-Centraal - ECPv6.15.20//NONSGML v1.0//EN
CALSCALE:GREGORIAN
METHOD:PUBLISH
X-WR-CALNAME:Udenhout-Centraal
X-ORIGINAL-URL:https://udenhout-centraal.nl
X-WR-CALDESC:Evenementen voor Udenhout-Centraal
REFRESH-INTERVAL;VALUE=DURATION:PT1H
X-Robots-Tag:noindex
X-PUBLISHED-TTL:PT1H
BEGIN:VTIMEZONE
TZID:Europe/Amsterdam
BEGIN:DAYLIGHT
TZOFFSETFROM:+0100
TZOFFSETTO:+0200
TZNAME:CEST
DTSTART:20240331T010000
END:DAYLIGHT
BEGIN:STANDARD
TZOFFSETFROM:+0200
TZOFFSETTO:+0100
TZNAME:CET
DTSTART:20241027T010000
END:STANDARD
BEGIN:DAYLIGHT
TZOFFSETFROM:+0100
TZOFFSETTO:+0200
TZNAME:CEST
DTSTART:20250330T010000
END:DAYLIGHT
BEGIN:STANDARD
TZOFFSETFROM:+0200
TZOFFSETTO:+0100
TZNAME:CET
DTSTART:20251026T010000
END:STANDARD
BEGIN:DAYLIGHT
TZOFFSETFROM:+0100
TZOFFSETTO:+0200
TZNAME:CEST
DTSTART:20260329T010000
END:DAYLIGHT
BEGIN:STANDARD
TZOFFSETFROM:+0200
TZOFFSETTO:+0100
TZNAME:CET
DTSTART:20261025T010000
END:STANDARD
END:VTIMEZONE
BEGIN:VEVENT
DTSTART;TZID=Europe/Amsterdam:20250318T130000
DTEND;TZID=Europe/Amsterdam:20250318T150000
DTSTAMP:20260421T230216
CREATED:20250219T185757Z
LAST-MODIFIED:20250219T185757Z
UID:56764-1742302800-1742310000@udenhout-centraal.nl
SUMMARY:Energieloket
DESCRIPTION:Voor al je vragen over energie besparen en opwekken.
URL:https://udenhout-centraal.nl/evenement/energieloket-15/
LOCATION:de Bibliotheek Udenhout\, Tongerloplein 15\, Udenhout\, 5071 CX
CATEGORIES:Evenementen
END:VEVENT
BEGIN:VEVENT
DTSTART;TZID=Europe/Amsterdam:20250318T130000
DTEND;TZID=Europe/Amsterdam:20250318T150000
DTSTAMP:20260421T230216
CREATED:20250315T082529Z
LAST-MODIFIED:20250315T082900Z
UID:56883-1742302800-1742310000@udenhout-centraal.nl
SUMMARY:Inloopspreekuur Stichting Leergeld in de Bibliotheek Udenhout
DESCRIPTION:Stichting Leergeld Tilburg is een stichting die kinderen helpt uit gezinnen met geldzorgen in Tilburg\, Berkel Enschot\, Udenhout en Biezenmortel. Wij helpen bijvoorbeeld met\nschoolspullen\, een laptop\, een fiets (vanaf 12 jaar)\, sport\, cultuur of zwemles.\nDit kunnen wij doen met behulp van subsidie van de gemeente Tilburg en donaties en giften.\nOuders kunnen zo het beste aan hun kind geven\, zodat elk kind kan meedoen en geen enkel kind aan de kant hoeft te blijven staan.\nJe kunt bij ons een aanvraag indienen via onze website of bij een van de vele inloopspreekuren die wij organiseren.\nDe Stichting Leergeld Tilburg is één keer per maand aanwezig in Udenhout van 13.00 tot 15.00 uur. De data kunt u vinden op onze website:\nhttps://www.leergeldtilburg.nl/inloopspreekuren-op-locatie
URL:https://udenhout-centraal.nl/evenement/inloopspreekuur-stichting-leergeld-in-de-bibliotheek-udenhout-2/
LOCATION:de Bibliotheek Udenhout\, Tongerloplein 15\, Udenhout\, 5071 CX
CATEGORIES:Evenementen
END:VEVENT
BEGIN:VEVENT
DTSTART;TZID=Europe/Amsterdam:20250318T133000
DTEND;TZID=Europe/Amsterdam:20250318T150000
DTSTAMP:20260421T230216
CREATED:20250206T104201Z
LAST-MODIFIED:20250206T104201Z
UID:56581-1742304600-1742310000@udenhout-centraal.nl
SUMMARY:ONT-moeten voor mantelzorgers
DESCRIPTION:Wat is ONT-moeten voor Mantelzorgers?\nDeze mantelzorg inloop biedt een informele\, toegankelijke plek voor mantelzorgers om even tijd voor zichzelf te nemen en in contact te komen met anderen die in dezelfde situatie zitten. Of je nu zorgt voor een partner\, ouder\, vriend of andere naaste\, het kan fijn zijn om met iemand te praten die begrijpt wat je doormaakt. \nTijdens deze inloop MOET je niks maar kun je: ervaringen delen\, informatie verkrijgen\, en even ontspanning vinden. \nGratis toegang\, consumpties voor eigen rekening.
URL:https://udenhout-centraal.nl/evenement/ont-moeten-voor-mantelzorgers-10/
LOCATION:’t Plein\, Tongerloplein 1\, Udenhout
CATEGORIES:Evenementen
END:VEVENT
END:VCALENDAR