BEGIN:VCALENDAR
VERSION:2.0
PRODID:-//Udenhout-Centraal - ECPv6.15.20//NONSGML v1.0//EN
CALSCALE:GREGORIAN
METHOD:PUBLISH
X-ORIGINAL-URL:https://udenhout-centraal.nl
X-WR-CALDESC:Evenementen voor Udenhout-Centraal
REFRESH-INTERVAL;VALUE=DURATION:PT1H
X-Robots-Tag:noindex
X-PUBLISHED-TTL:PT1H
BEGIN:VTIMEZONE
TZID:Europe/Amsterdam
BEGIN:DAYLIGHT
TZOFFSETFROM:+0100
TZOFFSETTO:+0200
TZNAME:CEST
DTSTART:20240331T010000
END:DAYLIGHT
BEGIN:STANDARD
TZOFFSETFROM:+0200
TZOFFSETTO:+0100
TZNAME:CET
DTSTART:20241027T010000
END:STANDARD
BEGIN:DAYLIGHT
TZOFFSETFROM:+0100
TZOFFSETTO:+0200
TZNAME:CEST
DTSTART:20250330T010000
END:DAYLIGHT
BEGIN:STANDARD
TZOFFSETFROM:+0200
TZOFFSETTO:+0100
TZNAME:CET
DTSTART:20251026T010000
END:STANDARD
BEGIN:DAYLIGHT
TZOFFSETFROM:+0100
TZOFFSETTO:+0200
TZNAME:CEST
DTSTART:20260329T010000
END:DAYLIGHT
BEGIN:STANDARD
TZOFFSETFROM:+0200
TZOFFSETTO:+0100
TZNAME:CET
DTSTART:20261025T010000
END:STANDARD
END:VTIMEZONE
BEGIN:VEVENT
DTSTART;TZID=Europe/Amsterdam:20250319T140000
DTEND;TZID=Europe/Amsterdam:20250319T160000
DTSTAMP:20260421T230339
CREATED:20250115T182903Z
LAST-MODIFIED:20250115T182903Z
UID:56327-1742392800-1742400000@udenhout-centraal.nl
SUMMARY:Handwerkcafé (vooraf aanmelden)
DESCRIPTION:Graag vooraf aanmelden via info@dewolbeer.nl of 06-20703255\nBreng je eigen haak- of breiwerk mee. \nKosten zijn incl. een kopje koffie of thee.
URL:https://udenhout-centraal.nl/evenement/handwerkcafe-vooraf-aanmelden-16/
LOCATION:De Peppel ingang Tuinstraat\, Tuinstraat 69\, Udenhout
CATEGORIES:Evenementen
END:VEVENT
BEGIN:VEVENT
DTSTART;TZID=Europe/Amsterdam:20250319T153000
DTEND;TZID=Europe/Amsterdam:20250319T173000
DTSTAMP:20260421T230339
CREATED:20250219T185716Z
LAST-MODIFIED:20250219T185716Z
UID:56756-1742398200-1742405400@udenhout-centraal.nl
SUMMARY:Energieloket
DESCRIPTION:Voor al je vragen over energie besparen en opwekken.
URL:https://udenhout-centraal.nl/evenement/energieloket-13/
LOCATION:de Bibliotheek Udenhout\, Tongerloplein 15\, Udenhout\, 5071 CX
CATEGORIES:Evenementen
END:VEVENT
END:VCALENDAR