BEGIN:VCALENDAR
VERSION:2.0
PRODID:-//Udenhout-Centraal - ECPv6.15.20//NONSGML v1.0//EN
CALSCALE:GREGORIAN
METHOD:PUBLISH
X-WR-CALNAME:Udenhout-Centraal
X-ORIGINAL-URL:https://udenhout-centraal.nl
X-WR-CALDESC:Evenementen voor Udenhout-Centraal
REFRESH-INTERVAL;VALUE=DURATION:PT1H
X-Robots-Tag:noindex
X-PUBLISHED-TTL:PT1H
BEGIN:VTIMEZONE
TZID:Europe/Amsterdam
BEGIN:DAYLIGHT
TZOFFSETFROM:+0100
TZOFFSETTO:+0200
TZNAME:CEST
DTSTART:20240331T010000
END:DAYLIGHT
BEGIN:STANDARD
TZOFFSETFROM:+0200
TZOFFSETTO:+0100
TZNAME:CET
DTSTART:20241027T010000
END:STANDARD
BEGIN:DAYLIGHT
TZOFFSETFROM:+0100
TZOFFSETTO:+0200
TZNAME:CEST
DTSTART:20250330T010000
END:DAYLIGHT
BEGIN:STANDARD
TZOFFSETFROM:+0200
TZOFFSETTO:+0100
TZNAME:CET
DTSTART:20251026T010000
END:STANDARD
BEGIN:DAYLIGHT
TZOFFSETFROM:+0100
TZOFFSETTO:+0200
TZNAME:CEST
DTSTART:20260329T010000
END:DAYLIGHT
BEGIN:STANDARD
TZOFFSETFROM:+0200
TZOFFSETTO:+0100
TZNAME:CET
DTSTART:20261025T010000
END:STANDARD
END:VTIMEZONE
BEGIN:VEVENT
DTSTART;TZID=Europe/Amsterdam:20250322T203000
DTEND;TZID=Europe/Amsterdam:20250322T230000
DTSTAMP:20260421T230218
CREATED:20240811T150038Z
LAST-MODIFIED:20240811T150038Z
UID:54843-1742675400-1742684400@udenhout-centraal.nl
SUMMARY:Revue met Arijan van Bavel en Esmee van Oostende
DESCRIPTION:Oh buurman\, wat doet u nu? Revue! belicht op komische wijze de ups en downs van het naast elkaar wonen.\nZo is Arijan nooit jaloers op de 1.1 miljoen TikTok-volgers van Esmee. En Esmee heeft er nooit problemen mee dat Arijan weleens naakt door de tuin loopt. \nKaarten en info
URL:https://udenhout-centraal.nl/evenement/revue-met-arijan-van-bavel-en-esmee-van-oostende/
LOCATION:Ontmoetingscentrum ’t Plein\, Tongerloplein 1\, Udenhout\, 5071 CX
CATEGORIES:Evenementen
END:VEVENT
END:VCALENDAR