BEGIN:VCALENDAR
VERSION:2.0
PRODID:-//Udenhout-Centraal - ECPv6.15.20//NONSGML v1.0//EN
CALSCALE:GREGORIAN
METHOD:PUBLISH
X-ORIGINAL-URL:https://udenhout-centraal.nl
X-WR-CALDESC:Evenementen voor Udenhout-Centraal
REFRESH-INTERVAL;VALUE=DURATION:PT1H
X-Robots-Tag:noindex
X-PUBLISHED-TTL:PT1H
BEGIN:VTIMEZONE
TZID:Europe/Amsterdam
BEGIN:DAYLIGHT
TZOFFSETFROM:+0100
TZOFFSETTO:+0200
TZNAME:CEST
DTSTART:20240331T010000
END:DAYLIGHT
BEGIN:STANDARD
TZOFFSETFROM:+0200
TZOFFSETTO:+0100
TZNAME:CET
DTSTART:20241027T010000
END:STANDARD
BEGIN:DAYLIGHT
TZOFFSETFROM:+0100
TZOFFSETTO:+0200
TZNAME:CEST
DTSTART:20250330T010000
END:DAYLIGHT
BEGIN:STANDARD
TZOFFSETFROM:+0200
TZOFFSETTO:+0100
TZNAME:CET
DTSTART:20251026T010000
END:STANDARD
BEGIN:DAYLIGHT
TZOFFSETFROM:+0100
TZOFFSETTO:+0200
TZNAME:CEST
DTSTART:20260329T010000
END:DAYLIGHT
BEGIN:STANDARD
TZOFFSETFROM:+0200
TZOFFSETTO:+0100
TZNAME:CET
DTSTART:20261025T010000
END:STANDARD
END:VTIMEZONE
BEGIN:VEVENT
DTSTART;TZID=Europe/Amsterdam:20250328T100000
DTEND;TZID=Europe/Amsterdam:20250328T170000
DTSTAMP:20260421T230302
CREATED:20250315T083304Z
LAST-MODIFIED:20250315T083304Z
UID:56902-1743156000-1743181200@udenhout-centraal.nl
SUMMARY:Foto tentoonstelling “Trots op onze Gilden”
DESCRIPTION:In de St.Lambertus kerk zal van 28 Maart t/m 11 April een fototentoonstelling zijn bestaande uit 15 grote foto’s op een schildersezel waarop gilde families staan afgebeeld van gilde uit Brabant.\nGratis te bezoeken tijdens openingstijden.
URL:https://udenhout-centraal.nl/evenement/foto-tentoonstelling-trots-op-onze-gilden/
LOCATION:St. Lambertuskerk\, Slimstraat 7\, Udenhout\, Nederland
CATEGORIES:Evenementen
END:VEVENT
BEGIN:VEVENT
DTSTART;TZID=Europe/Amsterdam:20250328T100000
DTEND;TZID=Europe/Amsterdam:20250328T170000
DTSTAMP:20260421T230302
CREATED:20250315T133327Z
LAST-MODIFIED:20250315T133327Z
UID:56910-1743156000-1743181200@udenhout-centraal.nl
SUMMARY:Foto tentoonstelling “Trots op onze Gilden”
DESCRIPTION:In de St. Lambertus kerk zal van 28 maart t/m 11 april een fototentoonstelling zijn bestaande uit 15 grote foto’s op een schildersezel waarop gilde families staan afgebeeld van gilde uit Brabant.\nGratis te bezoeken tijdens openingstijden.
URL:https://udenhout-centraal.nl/evenement/foto-tentoonstelling-trots-op-onze-gilden-2/
LOCATION:St. Lambertuskerk\, Slimstraat 7\, Udenhout\, Nederland
CATEGORIES:Evenementen
END:VEVENT
BEGIN:VEVENT
DTSTART;TZID=Europe/Amsterdam:20250328T130000
DTEND;TZID=Europe/Amsterdam:20250328T150000
DTSTAMP:20260421T230302
CREATED:20250219T185812Z
LAST-MODIFIED:20250219T185812Z
UID:56767-1743166800-1743174000@udenhout-centraal.nl
SUMMARY:Energieloket
DESCRIPTION:Voor al je vragen over energie besparen en opwekken.
URL:https://udenhout-centraal.nl/evenement/energieloket-16/
LOCATION:de Bibliotheek Udenhout\, Tongerloplein 15\, Udenhout\, 5071 CX
CATEGORIES:Evenementen
END:VEVENT
END:VCALENDAR