BEGIN:VCALENDAR
VERSION:2.0
PRODID:-//Udenhout-Centraal - ECPv6.15.20//NONSGML v1.0//EN
CALSCALE:GREGORIAN
METHOD:PUBLISH
X-WR-CALNAME:Udenhout-Centraal
X-ORIGINAL-URL:https://udenhout-centraal.nl
X-WR-CALDESC:Evenementen voor Udenhout-Centraal
REFRESH-INTERVAL;VALUE=DURATION:PT1H
X-Robots-Tag:noindex
X-PUBLISHED-TTL:PT1H
BEGIN:VTIMEZONE
TZID:Europe/Amsterdam
BEGIN:DAYLIGHT
TZOFFSETFROM:+0100
TZOFFSETTO:+0200
TZNAME:CEST
DTSTART:20240331T010000
END:DAYLIGHT
BEGIN:STANDARD
TZOFFSETFROM:+0200
TZOFFSETTO:+0100
TZNAME:CET
DTSTART:20241027T010000
END:STANDARD
BEGIN:DAYLIGHT
TZOFFSETFROM:+0100
TZOFFSETTO:+0200
TZNAME:CEST
DTSTART:20250330T010000
END:DAYLIGHT
BEGIN:STANDARD
TZOFFSETFROM:+0200
TZOFFSETTO:+0100
TZNAME:CET
DTSTART:20251026T010000
END:STANDARD
BEGIN:DAYLIGHT
TZOFFSETFROM:+0100
TZOFFSETTO:+0200
TZNAME:CEST
DTSTART:20260329T010000
END:DAYLIGHT
BEGIN:STANDARD
TZOFFSETFROM:+0200
TZOFFSETTO:+0100
TZNAME:CET
DTSTART:20261025T010000
END:STANDARD
END:VTIMEZONE
BEGIN:VEVENT
DTSTART;TZID=Europe/Amsterdam:20250419T100000
DTEND;TZID=Europe/Amsterdam:20250419T130000
DTSTAMP:20260421T214132
CREATED:20250410T105139Z
LAST-MODIFIED:20250410T105139Z
UID:57053-1745056800-1745067600@udenhout-centraal.nl
SUMMARY:Beleef Brabants Duingoed met Pasen
DESCRIPTION:Ontdek met de auto het prachtige landschap van ons Duingoed gebied. En geniet van onze (h)eerlijke Brabants Duingoed gerechtjes gemaakt van verse streekproducten.\nStart tussen 10.00-13.00 uur\nEindtijd: 17.00 uur
URL:https://udenhout-centraal.nl/evenement/beleef-brabants-duingoed-met-pasen/
CATEGORIES:Evenementen
END:VEVENT
BEGIN:VEVENT
DTSTART;TZID=Europe/Amsterdam:20250419T100000
DTEND;TZID=Europe/Amsterdam:20250419T150000
DTSTAMP:20260421T214132
CREATED:20250315T083407Z
LAST-MODIFIED:20250315T083407Z
UID:56905-1745056800-1745074800@udenhout-centraal.nl
SUMMARY:Spot de Paashaas
DESCRIPTION:De O.V.U. Paashaas huppelt door Udenhout.
URL:https://udenhout-centraal.nl/evenement/spot-de-paashaas/
LOCATION:Kreitenmolenstraat\, Udenhout
CATEGORIES:Evenementen
ORGANIZER;CN="Ondernemers Vereniging Udenhout":MAILTO:Info@welkominudenhout.nl
END:VEVENT
BEGIN:VEVENT
DTSTART;TZID=Europe/Amsterdam:20250419T120000
DTEND;TZID=Europe/Amsterdam:20250419T160000
DTSTAMP:20260421T214132
CREATED:20250330T184800Z
LAST-MODIFIED:20250330T184800Z
UID:57020-1745064000-1745078400@udenhout-centraal.nl
SUMMARY:Doniqueart cursisten expositie
DESCRIPTION:Gratis toegang
URL:https://udenhout-centraal.nl/evenement/doniqueart-cursisten-expositie/
LOCATION:De Peppel\, Zeshoevenstraat 36\, Udenhout\, 5071 BP
CATEGORIES:Evenementen
END:VEVENT
BEGIN:VEVENT
DTSTART;TZID=Europe/Amsterdam:20250419T130000
DTEND;TZID=Europe/Amsterdam:20250419T173000
DTSTAMP:20260421T214132
CREATED:20241214T143555Z
LAST-MODIFIED:20241214T143555Z
UID:56073-1745067600-1745083800@udenhout-centraal.nl
SUMMARY:Jeu de Boules Mini-Mix
DESCRIPTION:Een toernooi over 3 speelrondes waar iedereen zich ter plaatse voor kan inschrijven.\nU hoeft geen lid te zijn van een vereniging.\nAanmelden in de kantine tussen 13.00 uur en 13.30 uur.\nPrijzen in de vorm van levensmiddelenpakketten.
URL:https://udenhout-centraal.nl/evenement/jeu-de-boules-mini-mix-11/
LOCATION:Petanquevereniging VOP\, Sportpark Zeshoeven\, Sportlaan 15e\, Udenhout
CATEGORIES:Evenementen
ORGANIZER;CN="Petanque vereniging Voor Ons Plezier":MAILTO:hans_verhagen@wxs.nl
END:VEVENT
END:VCALENDAR