BEGIN:VCALENDAR
VERSION:2.0
PRODID:-//Udenhout-Centraal - ECPv6.15.20//NONSGML v1.0//EN
CALSCALE:GREGORIAN
METHOD:PUBLISH
X-ORIGINAL-URL:https://udenhout-centraal.nl
X-WR-CALDESC:Evenementen voor Udenhout-Centraal
REFRESH-INTERVAL;VALUE=DURATION:PT1H
X-Robots-Tag:noindex
X-PUBLISHED-TTL:PT1H
BEGIN:VTIMEZONE
TZID:Europe/Amsterdam
BEGIN:DAYLIGHT
TZOFFSETFROM:+0100
TZOFFSETTO:+0200
TZNAME:CEST
DTSTART:20240331T010000
END:DAYLIGHT
BEGIN:STANDARD
TZOFFSETFROM:+0200
TZOFFSETTO:+0100
TZNAME:CET
DTSTART:20241027T010000
END:STANDARD
BEGIN:DAYLIGHT
TZOFFSETFROM:+0100
TZOFFSETTO:+0200
TZNAME:CEST
DTSTART:20250330T010000
END:DAYLIGHT
BEGIN:STANDARD
TZOFFSETFROM:+0200
TZOFFSETTO:+0100
TZNAME:CET
DTSTART:20251026T010000
END:STANDARD
BEGIN:DAYLIGHT
TZOFFSETFROM:+0100
TZOFFSETTO:+0200
TZNAME:CEST
DTSTART:20260329T010000
END:DAYLIGHT
BEGIN:STANDARD
TZOFFSETFROM:+0200
TZOFFSETTO:+0100
TZNAME:CET
DTSTART:20261025T010000
END:STANDARD
END:VTIMEZONE
BEGIN:VEVENT
DTSTART;TZID=Europe/Amsterdam:20250507T103000
DTEND;TZID=Europe/Amsterdam:20250507T110000
DTSTAMP:20260421T201912
CREATED:20241206T184153Z
LAST-MODIFIED:20241206T184153Z
UID:55926-1746613800-1746615600@udenhout-centraal.nl
SUMMARY:Letterlol! Voorlezen voor peuters en kleuters in de Bibliotheek Udenhout
DESCRIPTION:We gaan lol maken met letters in de bibliotheek Udenhout. We lezen voor uit een mooi of grappig prentenboek.\nMeld je even aan via de website van de bibliotheek: www.bibliotheekmb.nl/udenhout.
URL:https://udenhout-centraal.nl/evenement/letterlol-voorlezen-voor-peuters-en-kleuters-in-de-bibliotheek-udenhout-2/
LOCATION:Bibliotheek Udenhout\, Tongerloplein 15\, Udenhout\, 5071 CX
CATEGORIES:Evenementen
END:VEVENT
BEGIN:VEVENT
DTSTART;TZID=Europe/Amsterdam:20250507T140000
DTEND;TZID=Europe/Amsterdam:20250507T160000
DTSTAMP:20260421T201912
CREATED:20250115T182957Z
LAST-MODIFIED:20250115T182957Z
UID:56336-1746626400-1746633600@udenhout-centraal.nl
SUMMARY:Handwerkcafé (vooraf aanmelden)
DESCRIPTION:Graag vooraf aanmelden via info@dewolbeer.nl of 06-20703255\nBreng je eigen haak- of breiwerk mee. \nKosten zijn incl. een kopje koffie of thee.
URL:https://udenhout-centraal.nl/evenement/handwerkcafe-vooraf-aanmelden-19/
LOCATION:De Peppel ingang Tuinstraat\, Tuinstraat 69\, Udenhout
CATEGORIES:Evenementen
END:VEVENT
BEGIN:VEVENT
DTSTART;TZID=Europe/Amsterdam:20250507T153000
DTEND;TZID=Europe/Amsterdam:20250507T173000
DTSTAMP:20260421T201912
CREATED:20250421T170713Z
LAST-MODIFIED:20250421T170713Z
UID:57146-1746631800-1746639000@udenhout-centraal.nl
SUMMARY:Energieloket
DESCRIPTION:Met al je vragen over energie besparen en opwekken kun je nu terecht bij het energieloket in bibliotheek Udenhout !
URL:https://udenhout-centraal.nl/evenement/energieloket-23/
LOCATION:de Bibliotheek Udenhout\, Tongerloplein 15\, Udenhout\, 5071 CX
CATEGORIES:Evenementen
END:VEVENT
END:VCALENDAR