BEGIN:VCALENDAR
VERSION:2.0
PRODID:-//Udenhout-Centraal - ECPv6.15.20//NONSGML v1.0//EN
CALSCALE:GREGORIAN
METHOD:PUBLISH
X-WR-CALNAME:Udenhout-Centraal
X-ORIGINAL-URL:https://udenhout-centraal.nl
X-WR-CALDESC:Evenementen voor Udenhout-Centraal
REFRESH-INTERVAL;VALUE=DURATION:PT1H
X-Robots-Tag:noindex
X-PUBLISHED-TTL:PT1H
BEGIN:VTIMEZONE
TZID:Europe/Amsterdam
BEGIN:DAYLIGHT
TZOFFSETFROM:+0100
TZOFFSETTO:+0200
TZNAME:CEST
DTSTART:20240331T010000
END:DAYLIGHT
BEGIN:STANDARD
TZOFFSETFROM:+0200
TZOFFSETTO:+0100
TZNAME:CET
DTSTART:20241027T010000
END:STANDARD
BEGIN:DAYLIGHT
TZOFFSETFROM:+0100
TZOFFSETTO:+0200
TZNAME:CEST
DTSTART:20250330T010000
END:DAYLIGHT
BEGIN:STANDARD
TZOFFSETFROM:+0200
TZOFFSETTO:+0100
TZNAME:CET
DTSTART:20251026T010000
END:STANDARD
BEGIN:DAYLIGHT
TZOFFSETFROM:+0100
TZOFFSETTO:+0200
TZNAME:CEST
DTSTART:20260329T010000
END:DAYLIGHT
BEGIN:STANDARD
TZOFFSETFROM:+0200
TZOFFSETTO:+0100
TZNAME:CET
DTSTART:20261025T010000
END:STANDARD
END:VTIMEZONE
BEGIN:VEVENT
DTSTART;TZID=Europe/Amsterdam:20250528T093000
DTEND;TZID=Europe/Amsterdam:20250528T103000
DTSTAMP:20260421T184720
CREATED:20250525T154422Z
LAST-MODIFIED:20250525T154422Z
UID:57354-1748424600-1748428200@udenhout-centraal.nl
SUMMARY:Tilburgse Wandeluitdaging Udenhout
DESCRIPTION:De Nationale Wandeluitdaging is een wandelprogramma van 20 weken\, georganiseerd door de Bas van de Goor Foundation. In samenwerking met het Sportbedrijf Tilburg organiseren zij de Tilburgse Wandeluitdaging\, op maar liefst 11 locaties in de gemeente Tilburg. Zo ook in Udenhout! Elke woensdagochtend gaat wandelbegeleider Mariëlle den Ouden op pad met een groep deelnemers uit de buurt. Er wordt rekening gehouden met ieders tempo\, dus ook als je (nog) niet zo ver of snel kunt lopen ben je van harte welkom. Stapje voor stapje wordt er gewerkt aan de fitheid en conditie. Dit alles gezellig in een groep. Na afloop is er nog gelegenheid om samen een kopje koffie of thee te drinken. \nAanmelden kan via de website www.nationalewandeluitdaging.nl./tilburg\nVoor meer informatie kunt u contact opnemen met Inge Roording van het Sportbedrijf Tilburg\, via inge.roording@tilburg.nl of bel naar 06-41658183\nDeelname is gratis.
URL:https://udenhout-centraal.nl/evenement/tilburgse-wandeluitdaging-udenhout/
LOCATION:TrefpunT\, Tuinstraat 69\, Udenhout\, 5071 CP\, Nederland
CATEGORIES:Evenementen
END:VEVENT
BEGIN:VEVENT
DTSTART;TZID=Europe/Amsterdam:20250528T153000
DTEND;TZID=Europe/Amsterdam:20250528T173000
DTSTAMP:20260421T184720
CREATED:20250421T170800Z
LAST-MODIFIED:20250421T170800Z
UID:57155-1748446200-1748453400@udenhout-centraal.nl
SUMMARY:Energieloket
DESCRIPTION:Met al je vragen over energie besparen en opwekken kun je nu terecht bij het energieloket in bibliotheek Udenhout !
URL:https://udenhout-centraal.nl/evenement/energieloket-26/
LOCATION:de Bibliotheek Udenhout\, Tongerloplein 15\, Udenhout\, 5071 CX
CATEGORIES:Evenementen
END:VEVENT
END:VCALENDAR