BEGIN:VCALENDAR
VERSION:2.0
PRODID:-//Udenhout-Centraal - ECPv6.15.20//NONSGML v1.0//EN
CALSCALE:GREGORIAN
METHOD:PUBLISH
X-WR-CALNAME:Udenhout-Centraal
X-ORIGINAL-URL:https://udenhout-centraal.nl
X-WR-CALDESC:Evenementen voor Udenhout-Centraal
REFRESH-INTERVAL;VALUE=DURATION:PT1H
X-Robots-Tag:noindex
X-PUBLISHED-TTL:PT1H
BEGIN:VTIMEZONE
TZID:Europe/Amsterdam
BEGIN:DAYLIGHT
TZOFFSETFROM:+0100
TZOFFSETTO:+0200
TZNAME:CEST
DTSTART:20240331T010000
END:DAYLIGHT
BEGIN:STANDARD
TZOFFSETFROM:+0200
TZOFFSETTO:+0100
TZNAME:CET
DTSTART:20241027T010000
END:STANDARD
BEGIN:DAYLIGHT
TZOFFSETFROM:+0100
TZOFFSETTO:+0200
TZNAME:CEST
DTSTART:20250330T010000
END:DAYLIGHT
BEGIN:STANDARD
TZOFFSETFROM:+0200
TZOFFSETTO:+0100
TZNAME:CET
DTSTART:20251026T010000
END:STANDARD
BEGIN:DAYLIGHT
TZOFFSETFROM:+0100
TZOFFSETTO:+0200
TZNAME:CEST
DTSTART:20260329T010000
END:DAYLIGHT
BEGIN:STANDARD
TZOFFSETFROM:+0200
TZOFFSETTO:+0100
TZNAME:CET
DTSTART:20261025T010000
END:STANDARD
END:VTIMEZONE
BEGIN:VEVENT
DTSTART;TZID=Europe/Amsterdam:20250601T133000
DTEND;TZID=Europe/Amsterdam:20250601T180000
DTSTAMP:20260421T185457
CREATED:20250410T105247Z
LAST-MODIFIED:20250410T105701Z
UID:57057-1748784600-1748800800@udenhout-centraal.nl
SUMMARY:Stoeptheater & Vensterkunst
DESCRIPTION:Op zondag 1 juni wordt het centrum van Udenhout omgetoverd tot een bruisend openluchtpodium tijdens het derde Stoeptheater & Vensterkunst Festival.\nLokale en regionale talenten tonen hun kunsten op het gebied van muziek\, dans\, zang\, poëzie en theater.\nBewonder bovendien een scala aan schilderijen en kunstwerken verspreid over de festivallocaties.\nStruin langs de acts en laat je verrassen door de diversiteit aan creativiteit in Udenhout..
URL:https://udenhout-centraal.nl/evenement/stoeptheater-vensterkunst/
LOCATION:Theaterplein en ’t Plein
CATEGORIES:Evenementen
END:VEVENT
END:VCALENDAR