BEGIN:VCALENDAR
VERSION:2.0
PRODID:-//Udenhout-Centraal - ECPv6.15.20//NONSGML v1.0//EN
CALSCALE:GREGORIAN
METHOD:PUBLISH
X-ORIGINAL-URL:https://udenhout-centraal.nl
X-WR-CALDESC:Evenementen voor Udenhout-Centraal
REFRESH-INTERVAL;VALUE=DURATION:PT1H
X-Robots-Tag:noindex
X-PUBLISHED-TTL:PT1H
BEGIN:VTIMEZONE
TZID:Europe/Amsterdam
BEGIN:DAYLIGHT
TZOFFSETFROM:+0100
TZOFFSETTO:+0200
TZNAME:CEST
DTSTART:20240331T010000
END:DAYLIGHT
BEGIN:STANDARD
TZOFFSETFROM:+0200
TZOFFSETTO:+0100
TZNAME:CET
DTSTART:20241027T010000
END:STANDARD
BEGIN:DAYLIGHT
TZOFFSETFROM:+0100
TZOFFSETTO:+0200
TZNAME:CEST
DTSTART:20250330T010000
END:DAYLIGHT
BEGIN:STANDARD
TZOFFSETFROM:+0200
TZOFFSETTO:+0100
TZNAME:CET
DTSTART:20251026T010000
END:STANDARD
BEGIN:DAYLIGHT
TZOFFSETFROM:+0100
TZOFFSETTO:+0200
TZNAME:CEST
DTSTART:20260329T010000
END:DAYLIGHT
BEGIN:STANDARD
TZOFFSETFROM:+0200
TZOFFSETTO:+0100
TZNAME:CET
DTSTART:20261025T010000
END:STANDARD
END:VTIMEZONE
BEGIN:VEVENT
DTSTART;TZID=Europe/Amsterdam:20250604T103000
DTEND;TZID=Europe/Amsterdam:20250604T111500
DTSTAMP:20260421T184726
CREATED:20241209T155743Z
LAST-MODIFIED:20241209T155743Z
UID:55965-1749033000-1749035700@udenhout-centraal.nl
SUMMARY:Letterlol met Janine van Theater van Niks & van Alles
DESCRIPTION:Met een mooi of grappig prentenboek maakt Janine heel veel lol…LETTERLOL. Samen met je peuter lezen\, zingen\, dansen en bewegen\, wie wil dat nou niet.\nAanmelden via onze website.
URL:https://udenhout-centraal.nl/evenement/letterlol-met-janine-van-theater-van-niks-van-alles/
LOCATION:Bibliotheek Udenhout\, Tongerloplein 15\, Udenhout\, 5071 CX
CATEGORIES:Evenementen
END:VEVENT
BEGIN:VEVENT
DTSTART;TZID=Europe/Amsterdam:20250604T140000
DTEND;TZID=Europe/Amsterdam:20250604T160000
DTSTAMP:20260421T184726
CREATED:20250115T183042Z
LAST-MODIFIED:20250115T183042Z
UID:56342-1749045600-1749052800@udenhout-centraal.nl
SUMMARY:Handwerkcafé (vooraf aanmelden)
DESCRIPTION:Graag vooraf aanmelden via info@dewolbeer.nl of 06-20703255\nBreng je eigen haak- of breiwerk mee. \nKosten zijn incl. een kopje koffie of thee.
URL:https://udenhout-centraal.nl/evenement/handwerkcafe-vooraf-aanmelden-21/
LOCATION:De Peppel ingang Tuinstraat\, Tuinstraat 69\, Udenhout
CATEGORIES:Evenementen
END:VEVENT
END:VCALENDAR