BEGIN:VCALENDAR
VERSION:2.0
PRODID:-//Udenhout-Centraal - ECPv6.15.20//NONSGML v1.0//EN
CALSCALE:GREGORIAN
METHOD:PUBLISH
X-WR-CALNAME:Udenhout-Centraal
X-ORIGINAL-URL:https://udenhout-centraal.nl
X-WR-CALDESC:Evenementen voor Udenhout-Centraal
REFRESH-INTERVAL;VALUE=DURATION:PT1H
X-Robots-Tag:noindex
X-PUBLISHED-TTL:PT1H
BEGIN:VTIMEZONE
TZID:Europe/Amsterdam
BEGIN:DAYLIGHT
TZOFFSETFROM:+0100
TZOFFSETTO:+0200
TZNAME:CEST
DTSTART:20240331T010000
END:DAYLIGHT
BEGIN:STANDARD
TZOFFSETFROM:+0200
TZOFFSETTO:+0100
TZNAME:CET
DTSTART:20241027T010000
END:STANDARD
BEGIN:DAYLIGHT
TZOFFSETFROM:+0100
TZOFFSETTO:+0200
TZNAME:CEST
DTSTART:20250330T010000
END:DAYLIGHT
BEGIN:STANDARD
TZOFFSETFROM:+0200
TZOFFSETTO:+0100
TZNAME:CET
DTSTART:20251026T010000
END:STANDARD
BEGIN:DAYLIGHT
TZOFFSETFROM:+0100
TZOFFSETTO:+0200
TZNAME:CEST
DTSTART:20260329T010000
END:DAYLIGHT
BEGIN:STANDARD
TZOFFSETFROM:+0200
TZOFFSETTO:+0100
TZNAME:CET
DTSTART:20261025T010000
END:STANDARD
END:VTIMEZONE
BEGIN:VEVENT
DTSTART;TZID=Europe/Amsterdam:20250607T090000
DTEND;TZID=Europe/Amsterdam:20250607T123000
DTSTAMP:20260421T185452
CREATED:20250427T144701Z
LAST-MODIFIED:20250427T144701Z
UID:57161-1749286800-1749299400@udenhout-centraal.nl
SUMMARY:Walk of Life - warming up
DESCRIPTION:Op zaterdag 7 juni organiseert Walk of Life een gratis ochtendwandeling (09.30 – 12.30 uur) in de Loonse en Drunense Duinen. Onder begeleiding van een coach wandel je in een kleine groep\, met ruimte voor reflectie\, gesprek en eenvoudige oefeningen.\nDe natuur biedt rust\, vertraagt en helpt om stress los te laten. Wandelen is een laagdrempelige manier om fysiek én mentaal in beweging te komen. Het versterkt je veerkracht en bevordert je welzijn.\nWalk of Life is een landelijk burgerinitiatief dat mensen samenbrengt in de natuur\, zonder ingewikkelde trajecten. In 2024 ontstonden meer dan 100 wandelgroepen\, begeleid door ruim 150 coaches.\nMede-oprichter Nienke van Ree: “In moeilijke tijden denken mensen vaak dat ze het alleen moeten doen. Terwijl verbinding juist de sleutel is.”\nMeewandelen?\nIedereen is welkom. Deelname is gratis. Aanmelden kan via www.walkoflife.nl.\nHoofd uit\, hart aan.
URL:https://udenhout-centraal.nl/evenement/walk-of-life-warming-up/
LOCATION:Parkeerplaats Bosch en Duin\, Schoorstraat 50\, Udenhout
CATEGORIES:Evenementen
END:VEVENT
BEGIN:VEVENT
DTSTART;TZID=Europe/Amsterdam:20250607T100000
DTEND;TZID=Europe/Amsterdam:20250607T130000
DTSTAMP:20260421T185452
CREATED:20250505T164317Z
LAST-MODIFIED:20250505T164317Z
UID:57251-1749290400-1749301200@udenhout-centraal.nl
SUMMARY:Repaircafé
DESCRIPTION:Repareren kapotte spullen.
URL:https://udenhout-centraal.nl/evenement/repaircafe-2/
LOCATION:Basisschool De Wichelroede (Ingang Kloosterpad t.o. Kerkhof)
CATEGORIES:Evenementen
ORGANIZER;CN="Repaircafe Udenhout":MAILTO:repaircafe@contact50udenhout.nl
END:VEVENT
END:VCALENDAR