BEGIN:VCALENDAR
VERSION:2.0
PRODID:-//Udenhout-Centraal - ECPv6.15.20//NONSGML v1.0//EN
CALSCALE:GREGORIAN
METHOD:PUBLISH
X-ORIGINAL-URL:https://udenhout-centraal.nl
X-WR-CALDESC:Evenementen voor Udenhout-Centraal
REFRESH-INTERVAL;VALUE=DURATION:PT1H
X-Robots-Tag:noindex
X-PUBLISHED-TTL:PT1H
BEGIN:VTIMEZONE
TZID:Europe/Amsterdam
BEGIN:DAYLIGHT
TZOFFSETFROM:+0100
TZOFFSETTO:+0200
TZNAME:CEST
DTSTART:20240331T010000
END:DAYLIGHT
BEGIN:STANDARD
TZOFFSETFROM:+0200
TZOFFSETTO:+0100
TZNAME:CET
DTSTART:20241027T010000
END:STANDARD
BEGIN:DAYLIGHT
TZOFFSETFROM:+0100
TZOFFSETTO:+0200
TZNAME:CEST
DTSTART:20250330T010000
END:DAYLIGHT
BEGIN:STANDARD
TZOFFSETFROM:+0200
TZOFFSETTO:+0100
TZNAME:CET
DTSTART:20251026T010000
END:STANDARD
BEGIN:DAYLIGHT
TZOFFSETFROM:+0100
TZOFFSETTO:+0200
TZNAME:CEST
DTSTART:20260329T010000
END:DAYLIGHT
BEGIN:STANDARD
TZOFFSETFROM:+0200
TZOFFSETTO:+0100
TZNAME:CET
DTSTART:20261025T010000
END:STANDARD
END:VTIMEZONE
BEGIN:VEVENT
DTSTART;TZID=Europe/Amsterdam:20250614T110000
DTEND;TZID=Europe/Amsterdam:20250614T170000
DTSTAMP:20260421T185609
CREATED:20250528T150456Z
LAST-MODIFIED:20250528T150456Z
UID:57398-1749898800-1749920400@udenhout-centraal.nl
SUMMARY:12e Open Toffe Tuinen route
DESCRIPTION:Open Toffe Tuinen Tilburg route op 14 en 15 juni Pak de fiets of doe je wandelschoenen aan en doe een portie tuinspiratie op! \nEen Toffe Tuin is een vooral gezond\, dus dier-\, water- en natuurvriendelijk. De tuinen hoeven niet groot of strak te zijn\, maar zijn wel heel verschillend: Van creatieve stadstuin\, een geurtuin tot een bijzondere tuinen in het buitengebied. Het gaat om het delen van gezonde tuintips\, ideeën en gezelligheid. Heb je zelf een stadstuin\, dan is het zien van andere stadstuinen juist interessant. De enthousiaste tuinliefhebbers delen graag hun kennis en ervaring. \nIn sommige tuinen zijn ook plantjes\, iets creatiefs of iets lekkers te koop. \nDe open tuinen zijn in 2025 als volgt verdeeld:\nZaterdag 14 juni || 11:00-17:00\nRechts van Ringbaan West: Centrum\, Zuid\, Noord\, Oost\, Berkel Enschot\, Udenhout\n\nZondag 15 juni || 11:00-17:00\nLinks van ringbaan West: Reeshof\, West\, de Reit\, Wandelbos\, Blaak\, Zorgvlied
URL:https://udenhout-centraal.nl/evenement/12e-open-toffe-tuinen-route/
END:VEVENT
BEGIN:VEVENT
DTSTART;TZID=Europe/Amsterdam:20250614T133000
DTEND;TZID=Europe/Amsterdam:20250614T163000
DTSTAMP:20260421T185609
CREATED:20250501T151218Z
LAST-MODIFIED:20250501T151218Z
UID:57209-1749907800-1749918600@udenhout-centraal.nl
SUMMARY:Erfgoedcentrum 't Schoor geopend
DESCRIPTION:Stap in het verleden van Udenhout en Biezenmortel\, ook voor boekverkoop en voor vragen over de historie is ’t Schoor elke donderdag en de tweede zaterdagmiddag van de maand open.
URL:https://udenhout-centraal.nl/evenement/erfgoedcentrum-t-schoor-geopend-27/
LOCATION:Erfgoedcentrum ’t Schoor\, Schoorstraat 2\, Udenhout\, Nederland
CATEGORIES:Evenementen
ORGANIZER;CN="Erfgoedcentrum 't Schoor":MAILTO:erfgoedcentrumudenhout@gmail.com
END:VEVENT
BEGIN:VEVENT
DTSTART;TZID=Europe/Amsterdam:20250614T140000
DTEND;TZID=Europe/Amsterdam:20250614T160000
DTSTAMP:20260421T185609
CREATED:20250525T155157Z
LAST-MODIFIED:20250605T160109Z
UID:57370-1749909600-1749916800@udenhout-centraal.nl
SUMMARY:International Knit in Public day
DESCRIPTION:Samen handwerken op het Berkvelt. Neem iets mee om te haken of breien en kom gezellig in de open lucht handwerken.\nVoor thee en koffie met wat lekkers wordt gezorgd! \nGraag vooraf aanmelden via info@dewolbeer.nl\nAls het regent gaat het niet door.
URL:https://udenhout-centraal.nl/evenement/international-knit-in-public-day/
LOCATION:Op het Berkvelt\, Berkvelt\, Udenhout
CATEGORIES:Evenementen
END:VEVENT
END:VCALENDAR