BEGIN:VCALENDAR
VERSION:2.0
PRODID:-//Udenhout-Centraal - ECPv6.15.20//NONSGML v1.0//EN
CALSCALE:GREGORIAN
METHOD:PUBLISH
X-ORIGINAL-URL:https://udenhout-centraal.nl
X-WR-CALDESC:Evenementen voor Udenhout-Centraal
REFRESH-INTERVAL;VALUE=DURATION:PT1H
X-Robots-Tag:noindex
X-PUBLISHED-TTL:PT1H
BEGIN:VTIMEZONE
TZID:Europe/Amsterdam
BEGIN:DAYLIGHT
TZOFFSETFROM:+0100
TZOFFSETTO:+0200
TZNAME:CEST
DTSTART:20240331T010000
END:DAYLIGHT
BEGIN:STANDARD
TZOFFSETFROM:+0200
TZOFFSETTO:+0100
TZNAME:CET
DTSTART:20241027T010000
END:STANDARD
BEGIN:DAYLIGHT
TZOFFSETFROM:+0100
TZOFFSETTO:+0200
TZNAME:CEST
DTSTART:20250330T010000
END:DAYLIGHT
BEGIN:STANDARD
TZOFFSETFROM:+0200
TZOFFSETTO:+0100
TZNAME:CET
DTSTART:20251026T010000
END:STANDARD
BEGIN:DAYLIGHT
TZOFFSETFROM:+0100
TZOFFSETTO:+0200
TZNAME:CEST
DTSTART:20260329T010000
END:DAYLIGHT
BEGIN:STANDARD
TZOFFSETFROM:+0200
TZOFFSETTO:+0100
TZNAME:CET
DTSTART:20261025T010000
END:STANDARD
END:VTIMEZONE
BEGIN:VEVENT
DTSTART;TZID=Europe/Amsterdam:20250620T200000
DTEND;TZID=Europe/Amsterdam:20250620T230000
DTSTAMP:20260421T184726
CREATED:20250315T083043Z
LAST-MODIFIED:20250315T083043Z
UID:56898-1750449600-1750460400@udenhout-centraal.nl
SUMMARY:Bierproeverij met foodpairing 't Centrum
DESCRIPTION:Maak je klaar voor de 5e editie van de Bierbattle bij ’t Centrum in Udenhout!\nNa een drukbezocht wintereditie hebben Jens en Chiara weer 6 nieuwe bieren voor je uitgezocht. De overeenkomst? Ze komen allemaal uit het noorden! Onze zytholoog en biersommelier voorzien álle bieren van een goed verhaal\, want het ene bier is het andere niet. Daarmee strijden ze tegen elkaar om te laten zien wie de beste biersmaak en -kennis heeft en beantwoorden al jouw biervragen. Maar dat niet alleen: ze dagen jou uit je bierkennis te delen\, want zo kan jij punten scoren en word je misschien wel dé bierkenner van de avond…\nUiteraard verzorgen de koks van ’t Centrum heerlijke bijpassende hapjes bij ieder bier. Dat kan maar één ding betekenen: het wordt een avondje genieten. Proef je mee?
URL:https://udenhout-centraal.nl/evenement/bierproeverij-met-foodpairing-t-centrum/
LOCATION:’t Centrum\, Slimstraat 1\, Udenhout
CATEGORIES:Evenementen
END:VEVENT
END:VCALENDAR