BEGIN:VCALENDAR
VERSION:2.0
PRODID:-//Udenhout-Centraal - ECPv6.15.20//NONSGML v1.0//EN
CALSCALE:GREGORIAN
METHOD:PUBLISH
X-ORIGINAL-URL:https://udenhout-centraal.nl
X-WR-CALDESC:Evenementen voor Udenhout-Centraal
REFRESH-INTERVAL;VALUE=DURATION:PT1H
X-Robots-Tag:noindex
X-PUBLISHED-TTL:PT1H
BEGIN:VTIMEZONE
TZID:Europe/Amsterdam
BEGIN:DAYLIGHT
TZOFFSETFROM:+0100
TZOFFSETTO:+0200
TZNAME:CEST
DTSTART:20240331T010000
END:DAYLIGHT
BEGIN:STANDARD
TZOFFSETFROM:+0200
TZOFFSETTO:+0100
TZNAME:CET
DTSTART:20241027T010000
END:STANDARD
BEGIN:DAYLIGHT
TZOFFSETFROM:+0100
TZOFFSETTO:+0200
TZNAME:CEST
DTSTART:20250330T010000
END:DAYLIGHT
BEGIN:STANDARD
TZOFFSETFROM:+0200
TZOFFSETTO:+0100
TZNAME:CET
DTSTART:20251026T010000
END:STANDARD
BEGIN:DAYLIGHT
TZOFFSETFROM:+0100
TZOFFSETTO:+0200
TZNAME:CEST
DTSTART:20260329T010000
END:DAYLIGHT
BEGIN:STANDARD
TZOFFSETFROM:+0200
TZOFFSETTO:+0100
TZNAME:CET
DTSTART:20261025T010000
END:STANDARD
END:VTIMEZONE
BEGIN:VEVENT
DTSTART;TZID=Europe/Amsterdam:20250627T200000
DTEND;TZID=Europe/Amsterdam:20250627T200000
DTSTAMP:20260421T185609
CREATED:20241219T101422Z
LAST-MODIFIED:20250530T165344Z
UID:56145-1751054400-1751054400@udenhout-centraal.nl
SUMMARY:Mr Jones & Just In Case - Tom Jones tribute
DESCRIPTION:4 dagen lang de beste tribute acts op ons podium in de openlucht.\nMr. Jones & Just in Case is een tribute band van de legendarische Tom Jones. Met een echte big band\, compleet met blazers en backing vocals\, brengen zij een spetterende ode aan zijn tijdloze muziek. Laat je meevoeren door de energie en passie van deze geweldige artiest. Mis hun niet! \nKaartjes hier verkrijgbaar \nOpen: 19.30 uur\nOptreden: 22.00 uur
URL:https://udenhout-centraal.nl/evenement/tribute-weekend-udenhout-2/
LOCATION:Theaterplaats\, Kloosterpad 6/2\, Udenhout\, 5071 EM
CATEGORIES:Evenementen
ORGANIZER;CN="'t Plein":MAILTO:info@tplein.nl
END:VEVENT
END:VCALENDAR