BEGIN:VCALENDAR
VERSION:2.0
PRODID:-//Udenhout-Centraal - ECPv6.15.20//NONSGML v1.0//EN
CALSCALE:GREGORIAN
METHOD:PUBLISH
X-WR-CALNAME:Udenhout-Centraal
X-ORIGINAL-URL:https://udenhout-centraal.nl
X-WR-CALDESC:Evenementen voor Udenhout-Centraal
REFRESH-INTERVAL;VALUE=DURATION:PT1H
X-Robots-Tag:noindex
X-PUBLISHED-TTL:PT1H
BEGIN:VTIMEZONE
TZID:Europe/Amsterdam
BEGIN:DAYLIGHT
TZOFFSETFROM:+0100
TZOFFSETTO:+0200
TZNAME:CEST
DTSTART:20240331T010000
END:DAYLIGHT
BEGIN:STANDARD
TZOFFSETFROM:+0200
TZOFFSETTO:+0100
TZNAME:CET
DTSTART:20241027T010000
END:STANDARD
BEGIN:DAYLIGHT
TZOFFSETFROM:+0100
TZOFFSETTO:+0200
TZNAME:CEST
DTSTART:20250330T010000
END:DAYLIGHT
BEGIN:STANDARD
TZOFFSETFROM:+0200
TZOFFSETTO:+0100
TZNAME:CET
DTSTART:20251026T010000
END:STANDARD
BEGIN:DAYLIGHT
TZOFFSETFROM:+0100
TZOFFSETTO:+0200
TZNAME:CEST
DTSTART:20260329T010000
END:DAYLIGHT
BEGIN:STANDARD
TZOFFSETFROM:+0200
TZOFFSETTO:+0100
TZNAME:CET
DTSTART:20261025T010000
END:STANDARD
END:VTIMEZONE
BEGIN:VEVENT
DTSTART;TZID=Europe/Amsterdam:20250628T140000
DTEND;TZID=Europe/Amsterdam:20250628T173000
DTSTAMP:20260421T185457
CREATED:20241219T101519Z
LAST-MODIFIED:20250530T165530Z
UID:56151-1751119200-1751131800@udenhout-centraal.nl
SUMMARY:Kate! - Dé Nederlandse Kate Bush tribute band @tribute festival Udenhout
DESCRIPTION:Kate!\, bekend van televisieprogramma: The Tribute\, Battle Of The Bands komt naar Udenhout voor een concert op ’t Plein.\nOp zaterdagmiddag 28 juni 2025 zal Kate! tijdens ‘Tribute Weekend Udenhout.’ een magisch live concert spelen.\nSamen met een topband van 5 muzikanten brengt zangeres Suzanne Sanders de tijdloze muziek van Kate Bush tot leven!\nGeniet van de fretloze baspartijen\, meeslepende gitaarsolo´s\, en die o\, zo bekende drumritmes. Sluit je ogen en laat je meevoeren met de betoverende pianopartijen en synthesizer-sounds terug naar de jaren 70\,80\, en 90!\nTrek je iconische rode jurk aan en dans en zwier op ‘Wuthering Heights’. Ren door de krachtige klassiekers zoals ‘Running Up That Hill’\, wordt verleid door het speelse ‘Babooshka’ en laat je ontroeren door de pure emotie van ‘The Man With The Child In His Eyes’. \nKate! In Concert\, is een muzikale ode aan Kate Bush. Kate! komt speciaal naar Brabant om deze bijzondere muziek te (her) beleven! \n‘Let´s exchange the experience!‘ \nKaartjes hier verkrijgbaar \nOpen: 13.30 uur\nOptreden: 14.45 uur \n 
URL:https://udenhout-centraal.nl/evenement/tribute-weekend-udenhout-4/
LOCATION:Theaterplaats\, Kloosterpad 6/2\, Udenhout\, 5071 EM
CATEGORIES:Evenementen
END:VEVENT
BEGIN:VEVENT
DTSTART;TZID=Europe/Amsterdam:20250628T200000
DTEND;TZID=Europe/Amsterdam:20250628T200000
DTSTAMP:20260421T185457
CREATED:20250530T165154Z
LAST-MODIFIED:20250530T165225Z
UID:57428-1751140800-1751140800@udenhout-centraal.nl
SUMMARY:De Guus Meeuwis Tributeband
DESCRIPTION:De Guus Meeuwis Tributeband is de band die de onvergetelijke muziek van Guus Meeuwis tot leven brengt. Hun hartverwarmende optredens creëren een echte feestelijke sfeer op het podium. Het enthousiasme van de bandleden zorgt ervoor dat elk concert een unieke ervaring is voor alle fans. Laat je meevoeren door de mooiste nummers en geniet van een avond vol muziek en gezelligheid! \nKaartjes hier verkrijgbaar \nOpen: 19.30 uur\nOptreden: 22.00 uur
URL:https://udenhout-centraal.nl/evenement/de-guus-meeuwis-tributeband/
LOCATION:Theaterplaats\, Kloosterpad 6/2\, Udenhout\, 5071 EM
CATEGORIES:Evenementen
ORGANIZER;CN="'t Plein":MAILTO:info@tplein.nl
END:VEVENT
END:VCALENDAR