BEGIN:VCALENDAR
VERSION:2.0
PRODID:-//Udenhout-Centraal - ECPv6.15.20//NONSGML v1.0//EN
CALSCALE:GREGORIAN
METHOD:PUBLISH
X-ORIGINAL-URL:https://udenhout-centraal.nl
X-WR-CALDESC:Evenementen voor Udenhout-Centraal
REFRESH-INTERVAL;VALUE=DURATION:PT1H
X-Robots-Tag:noindex
X-PUBLISHED-TTL:PT1H
BEGIN:VTIMEZONE
TZID:Europe/Amsterdam
BEGIN:DAYLIGHT
TZOFFSETFROM:+0100
TZOFFSETTO:+0200
TZNAME:CEST
DTSTART:20240331T010000
END:DAYLIGHT
BEGIN:STANDARD
TZOFFSETFROM:+0200
TZOFFSETTO:+0100
TZNAME:CET
DTSTART:20241027T010000
END:STANDARD
BEGIN:DAYLIGHT
TZOFFSETFROM:+0100
TZOFFSETTO:+0200
TZNAME:CEST
DTSTART:20250330T010000
END:DAYLIGHT
BEGIN:STANDARD
TZOFFSETFROM:+0200
TZOFFSETTO:+0100
TZNAME:CET
DTSTART:20251026T010000
END:STANDARD
BEGIN:DAYLIGHT
TZOFFSETFROM:+0100
TZOFFSETTO:+0200
TZNAME:CEST
DTSTART:20260329T010000
END:DAYLIGHT
BEGIN:STANDARD
TZOFFSETFROM:+0200
TZOFFSETTO:+0100
TZNAME:CET
DTSTART:20261025T010000
END:STANDARD
END:VTIMEZONE
BEGIN:VEVENT
DTSTART;TZID=Europe/Amsterdam:20250719T130000
DTEND;TZID=Europe/Amsterdam:20250719T173000
DTSTAMP:20260421T172432
CREATED:20241214T142955Z
LAST-MODIFIED:20241214T142955Z
UID:56066-1752930000-1752946200@udenhout-centraal.nl
SUMMARY:Jeu de Boules Lente Mini-Mix
DESCRIPTION:Een toernooi over 3 speelrondes waar iedereen zich ter plaatse voor kan inschrijven.\nU hoeft geen lid te zijn van een vereniging.\nAanmelden in de kantine tussen 13.00 uur en 13.30 uur.\nPrijzen in de vorm van levensmiddelenpakketten.
URL:https://udenhout-centraal.nl/evenement/jeu-de-boules-lente-mini-mix/
LOCATION:Petanquevereniging VOP\, Sportpark Zeshoeven\, Sportlaan 15e\, Udenhout
CATEGORIES:Evenementen
ORGANIZER;CN="Petanque vereniging Voor Ons Plezier":MAILTO:hans_verhagen@wxs.nl
END:VEVENT
END:VCALENDAR