BEGIN:VCALENDAR
VERSION:2.0
PRODID:-//Udenhout-Centraal - ECPv6.15.20//NONSGML v1.0//EN
CALSCALE:GREGORIAN
METHOD:PUBLISH
X-WR-CALNAME:Udenhout-Centraal
X-ORIGINAL-URL:https://udenhout-centraal.nl
X-WR-CALDESC:Evenementen voor Udenhout-Centraal
REFRESH-INTERVAL;VALUE=DURATION:PT1H
X-Robots-Tag:noindex
X-PUBLISHED-TTL:PT1H
BEGIN:VTIMEZONE
TZID:Europe/Amsterdam
BEGIN:DAYLIGHT
TZOFFSETFROM:+0100
TZOFFSETTO:+0200
TZNAME:CEST
DTSTART:20240331T010000
END:DAYLIGHT
BEGIN:STANDARD
TZOFFSETFROM:+0200
TZOFFSETTO:+0100
TZNAME:CET
DTSTART:20241027T010000
END:STANDARD
BEGIN:DAYLIGHT
TZOFFSETFROM:+0100
TZOFFSETTO:+0200
TZNAME:CEST
DTSTART:20250330T010000
END:DAYLIGHT
BEGIN:STANDARD
TZOFFSETFROM:+0200
TZOFFSETTO:+0100
TZNAME:CET
DTSTART:20251026T010000
END:STANDARD
BEGIN:DAYLIGHT
TZOFFSETFROM:+0100
TZOFFSETTO:+0200
TZNAME:CEST
DTSTART:20260329T010000
END:DAYLIGHT
BEGIN:STANDARD
TZOFFSETFROM:+0200
TZOFFSETTO:+0100
TZNAME:CET
DTSTART:20261025T010000
END:STANDARD
END:VTIMEZONE
BEGIN:VEVENT
DTSTART;TZID=Europe/Amsterdam:20250804T123000
DTEND;TZID=Europe/Amsterdam:20250822T170000
DTSTAMP:20260421T161648
CREATED:20250716T201504Z
LAST-MODIFIED:20250716T201609Z
UID:57784-1754310600-1755882000@udenhout-centraal.nl
SUMMARY:8e Open Udenhoutse kampioenschappen biljarten Libre en Bandstoten 4 t/m 22 augustus
DESCRIPTION:8e Open Udenhoutse Kampioenschappen Biljarten Libre en Bandstoten.\nTe spelen: maandag 4 t/m vrijdag 22 augustus.
URL:https://udenhout-centraal.nl/evenement/8e-open-udenhoutse-kampioenschappen-biljarten-libre-en-bandstoten-4-t-m-22-augustus/
LOCATION:TrefpunT\, Tuinstraat 69\, Udenhout\, 5071 CP\, Nederland
CATEGORIES:Evenementen
END:VEVENT
BEGIN:VEVENT
DTSTART;TZID=Europe/Amsterdam:20250816T130000
DTEND;TZID=Europe/Amsterdam:20250816T173000
DTSTAMP:20260421T161648
CREATED:20250716T140948Z
LAST-MODIFIED:20250716T140948Z
UID:57741-1755349200-1755365400@udenhout-centraal.nl
SUMMARY:Jeu de Boules Mini-Mix
DESCRIPTION:Een maandelijks terugkerend Jeu de Boules toernooi over 3 speelrondes. Iedereen kan zich hiervoor op de speeldatum inschrijven in de kantine van Petanque Vereniging VOP. U hoeft geen lid te zijn van een Jeu de Boules vereniging!\nPrijzen in natura\, levensmiddelenpakketten.\nDeelname: € 2\,50 p.p.
URL:https://udenhout-centraal.nl/evenement/jeu-de-boules-mini-mix/
LOCATION:Petanquevereniging VOP\, Sportpark Zeshoeven\, Sportlaan 15e\, Udenhout
CATEGORIES:Evenementen
ORGANIZER;CN="Petanque vereniging Voor Ons Plezier":MAILTO:hans_verhagen@wxs.nl
END:VEVENT
END:VCALENDAR