BEGIN:VCALENDAR
VERSION:2.0
PRODID:-//Udenhout-Centraal - ECPv6.15.20//NONSGML v1.0//EN
CALSCALE:GREGORIAN
METHOD:PUBLISH
X-ORIGINAL-URL:https://udenhout-centraal.nl
X-WR-CALDESC:Evenementen voor Udenhout-Centraal
REFRESH-INTERVAL;VALUE=DURATION:PT1H
X-Robots-Tag:noindex
X-PUBLISHED-TTL:PT1H
BEGIN:VTIMEZONE
TZID:Europe/Amsterdam
BEGIN:DAYLIGHT
TZOFFSETFROM:+0100
TZOFFSETTO:+0200
TZNAME:CEST
DTSTART:20240331T010000
END:DAYLIGHT
BEGIN:STANDARD
TZOFFSETFROM:+0200
TZOFFSETTO:+0100
TZNAME:CET
DTSTART:20241027T010000
END:STANDARD
BEGIN:DAYLIGHT
TZOFFSETFROM:+0100
TZOFFSETTO:+0200
TZNAME:CEST
DTSTART:20250330T010000
END:DAYLIGHT
BEGIN:STANDARD
TZOFFSETFROM:+0200
TZOFFSETTO:+0100
TZNAME:CET
DTSTART:20251026T010000
END:STANDARD
BEGIN:DAYLIGHT
TZOFFSETFROM:+0100
TZOFFSETTO:+0200
TZNAME:CEST
DTSTART:20260329T010000
END:DAYLIGHT
BEGIN:STANDARD
TZOFFSETFROM:+0200
TZOFFSETTO:+0100
TZNAME:CET
DTSTART:20261025T010000
END:STANDARD
END:VTIMEZONE
BEGIN:VEVENT
DTSTART;TZID=Europe/Amsterdam:20250910T133000
DTEND;TZID=Europe/Amsterdam:20250910T150000
DTSTAMP:20260421T150315
CREATED:20250716T200347Z
LAST-MODIFIED:20250716T200347Z
UID:57769-1757511000-1757516400@udenhout-centraal.nl
SUMMARY:De SchrijfStudio voor kinderen - Breng je fantasie tot leven en schrijf je eigen verhaal!
DESCRIPTION:Zit jij altijd vol fantasie? Lijkt het je leuk om je eigen verhalen te schrijven? Zou je zelfs je eigen boek willen maken? Dan zijn deze workshops écht iets voor jou. In 3 workshops laat kinderboekenschrijfster Dieuwertje Mastenbroek zien hoe je van een idee een verhaal kunt maken. En weet je wat echt heel gaaf is? Aan het einde van de laatste workshop heb je je eigen boek in handen. Hoe cool is dat! Meld je snel aan.\nHet is voor kinderen van groep 6\, 7 en 8. De toegang is gratis. Wel aanmelden via www.bibliotheekmb.nl/udenhout-agenda.\nDe 3 workshops worden gegeven op 10\, 17 en 24 september van 13.30 tot 15.00 uur in de Bibliotheek Udenhout.
URL:https://udenhout-centraal.nl/evenement/de-schrijfstudio-voor-kinderen-breng-je-fantasie-tot-leven-en-schrijf-je-eigen-verhaal/
LOCATION:de Bibliotheek Udenhout\, Tongerloplein 15\, Udenhout\, 5071 CX
CATEGORIES:Evenementen
END:VEVENT
END:VCALENDAR