BEGIN:VCALENDAR
VERSION:2.0
PRODID:-//Udenhout-Centraal - ECPv6.15.20//NONSGML v1.0//EN
CALSCALE:GREGORIAN
METHOD:PUBLISH
X-ORIGINAL-URL:https://udenhout-centraal.nl
X-WR-CALDESC:Evenementen voor Udenhout-Centraal
REFRESH-INTERVAL;VALUE=DURATION:PT1H
X-Robots-Tag:noindex
X-PUBLISHED-TTL:PT1H
BEGIN:VTIMEZONE
TZID:Europe/Amsterdam
BEGIN:DAYLIGHT
TZOFFSETFROM:+0100
TZOFFSETTO:+0200
TZNAME:CEST
DTSTART:20240331T010000
END:DAYLIGHT
BEGIN:STANDARD
TZOFFSETFROM:+0200
TZOFFSETTO:+0100
TZNAME:CET
DTSTART:20241027T010000
END:STANDARD
BEGIN:DAYLIGHT
TZOFFSETFROM:+0100
TZOFFSETTO:+0200
TZNAME:CEST
DTSTART:20250330T010000
END:DAYLIGHT
BEGIN:STANDARD
TZOFFSETFROM:+0200
TZOFFSETTO:+0100
TZNAME:CET
DTSTART:20251026T010000
END:STANDARD
BEGIN:DAYLIGHT
TZOFFSETFROM:+0100
TZOFFSETTO:+0200
TZNAME:CEST
DTSTART:20260329T010000
END:DAYLIGHT
BEGIN:STANDARD
TZOFFSETFROM:+0200
TZOFFSETTO:+0100
TZNAME:CET
DTSTART:20261025T010000
END:STANDARD
END:VTIMEZONE
BEGIN:VEVENT
DTSTART;TZID=Europe/Amsterdam:20250914T110000
DTEND;TZID=Europe/Amsterdam:20250914T160000
DTSTAMP:20260421T150314
CREATED:20250716T200655Z
LAST-MODIFIED:20250909T122111Z
UID:57773-1757847600-1757865600@udenhout-centraal.nl
SUMMARY:Open Monumentendag Landpark Huize Assisië 2025
DESCRIPTION:In Biezenmortel is Landpark Huize Assisië ook op zondag 14 september geopend
URL:https://udenhout-centraal.nl/evenement/open-monumentendag-2025-2/
LOCATION:Landpark Assisië\, Hooghoutseweg 3\, Biezenmortel\, 5074 NA
CATEGORIES:Evenementen
ORGANIZER;CN="Erfgoedcentrum 't Schoor":MAILTO:erfgoedcentrumudenhout@gmail.com
END:VEVENT
BEGIN:VEVENT
DTSTART;TZID=Europe/Amsterdam:20250914T110000
DTEND;TZID=Europe/Amsterdam:20250914T160000
DTSTAMP:20260421T150314
CREATED:20250913T125430Z
LAST-MODIFIED:20250913T125430Z
UID:58080-1757847600-1757865600@udenhout-centraal.nl
SUMMARY:Kunstspeurtocht
DESCRIPTION:Kunstenaars halen vaak ideeën uit de natuur. Ze kijken naar bloemen\, bladeren\, groenten en dieren om kleuren en vormen te vinden. Dat ga jij ook doen! Bij elke opdracht die je hebt volbracht\, krijg je een kleur. Aan het einde maak je daar samen een prachtig kunstwerk van. \nDe speurtocht is van 6 t/m 28 september.\nKosten € 4\,00 per kind.
URL:https://udenhout-centraal.nl/evenement/kunstspeurtocht-2/
LOCATION:Sprankenhof\, Schoorstraat 26 – A\, Udenhout\, 5071 RA\, Nederland
CATEGORIES:Evenementen
END:VEVENT
END:VCALENDAR