BEGIN:VCALENDAR
VERSION:2.0
PRODID:-//Udenhout-Centraal - ECPv6.15.20//NONSGML v1.0//EN
CALSCALE:GREGORIAN
METHOD:PUBLISH
X-WR-CALNAME:Udenhout-Centraal
X-ORIGINAL-URL:https://udenhout-centraal.nl
X-WR-CALDESC:Evenementen voor Udenhout-Centraal
REFRESH-INTERVAL;VALUE=DURATION:PT1H
X-Robots-Tag:noindex
X-PUBLISHED-TTL:PT1H
BEGIN:VTIMEZONE
TZID:Europe/Amsterdam
BEGIN:DAYLIGHT
TZOFFSETFROM:+0100
TZOFFSETTO:+0200
TZNAME:CEST
DTSTART:20240331T010000
END:DAYLIGHT
BEGIN:STANDARD
TZOFFSETFROM:+0200
TZOFFSETTO:+0100
TZNAME:CET
DTSTART:20241027T010000
END:STANDARD
BEGIN:DAYLIGHT
TZOFFSETFROM:+0100
TZOFFSETTO:+0200
TZNAME:CEST
DTSTART:20250330T010000
END:DAYLIGHT
BEGIN:STANDARD
TZOFFSETFROM:+0200
TZOFFSETTO:+0100
TZNAME:CET
DTSTART:20251026T010000
END:STANDARD
BEGIN:DAYLIGHT
TZOFFSETFROM:+0100
TZOFFSETTO:+0200
TZNAME:CEST
DTSTART:20260329T010000
END:DAYLIGHT
BEGIN:STANDARD
TZOFFSETFROM:+0200
TZOFFSETTO:+0100
TZNAME:CET
DTSTART:20261025T010000
END:STANDARD
END:VTIMEZONE
BEGIN:VEVENT
DTSTART;TZID=Europe/Amsterdam:20250921T110000
DTEND;TZID=Europe/Amsterdam:20250921T160000
DTSTAMP:20260421T150301
CREATED:20250913T125553Z
LAST-MODIFIED:20250913T125553Z
UID:58101-1758452400-1758470400@udenhout-centraal.nl
SUMMARY:Kunstspeurtocht
DESCRIPTION:Kunstenaars halen vaak ideeën uit de natuur. Ze kijken naar bloemen\, bladeren\, groenten en dieren om kleuren en vormen te vinden. Dat ga jij ook doen! Bij elke opdracht die je hebt volbracht\, krijg je een kleur. Aan het einde maak je daar samen een prachtig kunstwerk van. \nDe speurtocht is van 6 t/m 28 september.\nKosten € 4\,00 per kind.
URL:https://udenhout-centraal.nl/evenement/kunstspeurtocht-9/
LOCATION:Sprankenhof\, Schoorstraat 26 – A\, Udenhout\, 5071 RA\, Nederland
CATEGORIES:Evenementen
END:VEVENT
BEGIN:VEVENT
DTSTART;TZID=Europe/Amsterdam:20250921T130000
DTEND;TZID=Europe/Amsterdam:20250921T180000
DTSTAMP:20260421T150301
CREATED:20250410T105359Z
LAST-MODIFIED:20250410T105629Z
UID:57061-1758459600-1758477600@udenhout-centraal.nl
SUMMARY:Sing & Songwriters Event
DESCRIPTION:Na het grote succes van vorig jaar keert het Sing en Songwriters Event terug naar ’t Plein.\nOp zondag 21 september kun je genieten van prachtige liedjes over liefde\, het leven en alles daartussenin\, uitgevoerd door singer-songwriters uit Udenhout en omgeving. Naast onze locale top- muzikanten zijn wederom talenten van de Rock Academie uit Tilburg te bewonderen waaronder Moon Jacky Jane. Zij maakte vorig jaar bijzonder veel indruk met haar optreden. Daarnaast hebben we Ellece\, bekend van het TV programma Talent Unplugged\, gecontracteerd.\nLaat je meevoeren door pure\, akoestische muziek in een sfeervolle setting. Een intieme en betoverende middag die je niet mag missen! 
URL:https://udenhout-centraal.nl/evenement/sing-songwriters-event/
LOCATION:’t Plein\, Tongerloplein 1\, Udenhout
CATEGORIES:Evenementen
END:VEVENT
END:VCALENDAR