BEGIN:VCALENDAR
VERSION:2.0
PRODID:-//Udenhout-Centraal - ECPv6.15.20//NONSGML v1.0//EN
CALSCALE:GREGORIAN
METHOD:PUBLISH
X-WR-CALNAME:Udenhout-Centraal
X-ORIGINAL-URL:https://udenhout-centraal.nl
X-WR-CALDESC:Evenementen voor Udenhout-Centraal
REFRESH-INTERVAL;VALUE=DURATION:PT1H
X-Robots-Tag:noindex
X-PUBLISHED-TTL:PT1H
BEGIN:VTIMEZONE
TZID:Europe/Amsterdam
BEGIN:DAYLIGHT
TZOFFSETFROM:+0100
TZOFFSETTO:+0200
TZNAME:CEST
DTSTART:20240331T010000
END:DAYLIGHT
BEGIN:STANDARD
TZOFFSETFROM:+0200
TZOFFSETTO:+0100
TZNAME:CET
DTSTART:20241027T010000
END:STANDARD
BEGIN:DAYLIGHT
TZOFFSETFROM:+0100
TZOFFSETTO:+0200
TZNAME:CEST
DTSTART:20250330T010000
END:DAYLIGHT
BEGIN:STANDARD
TZOFFSETFROM:+0200
TZOFFSETTO:+0100
TZNAME:CET
DTSTART:20251026T010000
END:STANDARD
BEGIN:DAYLIGHT
TZOFFSETFROM:+0100
TZOFFSETTO:+0200
TZNAME:CEST
DTSTART:20260329T010000
END:DAYLIGHT
BEGIN:STANDARD
TZOFFSETFROM:+0200
TZOFFSETTO:+0100
TZNAME:CET
DTSTART:20261025T010000
END:STANDARD
END:VTIMEZONE
BEGIN:VEVENT
DTSTART;TZID=Europe/Amsterdam:20251001T103000
DTEND;TZID=Europe/Amsterdam:20251001T111500
DTSTAMP:20260421T134723
CREATED:20250716T200209Z
LAST-MODIFIED:20250716T200209Z
UID:57765-1759314600-1759317300@udenhout-centraal.nl
SUMMARY:Letterlol! in de Bibliotheek Udenhout
DESCRIPTION:Voorlezen\, creatief aan de slag of dansen en samen zingen.\nSamen lezen\, zingen\, dansen en bewegen wie wil dat niet. Houd jij ook van spannende\, gekke\, mooie en grappige boeken?\nMet een mooi of grappig prentenboek maken Jolanda van de Bibliotheek Udenhout en Janine van het Oisterwijkse jeugdtheater Van Niks & Van Alles heel veel lol.\nLeeftijd:\nMet LetterLol! maken we een programma dat goed aansluit bij de leeftijd van je kind.
URL:https://udenhout-centraal.nl/evenement/letterlol-in-de-bibliotheek-udenhout-3/
LOCATION:de Bibliotheek Udenhout\, Tongerloplein 15\, Udenhout\, 5071 CX
CATEGORIES:Evenementen
END:VEVENT
BEGIN:VEVENT
DTSTART;TZID=Europe/Amsterdam:20251001T140000
DTEND;TZID=Europe/Amsterdam:20251001T150000
DTSTAMP:20260421T134723
CREATED:20250804T182403Z
LAST-MODIFIED:20250804T182403Z
UID:57818-1759327200-1759330800@udenhout-centraal.nl
SUMMARY:Theatervoorstelling: Pas op voor de billenbijter! tijdens de Kinderboekenweek
DESCRIPTION:Elke avond rond de klok van acht uur\, kruipt er onder Fiep’s bed een heel gek figuur. De billenbijter\, de kakbouter\, het kusjesbeest en het poepiemonster komen tevoorschijn. Maar monsters onder je bed bestaan niet. Toch?\nPas op voor de billenbijter! is een gruwelijk grappige griezelvoorstelling gebaseerd op het boek van Lucas van de Meerendonk. Betreden op eigen risico! \nJoes\nJoes is op dit moment in theaters in Nederland en België te zien met haar solovoorstellingen Dikkie Dik en de taart\, Ik zou wel een kindje lusten\, Deze ridder zegt NEE\, Hé koe\, waar ga jij naartoe? en haar nieuwste show Pas op voor de Billenbijter!.\nHaar voorstellingen zijn bewerkingen van populaire prentenboeken. Al haar shows zijn interactief\, muzikaal en zitten vol humor voor jong en oud. \nToegang is gratis.
URL:https://udenhout-centraal.nl/evenement/theatervoorstelling-pas-op-voor-de-billenbijter-tijdens-de-kinderboekenweek/
LOCATION:de Bibliotheek Udenhout\, Tongerloplein 15\, Udenhout\, 5071 CX
CATEGORIES:Evenementen
END:VEVENT
BEGIN:VEVENT
DTSTART;TZID=Europe/Amsterdam:20251001T140000
DTEND;TZID=Europe/Amsterdam:20251001T160000
DTSTAMP:20260421T134723
CREATED:20250702T190937Z
LAST-MODIFIED:20250702T190937Z
UID:57602-1759327200-1759334400@udenhout-centraal.nl
SUMMARY:Handwerkcafé (vooraf aanmelden)
DESCRIPTION:Graag vooraf aanmelden via info@dewolbeer.nl of 06-20703255\nBreng je eigen haak- of breiwerk mee. \nKosten zijn incl. een kopje koffie of thee.
URL:https://udenhout-centraal.nl/evenement/handwerkcafe-vooraf-aanmelden-2/
LOCATION:De Peppel ingang Tuinstraat\, Tuinstraat 69\, Udenhout
CATEGORIES:Evenementen
END:VEVENT
END:VCALENDAR