BEGIN:VCALENDAR
VERSION:2.0
PRODID:-//Udenhout-Centraal - ECPv6.15.20//NONSGML v1.0//EN
CALSCALE:GREGORIAN
METHOD:PUBLISH
X-ORIGINAL-URL:https://udenhout-centraal.nl
X-WR-CALDESC:Evenementen voor Udenhout-Centraal
REFRESH-INTERVAL;VALUE=DURATION:PT1H
X-Robots-Tag:noindex
X-PUBLISHED-TTL:PT1H
BEGIN:VTIMEZONE
TZID:Europe/Amsterdam
BEGIN:DAYLIGHT
TZOFFSETFROM:+0100
TZOFFSETTO:+0200
TZNAME:CEST
DTSTART:20240331T010000
END:DAYLIGHT
BEGIN:STANDARD
TZOFFSETFROM:+0200
TZOFFSETTO:+0100
TZNAME:CET
DTSTART:20241027T010000
END:STANDARD
BEGIN:DAYLIGHT
TZOFFSETFROM:+0100
TZOFFSETTO:+0200
TZNAME:CEST
DTSTART:20250330T010000
END:DAYLIGHT
BEGIN:STANDARD
TZOFFSETFROM:+0200
TZOFFSETTO:+0100
TZNAME:CET
DTSTART:20251026T010000
END:STANDARD
BEGIN:DAYLIGHT
TZOFFSETFROM:+0100
TZOFFSETTO:+0200
TZNAME:CEST
DTSTART:20260329T010000
END:DAYLIGHT
BEGIN:STANDARD
TZOFFSETFROM:+0200
TZOFFSETTO:+0100
TZNAME:CET
DTSTART:20261025T010000
END:STANDARD
END:VTIMEZONE
BEGIN:VEVENT
DTSTART;VALUE=DATE:20251009
DTEND;VALUE=DATE:20251101
DTSTAMP:20260421T134827
CREATED:20251008T184309Z
LAST-MODIFIED:20251008T184309Z
UID:58384-1759975200-1761875999@udenhout-centraal.nl
SUMMARY:Herfst Speurtocht
DESCRIPTION:Door de storm zijn kabouters hun huisje kwijt. Help jij ze hun huisje terug te vinden?\nZoek in etalages voor de kabouter met het rood witte mutsje naar het rood witte huisje enz.
URL:https://udenhout-centraal.nl/evenement/herfst-speurtocht/
LOCATION:Dorpskern Udenhout\, Nederland
CATEGORIES:Evenementen
ORGANIZER;CN="Ondernemers Vereniging Udenhout":MAILTO:Info@welkominudenhout.nl
END:VEVENT
BEGIN:VEVENT
DTSTART;TZID=Europe/Amsterdam:20251009T130000
DTEND;TZID=Europe/Amsterdam:20251031T180000
DTSTAMP:20260421T134827
CREATED:20251008T184446Z
LAST-MODIFIED:20251008T184446Z
UID:58387-1760014800-1761933600@udenhout-centraal.nl
SUMMARY:Foto-expositie met oude en unieke foto's van het Raadhuis in Udenhout van Erfgoedcentrum 't Schoor in de Bibliotheek Udenhout
DESCRIPTION:In het kader van de Maand van de Geschiedenis is tot 31 oktober in de bibliotheek Udenhout een kleine foto-expositie te zien met oude en ook enkele unieke foto’s van het Raadhuis in Udenhout.
URL:https://udenhout-centraal.nl/evenement/foto-expositie-met-oude-en-unieke-fotos-van-het-raadhuis-in-udenhout-van-erfgoedcentrum-t-schoor-in-de-bibliotheek-udenhout/
LOCATION:de Bibliotheek Udenhout\, Tongerloplein 15\, Udenhout\, 5071 CX
CATEGORIES:Evenementen
END:VEVENT
BEGIN:VEVENT
DTSTART;VALUE=DATE:20251010
DTEND;VALUE=DATE:20251102
DTSTAMP:20260421T134827
CREATED:20251008T210519Z
LAST-MODIFIED:20251008T210519Z
UID:58399-1760061600-1761962399@udenhout-centraal.nl
SUMMARY:Herfst Speurtocht
DESCRIPTION:Door de storm zijn kabouters hun huisje kwijt. Help jij ze hun huisje terug te vinden?\nZoek in etalages voor de kabouter met het rood witte mutsje naar het rood witte huisje enz.
URL:https://udenhout-centraal.nl/evenement/herfst-speurtocht-2/
LOCATION:Dorpskern Udenhout\, Nederland
CATEGORIES:Evenementen
ORGANIZER;CN="Ondernemers Vereniging Udenhout":MAILTO:Info@welkominudenhout.nl
END:VEVENT
BEGIN:VEVENT
DTSTART;TZID=Europe/Amsterdam:20251010T130000
DTEND;TZID=Europe/Amsterdam:20251010T150000
DTSTAMP:20260421T134827
CREATED:20250913T131649Z
LAST-MODIFIED:20250913T131649Z
UID:58151-1760101200-1760108400@udenhout-centraal.nl
SUMMARY:Energieloket Udenhout
DESCRIPTION:Het loket voor al uw vragen over energie besparen en opwekken.
URL:https://udenhout-centraal.nl/evenement/energieloket-udenhout-6/
LOCATION:de Bibliotheek Udenhout\, Tongerloplein 15\, Udenhout\, 5071 CX
CATEGORIES:Evenementen
END:VEVENT
BEGIN:VEVENT
DTSTART;TZID=Europe/Amsterdam:20251010T130000
DTEND;TZID=Europe/Amsterdam:20251031T180000
DTSTAMP:20260421T134827
CREATED:20251008T210427Z
LAST-MODIFIED:20251012T145705Z
UID:58393-1760101200-1761933600@udenhout-centraal.nl
SUMMARY:Foto-expositie met oude en unieke foto's van het Raadhuis in Udenhout van Erfgoedcentrum 't Schoor in de Bibliotheek Udenhout
DESCRIPTION:In het kader van de Maand van de Geschiedenis is tot 31 oktober in de bibliotheek Udenhout een kleine foto-expositie te zien met oude en ook enkele unieke foto’s van het Raadhuis in Udenhout.
URL:https://udenhout-centraal.nl/evenement/foto-expositie-met-oude-en-unieke-fotos-van-het-raadhuis-in-udenhout-van-erfgoedcentrum-t-schoor-in-de-bibliotheek-udenhout-2/
LOCATION:de Bibliotheek Udenhout\, Tongerloplein 15\, Udenhout\, 5071 CX
CATEGORIES:Evenementen
END:VEVENT
BEGIN:VEVENT
DTSTART;TZID=Europe/Amsterdam:20251010T194500
DTEND;TZID=Europe/Amsterdam:20251010T230000
DTSTAMP:20260421T134827
CREATED:20250903T104507Z
LAST-MODIFIED:20250903T104507Z
UID:57977-1760125500-1760137200@udenhout-centraal.nl
SUMMARY:Bierproeverij Tripels bij 't Centrum
DESCRIPTION:Maak je klaar voor de 5e editie van de Bierbattle bij ’t Centrum in Udenhout! \nHet thema van deze avond is ’tripel’. De meeste bierdrinkers zullen bekend zijn met de Tripel Karmeliet; een kruidig bier met aardig wat alcohol! Maar er zijn nog veel meer heerlijke tripels verkrijgbaar\, en varianten hierop. Voor de bierproeverij van 10 oktober hebben Jens en Chiara 6 fantastische\, uiteenlopende tripel-bieren geselecteerd! Ze voorzien álle bieren van een goed verhaal\, want het ene bier is het andere niet. Daarmee strijden ze tegen elkaar om te laten zien wie de beste biersmaak en -kennis heeft en beantwoorden al jouw biervragen. Maar dat niet alleen: ze dagen jou uit je bierkennis te delen\, want zo kan jij punten scoren en word je misschien wel dé bierkenner van de avond… \nUiteraard verzorgen de koks van ’t Centrum heerlijke bijpassende hapjes bij ieder bier. Dat kan maar één ding betekenen: het wordt een avondje genieten. Proef je mee?
URL:https://udenhout-centraal.nl/evenement/bierproeverij-tripels-bij-t-centrum/
LOCATION:Café t Centrum\, Slimstraat 1\, Udenhout
CATEGORIES:Evenementen
END:VEVENT
END:VCALENDAR