BEGIN:VCALENDAR
VERSION:2.0
PRODID:-//Udenhout-Centraal - ECPv6.15.20//NONSGML v1.0//EN
CALSCALE:GREGORIAN
METHOD:PUBLISH
X-ORIGINAL-URL:https://udenhout-centraal.nl
X-WR-CALDESC:Evenementen voor Udenhout-Centraal
REFRESH-INTERVAL;VALUE=DURATION:PT1H
X-Robots-Tag:noindex
X-PUBLISHED-TTL:PT1H
BEGIN:VTIMEZONE
TZID:Europe/Amsterdam
BEGIN:DAYLIGHT
TZOFFSETFROM:+0100
TZOFFSETTO:+0200
TZNAME:CEST
DTSTART:20240331T010000
END:DAYLIGHT
BEGIN:STANDARD
TZOFFSETFROM:+0200
TZOFFSETTO:+0100
TZNAME:CET
DTSTART:20241027T010000
END:STANDARD
BEGIN:DAYLIGHT
TZOFFSETFROM:+0100
TZOFFSETTO:+0200
TZNAME:CEST
DTSTART:20250330T010000
END:DAYLIGHT
BEGIN:STANDARD
TZOFFSETFROM:+0200
TZOFFSETTO:+0100
TZNAME:CET
DTSTART:20251026T010000
END:STANDARD
BEGIN:DAYLIGHT
TZOFFSETFROM:+0100
TZOFFSETTO:+0200
TZNAME:CEST
DTSTART:20260329T010000
END:DAYLIGHT
BEGIN:STANDARD
TZOFFSETFROM:+0200
TZOFFSETTO:+0100
TZNAME:CET
DTSTART:20261025T010000
END:STANDARD
END:VTIMEZONE
BEGIN:VEVENT
DTSTART;VALUE=DATE:20251009
DTEND;VALUE=DATE:20251101
DTSTAMP:20260421T134827
CREATED:20251008T184309Z
LAST-MODIFIED:20251008T184309Z
UID:58384-1759975200-1761875999@udenhout-centraal.nl
SUMMARY:Herfst Speurtocht
DESCRIPTION:Door de storm zijn kabouters hun huisje kwijt. Help jij ze hun huisje terug te vinden?\nZoek in etalages voor de kabouter met het rood witte mutsje naar het rood witte huisje enz.
URL:https://udenhout-centraal.nl/evenement/herfst-speurtocht/
LOCATION:Dorpskern Udenhout\, Nederland
CATEGORIES:Evenementen
ORGANIZER;CN="Ondernemers Vereniging Udenhout":MAILTO:Info@welkominudenhout.nl
END:VEVENT
BEGIN:VEVENT
DTSTART;TZID=Europe/Amsterdam:20251009T130000
DTEND;TZID=Europe/Amsterdam:20251031T180000
DTSTAMP:20260421T134827
CREATED:20251008T184446Z
LAST-MODIFIED:20251008T184446Z
UID:58387-1760014800-1761933600@udenhout-centraal.nl
SUMMARY:Foto-expositie met oude en unieke foto's van het Raadhuis in Udenhout van Erfgoedcentrum 't Schoor in de Bibliotheek Udenhout
DESCRIPTION:In het kader van de Maand van de Geschiedenis is tot 31 oktober in de bibliotheek Udenhout een kleine foto-expositie te zien met oude en ook enkele unieke foto’s van het Raadhuis in Udenhout.
URL:https://udenhout-centraal.nl/evenement/foto-expositie-met-oude-en-unieke-fotos-van-het-raadhuis-in-udenhout-van-erfgoedcentrum-t-schoor-in-de-bibliotheek-udenhout/
LOCATION:de Bibliotheek Udenhout\, Tongerloplein 15\, Udenhout\, 5071 CX
CATEGORIES:Evenementen
END:VEVENT
BEGIN:VEVENT
DTSTART;VALUE=DATE:20251010
DTEND;VALUE=DATE:20251102
DTSTAMP:20260421T134827
CREATED:20251008T210519Z
LAST-MODIFIED:20251008T210519Z
UID:58399-1760061600-1761962399@udenhout-centraal.nl
SUMMARY:Herfst Speurtocht
DESCRIPTION:Door de storm zijn kabouters hun huisje kwijt. Help jij ze hun huisje terug te vinden?\nZoek in etalages voor de kabouter met het rood witte mutsje naar het rood witte huisje enz.
URL:https://udenhout-centraal.nl/evenement/herfst-speurtocht-2/
LOCATION:Dorpskern Udenhout\, Nederland
CATEGORIES:Evenementen
ORGANIZER;CN="Ondernemers Vereniging Udenhout":MAILTO:Info@welkominudenhout.nl
END:VEVENT
BEGIN:VEVENT
DTSTART;TZID=Europe/Amsterdam:20251010T130000
DTEND;TZID=Europe/Amsterdam:20251031T180000
DTSTAMP:20260421T134827
CREATED:20251008T210427Z
LAST-MODIFIED:20251012T145705Z
UID:58393-1760101200-1761933600@udenhout-centraal.nl
SUMMARY:Foto-expositie met oude en unieke foto's van het Raadhuis in Udenhout van Erfgoedcentrum 't Schoor in de Bibliotheek Udenhout
DESCRIPTION:In het kader van de Maand van de Geschiedenis is tot 31 oktober in de bibliotheek Udenhout een kleine foto-expositie te zien met oude en ook enkele unieke foto’s van het Raadhuis in Udenhout.
URL:https://udenhout-centraal.nl/evenement/foto-expositie-met-oude-en-unieke-fotos-van-het-raadhuis-in-udenhout-van-erfgoedcentrum-t-schoor-in-de-bibliotheek-udenhout-2/
LOCATION:de Bibliotheek Udenhout\, Tongerloplein 15\, Udenhout\, 5071 CX
CATEGORIES:Evenementen
END:VEVENT
BEGIN:VEVENT
DTSTART;VALUE=DATE:20251011
DTEND;VALUE=DATE:20251103
DTSTAMP:20260421T134827
CREATED:20251008T210529Z
LAST-MODIFIED:20251008T210529Z
UID:58402-1760148000-1762048799@udenhout-centraal.nl
SUMMARY:Herfst Speurtocht
DESCRIPTION:Door de storm zijn kabouters hun huisje kwijt. Help jij ze hun huisje terug te vinden?\nZoek in etalages voor de kabouter met het rood witte mutsje naar het rood witte huisje enz.
URL:https://udenhout-centraal.nl/evenement/herfst-speurtocht-3/
LOCATION:Dorpskern Udenhout\, Nederland
CATEGORIES:Evenementen
ORGANIZER;CN="Ondernemers Vereniging Udenhout":MAILTO:Info@welkominudenhout.nl
END:VEVENT
BEGIN:VEVENT
DTSTART;VALUE=DATE:20251012
DTEND;VALUE=DATE:20251031
DTSTAMP:20260421T134827
CREATED:20251008T210539Z
LAST-MODIFIED:20251012T164828Z
UID:58405-1760234400-1761789599@udenhout-centraal.nl
SUMMARY:Herfst Speurtocht
DESCRIPTION:Door de storm zijn kabouters hun huisje kwijt. Help jij ze hun huisje terug te vinden?\nZoek in etalages voor de kabouter met het rood witte mutsje naar het rood witte huisje enz.
URL:https://udenhout-centraal.nl/evenement/herfst-speurtocht-4/
LOCATION:Dorpskern Udenhout\, Nederland
CATEGORIES:Evenementen
ORGANIZER;CN="Ondernemers Vereniging Udenhout":MAILTO:Info@welkominudenhout.nl
END:VEVENT
BEGIN:VEVENT
DTSTART;VALUE=DATE:20251013
DTEND;VALUE=DATE:20251031
DTSTAMP:20260421T134827
CREATED:20251012T162234Z
LAST-MODIFIED:20251012T162234Z
UID:58476-1760320800-1761789599@udenhout-centraal.nl
SUMMARY:Herfst Speurtocht
DESCRIPTION:Door de storm zijn kabouters hun huisje kwijt. Help jij ze hun huisje terug te vinden?\nZoek in etalages voor de kabouter met het rood witte mutsje naar het rood witte huisje enz.\nSchrijf het hoedje op en waar je het gevonden hebt. Er zijn 5 leuke prijzen te winnen. \nLever de oplossing voor 30 oktober in bij “Echt Wel bij ons Kaat” .
URL:https://udenhout-centraal.nl/evenement/herfst-speurtocht-6/
LOCATION:Dorpskern Udenhout\, Nederland
CATEGORIES:Evenementen
ORGANIZER;CN="Ondernemers Vereniging Udenhout":MAILTO:Info@welkominudenhout.nl
END:VEVENT
BEGIN:VEVENT
DTSTART;TZID=Europe/Amsterdam:20251013T130000
DTEND;TZID=Europe/Amsterdam:20251104T180000
DTSTAMP:20260421T134827
CREATED:20251008T210440Z
LAST-MODIFIED:20251008T210440Z
UID:58396-1760360400-1762279200@udenhout-centraal.nl
SUMMARY:Foto-expositie met oude en unieke foto's van het Raadhuis in Udenhout van Erfgoedcentrum 't Schoor in de Bibliotheek Udenhout
DESCRIPTION:In het kader van de Maand van de Geschiedenis is tot 31 oktober in de bibliotheek Udenhout een kleine foto-expositie te zien met oude en ook enkele unieke foto’s van het Raadhuis in Udenhout.
URL:https://udenhout-centraal.nl/evenement/foto-expositie-met-oude-en-unieke-fotos-van-het-raadhuis-in-udenhout-van-erfgoedcentrum-t-schoor-in-de-bibliotheek-udenhout-3/
LOCATION:de Bibliotheek Udenhout\, Tongerloplein 15\, Udenhout\, 5071 CX
CATEGORIES:Evenementen
END:VEVENT
BEGIN:VEVENT
DTSTART;VALUE=DATE:20251014
DTEND;VALUE=DATE:20251031
DTSTAMP:20260421T134827
CREATED:20251012T162254Z
LAST-MODIFIED:20251012T162254Z
UID:58479-1760407200-1761789599@udenhout-centraal.nl
SUMMARY:Herfst Speurtocht
DESCRIPTION:Door de storm zijn kabouters hun huisje kwijt. Help jij ze hun huisje terug te vinden?\nZoek in etalages voor de kabouter met het rood witte mutsje naar het rood witte huisje enz.\nSchrijf het hoedje op en waar je het gevonden hebt. Er zijn 5 leuke prijzen te winnen. \nLever de oplossing voor 30 oktober in bij “Echt Wel bij ons Kaat” .
URL:https://udenhout-centraal.nl/evenement/herfst-speurtocht-7/
LOCATION:Dorpskern Udenhout\, Nederland
CATEGORIES:Evenementen
ORGANIZER;CN="Ondernemers Vereniging Udenhout":MAILTO:Info@welkominudenhout.nl
END:VEVENT
BEGIN:VEVENT
DTSTART;TZID=Europe/Amsterdam:20251014T130000
DTEND;TZID=Europe/Amsterdam:20251031T180000
DTSTAMP:20260421T134827
CREATED:20251012T145730Z
LAST-MODIFIED:20251012T145730Z
UID:58421-1760446800-1761933600@udenhout-centraal.nl
SUMMARY:Foto-expositie met oude en unieke foto's van het Raadhuis in Udenhout van Erfgoedcentrum 't Schoor in de Bibliotheek Udenhout
DESCRIPTION:In het kader van de Maand van de Geschiedenis is tot 31 oktober in de bibliotheek Udenhout een kleine foto-expositie te zien met oude en ook enkele unieke foto’s van het Raadhuis in Udenhout.
URL:https://udenhout-centraal.nl/evenement/foto-expositie-met-oude-en-unieke-fotos-van-het-raadhuis-in-udenhout-van-erfgoedcentrum-t-schoor-in-de-bibliotheek-udenhout-4/
LOCATION:de Bibliotheek Udenhout\, Tongerloplein 15\, Udenhout\, 5071 CX
CATEGORIES:Evenementen
END:VEVENT
BEGIN:VEVENT
DTSTART;VALUE=DATE:20251015
DTEND;VALUE=DATE:20251031
DTSTAMP:20260421T134827
CREATED:20251012T162317Z
LAST-MODIFIED:20251012T162317Z
UID:58482-1760493600-1761789599@udenhout-centraal.nl
SUMMARY:Herfst Speurtocht
DESCRIPTION:Door de storm zijn kabouters hun huisje kwijt. Help jij ze hun huisje terug te vinden?\nZoek in etalages voor de kabouter met het rood witte mutsje naar het rood witte huisje enz.\nSchrijf het hoedje op en waar je het gevonden hebt. Er zijn 5 leuke prijzen te winnen. \nLever de oplossing voor 30 oktober in bij “Echt Wel bij ons Kaat” .
URL:https://udenhout-centraal.nl/evenement/herfst-speurtocht-8/
LOCATION:Dorpskern Udenhout\, Nederland
CATEGORIES:Evenementen
ORGANIZER;CN="Ondernemers Vereniging Udenhout":MAILTO:Info@welkominudenhout.nl
END:VEVENT
BEGIN:VEVENT
DTSTART;TZID=Europe/Amsterdam:20251015T130000
DTEND;TZID=Europe/Amsterdam:20251031T180000
DTSTAMP:20260421T134827
CREATED:20251012T145746Z
LAST-MODIFIED:20251012T145746Z
UID:58424-1760533200-1761933600@udenhout-centraal.nl
SUMMARY:Foto-expositie met oude en unieke foto's van het Raadhuis in Udenhout van Erfgoedcentrum 't Schoor in de Bibliotheek Udenhout
DESCRIPTION:In het kader van de Maand van de Geschiedenis is tot 31 oktober in de bibliotheek Udenhout een kleine foto-expositie te zien met oude en ook enkele unieke foto’s van het Raadhuis in Udenhout.
URL:https://udenhout-centraal.nl/evenement/foto-expositie-met-oude-en-unieke-fotos-van-het-raadhuis-in-udenhout-van-erfgoedcentrum-t-schoor-in-de-bibliotheek-udenhout-5/
LOCATION:de Bibliotheek Udenhout\, Tongerloplein 15\, Udenhout\, 5071 CX
CATEGORIES:Evenementen
END:VEVENT
BEGIN:VEVENT
DTSTART;VALUE=DATE:20251016
DTEND;VALUE=DATE:20251031
DTSTAMP:20260421T134827
CREATED:20251012T162331Z
LAST-MODIFIED:20251012T162331Z
UID:58485-1760580000-1761789599@udenhout-centraal.nl
SUMMARY:Herfst Speurtocht
DESCRIPTION:Door de storm zijn kabouters hun huisje kwijt. Help jij ze hun huisje terug te vinden?\nZoek in etalages voor de kabouter met het rood witte mutsje naar het rood witte huisje enz.\nSchrijf het hoedje op en waar je het gevonden hebt. Er zijn 5 leuke prijzen te winnen. \nLever de oplossing voor 30 oktober in bij “Echt Wel bij ons Kaat” .
URL:https://udenhout-centraal.nl/evenement/herfst-speurtocht-9/
LOCATION:Dorpskern Udenhout\, Nederland
CATEGORIES:Evenementen
ORGANIZER;CN="Ondernemers Vereniging Udenhout":MAILTO:Info@welkominudenhout.nl
END:VEVENT
BEGIN:VEVENT
DTSTART;TZID=Europe/Amsterdam:20251016T130000
DTEND;TZID=Europe/Amsterdam:20251031T180000
DTSTAMP:20260421T134827
CREATED:20251012T145804Z
LAST-MODIFIED:20251012T145804Z
UID:58427-1760619600-1761933600@udenhout-centraal.nl
SUMMARY:Foto-expositie met oude en unieke foto's van het Raadhuis in Udenhout van Erfgoedcentrum 't Schoor in de Bibliotheek Udenhout
DESCRIPTION:In het kader van de Maand van de Geschiedenis is tot 31 oktober in de bibliotheek Udenhout een kleine foto-expositie te zien met oude en ook enkele unieke foto’s van het Raadhuis in Udenhout.
URL:https://udenhout-centraal.nl/evenement/foto-expositie-met-oude-en-unieke-fotos-van-het-raadhuis-in-udenhout-van-erfgoedcentrum-t-schoor-in-de-bibliotheek-udenhout-6/
LOCATION:de Bibliotheek Udenhout\, Tongerloplein 15\, Udenhout\, 5071 CX
CATEGORIES:Evenementen
END:VEVENT
BEGIN:VEVENT
DTSTART;VALUE=DATE:20251017
DTEND;VALUE=DATE:20251031
DTSTAMP:20260421T134827
CREATED:20251012T162347Z
LAST-MODIFIED:20251012T162347Z
UID:58488-1760666400-1761789599@udenhout-centraal.nl
SUMMARY:Herfst Speurtocht
DESCRIPTION:Door de storm zijn kabouters hun huisje kwijt. Help jij ze hun huisje terug te vinden?\nZoek in etalages voor de kabouter met het rood witte mutsje naar het rood witte huisje enz.\nSchrijf het hoedje op en waar je het gevonden hebt. Er zijn 5 leuke prijzen te winnen. \nLever de oplossing voor 30 oktober in bij “Echt Wel bij ons Kaat” .
URL:https://udenhout-centraal.nl/evenement/herfst-speurtocht-10/
LOCATION:Dorpskern Udenhout\, Nederland
CATEGORIES:Evenementen
ORGANIZER;CN="Ondernemers Vereniging Udenhout":MAILTO:Info@welkominudenhout.nl
END:VEVENT
BEGIN:VEVENT
DTSTART;TZID=Europe/Amsterdam:20251017T130000
DTEND;TZID=Europe/Amsterdam:20251031T180000
DTSTAMP:20260421T134827
CREATED:20251012T145824Z
LAST-MODIFIED:20251012T145824Z
UID:58430-1760706000-1761933600@udenhout-centraal.nl
SUMMARY:Foto-expositie met oude en unieke foto's van het Raadhuis in Udenhout van Erfgoedcentrum 't Schoor in de Bibliotheek Udenhout
DESCRIPTION:In het kader van de Maand van de Geschiedenis is tot 31 oktober in de bibliotheek Udenhout een kleine foto-expositie te zien met oude en ook enkele unieke foto’s van het Raadhuis in Udenhout.
URL:https://udenhout-centraal.nl/evenement/foto-expositie-met-oude-en-unieke-fotos-van-het-raadhuis-in-udenhout-van-erfgoedcentrum-t-schoor-in-de-bibliotheek-udenhout-7/
LOCATION:de Bibliotheek Udenhout\, Tongerloplein 15\, Udenhout\, 5071 CX
CATEGORIES:Evenementen
END:VEVENT
BEGIN:VEVENT
DTSTART;VALUE=DATE:20251018
DTEND;VALUE=DATE:20251031
DTSTAMP:20260421T134827
CREATED:20251012T162402Z
LAST-MODIFIED:20251012T162402Z
UID:58491-1760752800-1761789599@udenhout-centraal.nl
SUMMARY:Herfst Speurtocht
DESCRIPTION:Door de storm zijn kabouters hun huisje kwijt. Help jij ze hun huisje terug te vinden?\nZoek in etalages voor de kabouter met het rood witte mutsje naar het rood witte huisje enz.\nSchrijf het hoedje op en waar je het gevonden hebt. Er zijn 5 leuke prijzen te winnen. \nLever de oplossing voor 30 oktober in bij “Echt Wel bij ons Kaat” .
URL:https://udenhout-centraal.nl/evenement/herfst-speurtocht-11/
LOCATION:Dorpskern Udenhout\, Nederland
CATEGORIES:Evenementen
ORGANIZER;CN="Ondernemers Vereniging Udenhout":MAILTO:Info@welkominudenhout.nl
END:VEVENT
BEGIN:VEVENT
DTSTART;TZID=Europe/Amsterdam:20251018T130000
DTEND;TZID=Europe/Amsterdam:20251018T170000
DTSTAMP:20260421T134827
CREATED:20250716T141352Z
LAST-MODIFIED:20250716T141352Z
UID:57750-1760792400-1760806800@udenhout-centraal.nl
SUMMARY:Jeu de Boules Mini-Mix over 3 speelrondes
DESCRIPTION:Een Jeu de Boules Mini-Mix over 3 speelrondes. Iedereen kan zich hiervoor inschrijven op de dag van het toernooi in de kantine van Petanque Vereniging VOP op Sportpark Zeshoeven. U hoeft geen lid te zijn van een (Jeu de Boules) vereniging. Prijzen in natura.\nDeelname: € 2\,50 p.p. 
URL:https://udenhout-centraal.nl/evenement/jeu-de-boules-mini-mix-over-3-speelrondes/
LOCATION:Petanquevereniging VOP\, Sportpark Zeshoeven\, Sportlaan 15e\, Udenhout
CATEGORIES:Evenementen
ORGANIZER;CN="Petanque vereniging Voor Ons Plezier":MAILTO:hans_verhagen@wxs.nl
END:VEVENT
BEGIN:VEVENT
DTSTART;TZID=Europe/Amsterdam:20251018T130000
DTEND;TZID=Europe/Amsterdam:20251031T180000
DTSTAMP:20260421T134827
CREATED:20251012T145855Z
LAST-MODIFIED:20251012T150412Z
UID:58433-1760792400-1761933600@udenhout-centraal.nl
SUMMARY:Foto-expositie met oude en unieke foto's van het Raadhuis in Udenhout van Erfgoedcentrum 't Schoor in de Bibliotheek Udenhout
DESCRIPTION:In het kader van de Maand van de Geschiedenis is tot 31 oktober in de bibliotheek Udenhout een kleine foto-expositie te zien met oude en ook enkele unieke foto’s van het Raadhuis in Udenhout.
URL:https://udenhout-centraal.nl/evenement/foto-expositie-met-oude-en-unieke-fotos-van-het-raadhuis-in-udenhout-van-erfgoedcentrum-t-schoor-in-de-bibliotheek-udenhout-8/
LOCATION:de Bibliotheek Udenhout\, Tongerloplein 15\, Udenhout\, 5071 CX
CATEGORIES:Evenementen
END:VEVENT
END:VCALENDAR