BEGIN:VCALENDAR
VERSION:2.0
PRODID:-//Udenhout-Centraal - ECPv6.15.20//NONSGML v1.0//EN
CALSCALE:GREGORIAN
METHOD:PUBLISH
X-ORIGINAL-URL:https://udenhout-centraal.nl
X-WR-CALDESC:Evenementen voor Udenhout-Centraal
REFRESH-INTERVAL;VALUE=DURATION:PT1H
X-Robots-Tag:noindex
X-PUBLISHED-TTL:PT1H
BEGIN:VTIMEZONE
TZID:Europe/Amsterdam
BEGIN:DAYLIGHT
TZOFFSETFROM:+0100
TZOFFSETTO:+0200
TZNAME:CEST
DTSTART:20240331T010000
END:DAYLIGHT
BEGIN:STANDARD
TZOFFSETFROM:+0200
TZOFFSETTO:+0100
TZNAME:CET
DTSTART:20241027T010000
END:STANDARD
BEGIN:DAYLIGHT
TZOFFSETFROM:+0100
TZOFFSETTO:+0200
TZNAME:CEST
DTSTART:20250330T010000
END:DAYLIGHT
BEGIN:STANDARD
TZOFFSETFROM:+0200
TZOFFSETTO:+0100
TZNAME:CET
DTSTART:20251026T010000
END:STANDARD
BEGIN:DAYLIGHT
TZOFFSETFROM:+0100
TZOFFSETTO:+0200
TZNAME:CEST
DTSTART:20260329T010000
END:DAYLIGHT
BEGIN:STANDARD
TZOFFSETFROM:+0200
TZOFFSETTO:+0100
TZNAME:CET
DTSTART:20261025T010000
END:STANDARD
END:VTIMEZONE
BEGIN:VEVENT
DTSTART;TZID=Europe/Amsterdam:20251121T093000
DTEND;TZID=Europe/Amsterdam:20251121T123000
DTSTAMP:20260421T111817
CREATED:20251017T101727Z
LAST-MODIFIED:20251017T101727Z
UID:58611-1763717400-1763728200@udenhout-centraal.nl
SUMMARY:Gratis workshop: Handiger worden met de e-reader in de Bibliotheek Udenhout
DESCRIPTION:Steeds meer mensen lezen boeken digitaal. Maar hoe werkt een e-reader precies?\nEn hoe leen je eenvoudig e-books bij de bibliotheek? Tijdens de workshop ‘Handiger worden met de e-reader’ in de Bibliotheek Udenhout krijg je praktische tips en persoonlijke begeleiding. \nIn kleine groepen leren deelnemers stap voor stap:\n• hoe je je e-reader instelt om boeken te lenen\,\n• hoe je e-books kunt lenen bij de bibliotheek\,\n• hoe je e-books kunt kopen\,\n• en hoe de website www.onlinebibliotheek.nl werkt. \nDe workshop duurt maximaal drie uur en bestaat uit uitleg\, oefenen en een pauze.\nDeelnemers nemen hun eigen e-reader en – indien mogelijk -laptop mee. Wie geen laptop heeft\, kan er een lenen van de bibliotheek. Belangrijk om te weten: de workshop is niet geschikt voor Kindle (Amazon)\, tablets of telefoons.\nDeelname is gratis en ook niet-leden van de bibliotheek zijn welkom. \nVoor wie?\nDe workshop is bedoeld voor iedereen die al een beetje met de computer overweg kan.\nWie eerst meer basiskennis wil opdoen\, kan deelnemen aan de speciale cursussen basisvaardigheden van de bibliotheek: www.bibliotheekmb.nl/basisvaardigheden.\nMeld je gratis aan.\nDe workshop op 21 november is gratis voor iedereen\, ook als je geen lid bent van de Bibliotheek. Aanmelden kan via de website van Bibliotheek: www.bibliotheekmb.nl/basisvaardigheden.\nLukt dit niet online? Geen probleem – inschrijven kan ook in de bibliotheek zelf of telefonisch via 013-5116550.
URL:https://udenhout-centraal.nl/evenement/gratis-workshop-handiger-worden-met-de-e-reader-in-de-bibliotheek-udenhout/
LOCATION:de Bibliotheek Udenhout\, Tongerloplein 15\, Udenhout\, 5071 CX
CATEGORIES:Evenementen
END:VEVENT
BEGIN:VEVENT
DTSTART;TZID=Europe/Amsterdam:20251121T130000
DTEND;TZID=Europe/Amsterdam:20251121T150000
DTSTAMP:20260421T111817
CREATED:20250913T131754Z
LAST-MODIFIED:20250913T131754Z
UID:58166-1763730000-1763737200@udenhout-centraal.nl
SUMMARY:Energieloket Udenhout
DESCRIPTION:Het loket voor al uw vragen over energie besparen en opwekken.
URL:https://udenhout-centraal.nl/evenement/energieloket-udenhout-11/
LOCATION:de Bibliotheek Udenhout\, Tongerloplein 15\, Udenhout\, 5071 CX
CATEGORIES:Evenementen
END:VEVENT
END:VCALENDAR