BEGIN:VCALENDAR
VERSION:2.0
PRODID:-//Udenhout-Centraal - ECPv6.15.20//NONSGML v1.0//EN
CALSCALE:GREGORIAN
METHOD:PUBLISH
X-WR-CALNAME:Udenhout-Centraal
X-ORIGINAL-URL:https://udenhout-centraal.nl
X-WR-CALDESC:Evenementen voor Udenhout-Centraal
REFRESH-INTERVAL;VALUE=DURATION:PT1H
X-Robots-Tag:noindex
X-PUBLISHED-TTL:PT1H
BEGIN:VTIMEZONE
TZID:Europe/Amsterdam
BEGIN:DAYLIGHT
TZOFFSETFROM:+0100
TZOFFSETTO:+0200
TZNAME:CEST
DTSTART:20240331T010000
END:DAYLIGHT
BEGIN:STANDARD
TZOFFSETFROM:+0200
TZOFFSETTO:+0100
TZNAME:CET
DTSTART:20241027T010000
END:STANDARD
BEGIN:DAYLIGHT
TZOFFSETFROM:+0100
TZOFFSETTO:+0200
TZNAME:CEST
DTSTART:20250330T010000
END:DAYLIGHT
BEGIN:STANDARD
TZOFFSETFROM:+0200
TZOFFSETTO:+0100
TZNAME:CET
DTSTART:20251026T010000
END:STANDARD
BEGIN:DAYLIGHT
TZOFFSETFROM:+0100
TZOFFSETTO:+0200
TZNAME:CEST
DTSTART:20260329T010000
END:DAYLIGHT
BEGIN:STANDARD
TZOFFSETFROM:+0200
TZOFFSETTO:+0100
TZNAME:CET
DTSTART:20261025T010000
END:STANDARD
END:VTIMEZONE
BEGIN:VEVENT
DTSTART;TZID=Europe/Amsterdam:20251122T200000
DTEND;TZID=Europe/Amsterdam:20251122T223000
DTSTAMP:20260421T111621
CREATED:20251026T105932Z
LAST-MODIFIED:20251026T105932Z
UID:58629-1763841600-1763850600@udenhout-centraal.nl
SUMMARY:Optreden Koor Pistache Tilburg
DESCRIPTION:Op 22 & 23 november geeft Koor Pistache een sprankelende uitvoering vol muzikale diversiteit.\nLaat je meevoeren door warme klanken\, verrassende arrangementen en de energie van ons enthousiaste koor.\nEntree: € 17.50 (incl 1 consumptie bij binnenkomst)
URL:https://udenhout-centraal.nl/evenement/optreden-koor-pistache-tilburg/
LOCATION:’t Plein\, Tongerloplein 1\, Udenhout
CATEGORIES:Evenementen
ORGANIZER;CN="Koor Pistache Tilburg":MAILTO:koor.pistache@gmail.com
END:VEVENT
END:VCALENDAR