BEGIN:VCALENDAR
VERSION:2.0
PRODID:-//Udenhout-Centraal - ECPv6.15.20//NONSGML v1.0//EN
CALSCALE:GREGORIAN
METHOD:PUBLISH
X-ORIGINAL-URL:https://udenhout-centraal.nl
X-WR-CALDESC:Evenementen voor Udenhout-Centraal
REFRESH-INTERVAL;VALUE=DURATION:PT1H
X-Robots-Tag:noindex
X-PUBLISHED-TTL:PT1H
BEGIN:VTIMEZONE
TZID:Europe/Amsterdam
BEGIN:DAYLIGHT
TZOFFSETFROM:+0100
TZOFFSETTO:+0200
TZNAME:CEST
DTSTART:20240331T010000
END:DAYLIGHT
BEGIN:STANDARD
TZOFFSETFROM:+0200
TZOFFSETTO:+0100
TZNAME:CET
DTSTART:20241027T010000
END:STANDARD
BEGIN:DAYLIGHT
TZOFFSETFROM:+0100
TZOFFSETTO:+0200
TZNAME:CEST
DTSTART:20250330T010000
END:DAYLIGHT
BEGIN:STANDARD
TZOFFSETFROM:+0200
TZOFFSETTO:+0100
TZNAME:CET
DTSTART:20251026T010000
END:STANDARD
BEGIN:DAYLIGHT
TZOFFSETFROM:+0100
TZOFFSETTO:+0200
TZNAME:CEST
DTSTART:20260329T010000
END:DAYLIGHT
BEGIN:STANDARD
TZOFFSETFROM:+0200
TZOFFSETTO:+0100
TZNAME:CET
DTSTART:20261025T010000
END:STANDARD
END:VTIMEZONE
BEGIN:VEVENT
DTSTART;TZID=Europe/Amsterdam:20251126T193000
DTEND;TZID=Europe/Amsterdam:20251126T210000
DTSTAMP:20260421T111821
CREATED:20251017T101321Z
LAST-MODIFIED:20251017T101321Z
UID:58606-1764185400-1764190800@udenhout-centraal.nl
SUMMARY:"Wat verbindt ons" - de Bibliotheek Udenhout organiseert verhalenavond over Suriname en 50 jaar onafhankelijkheid
DESCRIPTION:Op woensdag 26 november organiseert Bibliotheek Udenhout een bijzondere verhalenavond onder de titel Wat verbindt ons\, in het kader van de landelijkecampagne Heel Nederland Leest.\nCentraal staat het boek Onder de Paramariboom van Johan Fretz\, waarin Suriname een belangrijke rol speelt. De avond sluit aan bij het feit dat Suriname op 25 november 2025 precies 50 jaar onafhankelijk is. \nTijdens deze avond delen drie bijzondere gasten hun kennis en verhalen:\n• Schrijfster Rihana Jamaludin laat zich in haar werk inspireren door Suriname en de multiculturele samenleving in Nederland. Ze schreef onder andere De Zwarte Lord\, Kuis en Luchtdanser. Dit najaar verschijnt haar nieuwste boek Schaduwtemmer.\n• Historicus Eric Kastelein vertelt over het slavernijverleden en de geschiedenis van Hindostaanse contractarbeiders in Suriname. Zijn lezing is gebaseerd op zijn boek Oog in oog met Paramaribo\, waarin hij het herinneringserfgoed van Suriname tot leven brengt met ruim honderd verhalen en foto’s.\n• Lenie van Spelde deelt haar persoonlijke reisverslag en foto’s van Suriname. Haar verhaal laat zien hoe individuele ervaringen kunnen bijdragen aan een breder begrip van cultuur en geschiedenis. \nDe bibliotheek nodigt ook andere bezoekers uit om hun eigen waargebeurde verhalen te delen. Heb jij een bijzondere ervaring die je wilt vertellen? Laat het ons weten!\nDe avond biedt ruimte voor ontmoeting\, reflectie en verbinding\, met verhalen\, hapjes en gezelligheid in de bibliotheek. \nToegang: Gratis alleen aanmelden is verplicht via: bibliotheekmb.nl/udenhout-agendabibliotheekmb.nl/udenhout-agenda
URL:https://udenhout-centraal.nl/evenement/wat-verbindt-ons-de-bibliotheek-udenhout-organiseert-verhalenavond-over-suriname-en-50-jaar-onafhankelijkheid/
LOCATION:de Bibliotheek Udenhout\, Tongerloplein 15\, Udenhout\, 5071 CX
CATEGORIES:Evenementen
END:VEVENT
END:VCALENDAR