BEGIN:VCALENDAR
VERSION:2.0
PRODID:-//Udenhout-Centraal - ECPv6.15.20//NONSGML v1.0//EN
CALSCALE:GREGORIAN
METHOD:PUBLISH
X-WR-CALNAME:Udenhout-Centraal
X-ORIGINAL-URL:https://udenhout-centraal.nl
X-WR-CALDESC:Evenementen voor Udenhout-Centraal
REFRESH-INTERVAL;VALUE=DURATION:PT1H
X-Robots-Tag:noindex
X-PUBLISHED-TTL:PT1H
BEGIN:VTIMEZONE
TZID:Europe/Amsterdam
BEGIN:DAYLIGHT
TZOFFSETFROM:+0100
TZOFFSETTO:+0200
TZNAME:CEST
DTSTART:20240331T010000
END:DAYLIGHT
BEGIN:STANDARD
TZOFFSETFROM:+0200
TZOFFSETTO:+0100
TZNAME:CET
DTSTART:20241027T010000
END:STANDARD
BEGIN:DAYLIGHT
TZOFFSETFROM:+0100
TZOFFSETTO:+0200
TZNAME:CEST
DTSTART:20250330T010000
END:DAYLIGHT
BEGIN:STANDARD
TZOFFSETFROM:+0200
TZOFFSETTO:+0100
TZNAME:CET
DTSTART:20251026T010000
END:STANDARD
BEGIN:DAYLIGHT
TZOFFSETFROM:+0100
TZOFFSETTO:+0200
TZNAME:CEST
DTSTART:20260329T010000
END:DAYLIGHT
BEGIN:STANDARD
TZOFFSETFROM:+0200
TZOFFSETTO:+0100
TZNAME:CET
DTSTART:20261025T010000
END:STANDARD
END:VTIMEZONE
BEGIN:VEVENT
DTSTART;TZID=Europe/Amsterdam:20251130T120000
DTEND;TZID=Europe/Amsterdam:20251130T150000
DTSTAMP:20260421T140439
CREATED:20251021T151256Z
LAST-MODIFIED:20251021T151256Z
UID:58621-1764504000-1764514800@udenhout-centraal.nl
SUMMARY:Sinterklaas op het Kasteel
DESCRIPTION:Gratis Sinterklaas evenement bij Kasteel de Strijdhoef. \nVeel leuke activiteiten voor de hele familie op het voorterrein van het Kasteel…. en misschien kun je Sinterklaas ín het kasteel ook nog wel gaan ontmoeten! \nHet evenement draait op de vrijwillige bijdrage van bezoekers die na afloop weer heel blij en gelukkig naar huis toe gaan…!!!\n(Zowel contant als digitaal mogelijk)  \n 
URL:https://udenhout-centraal.nl/evenement/sinterklaas-op-het-kasteel/
LOCATION:Kasteel de Strijdhoef\, Schoorstraat 14\, Udenhout\, 5071 RA
CATEGORIES:Evenementen
END:VEVENT
BEGIN:VEVENT
DTSTART;TZID=Europe/Amsterdam:20251130T120000
DTEND;TZID=Europe/Amsterdam:20251130T150000
DTSTAMP:20260421T140439
CREATED:20251026T110829Z
LAST-MODIFIED:20251026T110829Z
UID:58654-1764504000-1764514800@udenhout-centraal.nl
SUMMARY:Sinterklaas op het Kasteel
DESCRIPTION:Ieder jaar komt sinterklaas op het kasteel logeren en opent het kasteel zijn poorten. Ook dit jaar weer! Tijdens het evenement nemen kinderen een kijkje in de wereld van Sinterklaas. Zij brengen een bezoek aan Sinterklaas zelf\, die in het kasteel aanwezig is\, en beleven onderweg een toneelstuk of tafereel met pieten in een jaarlijks wisselend thema. Denk hierbij aan een keuken waar alles misloopt of een goochelpiet die zijn kunsten vertoont.\nNaast het bezoek aan Sinterklaas zijn er tal van activiteiten. Kinderen spelen kleine\, vaak Oud-Hollandse spelletjes zoals kegels omgooien of vier-op-een-rij\, en er is altijd de mogelijkheid om zich te laten schminken. Ook zorgen we voor een kleine traktatie\, zoals poffertjes of een eierkoek die kinderen zelf mogen versieren. Natuurlijk ontbreken de vrolijke pieten en de pepernoten niet. Elk kind ontvangt een stempelkaart waarmee zij eenvoudig kunnen zien welke activiteiten zij al gedaan hebben.
URL:https://udenhout-centraal.nl/evenement/sinterklaas-op-het-kasteel-2/
LOCATION:Kasteel de Strijdhoef\, Schoorstraat 14\, Udenhout\, 5071 RA
CATEGORIES:Evenementen
END:VEVENT
END:VCALENDAR