BEGIN:VCALENDAR
VERSION:2.0
PRODID:-//Udenhout-Centraal - ECPv6.15.20//NONSGML v1.0//EN
CALSCALE:GREGORIAN
METHOD:PUBLISH
X-ORIGINAL-URL:https://udenhout-centraal.nl
X-WR-CALDESC:Evenementen voor Udenhout-Centraal
REFRESH-INTERVAL;VALUE=DURATION:PT1H
X-Robots-Tag:noindex
X-PUBLISHED-TTL:PT1H
BEGIN:VTIMEZONE
TZID:Europe/Amsterdam
BEGIN:DAYLIGHT
TZOFFSETFROM:+0100
TZOFFSETTO:+0200
TZNAME:CEST
DTSTART:20240331T010000
END:DAYLIGHT
BEGIN:STANDARD
TZOFFSETFROM:+0200
TZOFFSETTO:+0100
TZNAME:CET
DTSTART:20241027T010000
END:STANDARD
BEGIN:DAYLIGHT
TZOFFSETFROM:+0100
TZOFFSETTO:+0200
TZNAME:CEST
DTSTART:20250330T010000
END:DAYLIGHT
BEGIN:STANDARD
TZOFFSETFROM:+0200
TZOFFSETTO:+0100
TZNAME:CET
DTSTART:20251026T010000
END:STANDARD
BEGIN:DAYLIGHT
TZOFFSETFROM:+0100
TZOFFSETTO:+0200
TZNAME:CEST
DTSTART:20260329T010000
END:DAYLIGHT
BEGIN:STANDARD
TZOFFSETFROM:+0200
TZOFFSETTO:+0100
TZNAME:CET
DTSTART:20261025T010000
END:STANDARD
END:VTIMEZONE
BEGIN:VEVENT
DTSTART;TZID=Europe/Amsterdam:20251206T100000
DTEND;TZID=Europe/Amsterdam:20251206T120000
DTSTAMP:20260421T124109
CREATED:20251106T175208Z
LAST-MODIFIED:20251106T175208Z
UID:58735-1765015200-1765022400@udenhout-centraal.nl
SUMMARY:Struinen in de Duinen
DESCRIPTION:Groepswandeling door de Loonse en Drunense Duinen. Laagdrempeling met elkaar in gesprek komen over dingen die er toe doen. Deze maand lopen we met het thema ‘Verbinding’. Wandelen – verbinding met elkaar\, de natuur en jezelf.\nAanmelden: naomi@grasduinen.nu
URL:https://udenhout-centraal.nl/evenement/struinen-in-de-duinen-2/
LOCATION:Bosch en Duin\, Oude Bosschebaan 1\, Udenhout
CATEGORIES:Evenementen
ORGANIZER;CN="Grasduinen Coaching":MAILTO:naomi@grasduinen.nu
END:VEVENT
BEGIN:VEVENT
DTSTART;TZID=Europe/Amsterdam:20251206T100000
DTEND;TZID=Europe/Amsterdam:20251206T130000
DTSTAMP:20260421T124109
CREATED:20251102T111352Z
LAST-MODIFIED:20251102T111352Z
UID:58722-1765015200-1765026000@udenhout-centraal.nl
SUMMARY:Repaircafé
DESCRIPTION:Repareren kapotte spullen.
URL:https://udenhout-centraal.nl/evenement/repaircafe-8/
LOCATION:Basisschool De Wichelroede (Ingang Kloosterpad t.o. Kerkhof)
CATEGORIES:Evenementen
ORGANIZER;CN="Repaircaf%C3%A9 Udenhout":MAILTO:repaircafe@seniorenub.nl
END:VEVENT
END:VCALENDAR