BEGIN:VCALENDAR
VERSION:2.0
PRODID:-//Udenhout-Centraal - ECPv6.15.20//NONSGML v1.0//EN
CALSCALE:GREGORIAN
METHOD:PUBLISH
X-WR-CALNAME:Udenhout-Centraal
X-ORIGINAL-URL:https://udenhout-centraal.nl
X-WR-CALDESC:Evenementen voor Udenhout-Centraal
REFRESH-INTERVAL;VALUE=DURATION:PT1H
X-Robots-Tag:noindex
X-PUBLISHED-TTL:PT1H
BEGIN:VTIMEZONE
TZID:Europe/Amsterdam
BEGIN:DAYLIGHT
TZOFFSETFROM:+0100
TZOFFSETTO:+0200
TZNAME:CEST
DTSTART:20240331T010000
END:DAYLIGHT
BEGIN:STANDARD
TZOFFSETFROM:+0200
TZOFFSETTO:+0100
TZNAME:CET
DTSTART:20241027T010000
END:STANDARD
BEGIN:DAYLIGHT
TZOFFSETFROM:+0100
TZOFFSETTO:+0200
TZNAME:CEST
DTSTART:20250330T010000
END:DAYLIGHT
BEGIN:STANDARD
TZOFFSETFROM:+0200
TZOFFSETTO:+0100
TZNAME:CET
DTSTART:20251026T010000
END:STANDARD
BEGIN:DAYLIGHT
TZOFFSETFROM:+0100
TZOFFSETTO:+0200
TZNAME:CEST
DTSTART:20260329T010000
END:DAYLIGHT
BEGIN:STANDARD
TZOFFSETFROM:+0200
TZOFFSETTO:+0100
TZNAME:CET
DTSTART:20261025T010000
END:STANDARD
END:VTIMEZONE
BEGIN:VEVENT
DTSTART;TZID=Europe/Amsterdam:20251210T201500
DTEND;TZID=Europe/Amsterdam:20251210T221500
DTSTAMP:20260421T140435
CREATED:20251106T175013Z
LAST-MODIFIED:20251106T175013Z
UID:58731-1765397700-1765404900@udenhout-centraal.nl
SUMMARY:Christmas Together met het Andantinokoor en Zanggroep KoRije
DESCRIPTION:Samen met de zanggroep KoRije uit Rijen verzorgt Andantino een sfeervolle avond met mooie traditionele en moderne kerstliedjes. De beide koren zingen afzonderlijk en ook enkele liedjes samen. De toegang is gratis. Dus laat je verrassen. Kom zo ook in de kerststemming\, luister en zing mee want natuurlijk worden er ook heel bekende kerstnummers en mooie evergreens gezongen: soms verdrietig\, soms vrolijk\, melancholisch of hoop brengend. Zo hopen we samen een sfeervolle avond te hebben. \nGratis toegang
URL:https://udenhout-centraal.nl/evenement/christmas-together-met-het-andantinokoor-en-zanggroep-korije/
LOCATION:’t Plein\, Tongerloplein 1\, Udenhout
CATEGORIES:Evenementen
END:VEVENT
END:VCALENDAR