BEGIN:VCALENDAR
VERSION:2.0
PRODID:-//Udenhout-Centraal - ECPv6.15.20//NONSGML v1.0//EN
CALSCALE:GREGORIAN
METHOD:PUBLISH
X-WR-CALNAME:Udenhout-Centraal
X-ORIGINAL-URL:https://udenhout-centraal.nl
X-WR-CALDESC:Evenementen voor Udenhout-Centraal
REFRESH-INTERVAL;VALUE=DURATION:PT1H
X-Robots-Tag:noindex
X-PUBLISHED-TTL:PT1H
BEGIN:VTIMEZONE
TZID:Europe/Amsterdam
BEGIN:DAYLIGHT
TZOFFSETFROM:+0100
TZOFFSETTO:+0200
TZNAME:CEST
DTSTART:20250330T010000
END:DAYLIGHT
BEGIN:STANDARD
TZOFFSETFROM:+0200
TZOFFSETTO:+0100
TZNAME:CET
DTSTART:20251026T010000
END:STANDARD
BEGIN:DAYLIGHT
TZOFFSETFROM:+0100
TZOFFSETTO:+0200
TZNAME:CEST
DTSTART:20260329T010000
END:DAYLIGHT
BEGIN:STANDARD
TZOFFSETFROM:+0200
TZOFFSETTO:+0100
TZNAME:CET
DTSTART:20261025T010000
END:STANDARD
BEGIN:DAYLIGHT
TZOFFSETFROM:+0100
TZOFFSETTO:+0200
TZNAME:CEST
DTSTART:20270328T010000
END:DAYLIGHT
BEGIN:STANDARD
TZOFFSETFROM:+0200
TZOFFSETTO:+0100
TZNAME:CET
DTSTART:20271031T010000
END:STANDARD
END:VTIMEZONE
BEGIN:VEVENT
DTSTART;TZID=Europe/Amsterdam:20261003T100000
DTEND;TZID=Europe/Amsterdam:20261003T130000
DTSTAMP:20260421T111609
CREATED:20260413T135256Z
LAST-MODIFIED:20260413T135256Z
UID:60118-1791021600-1791032400@udenhout-centraal.nl
SUMMARY:Repaircafé
DESCRIPTION:Repareren kapotte spullen.
URL:https://udenhout-centraal.nl/evenement/repaircafe-17/
LOCATION:Basisschool De Wichelroede (Ingang Kloosterpad t.o. Kerkhof)
CATEGORIES:Evenementen
ORGANIZER;CN="Repaircaf%C3%A9 Udenhout":MAILTO:repaircafe@seniorenub.nl
END:VEVENT
BEGIN:VEVENT
DTSTART;TZID=Europe/Amsterdam:20261003T180000
DTEND;TZID=Europe/Amsterdam:20261003T235500
DTSTAMP:20260421T111609
CREATED:20260328T144148Z
LAST-MODIFIED:20260331T210213Z
UID:59981-1791050400-1791071700@udenhout-centraal.nl
SUMMARY:Dorpsquiz
DESCRIPTION:Quiz 18.00-22.00 uur \nFeest 22.30-01.00 uur
URL:https://udenhout-centraal.nl/evenement/dorpsquiz-2/
LOCATION:’t Plein\, Tongerloplein 1\, Udenhout
CATEGORIES:Evenementen
END:VEVENT
END:VCALENDAR