BEGIN:VCALENDAR
VERSION:2.0
PRODID:-//Udenhout-Centraal - ECPv6.15.20//NONSGML v1.0//EN
CALSCALE:GREGORIAN
METHOD:PUBLISH
X-ORIGINAL-URL:https://udenhout-centraal.nl
X-WR-CALDESC:Evenementen voor Udenhout-Centraal
REFRESH-INTERVAL;VALUE=DURATION:PT1H
X-Robots-Tag:noindex
X-PUBLISHED-TTL:PT1H
BEGIN:VTIMEZONE
TZID:Europe/Amsterdam
BEGIN:DAYLIGHT
TZOFFSETFROM:+0100
TZOFFSETTO:+0200
TZNAME:CEST
DTSTART:20240331T010000
END:DAYLIGHT
BEGIN:STANDARD
TZOFFSETFROM:+0200
TZOFFSETTO:+0100
TZNAME:CET
DTSTART:20241027T010000
END:STANDARD
BEGIN:DAYLIGHT
TZOFFSETFROM:+0100
TZOFFSETTO:+0200
TZNAME:CEST
DTSTART:20250330T010000
END:DAYLIGHT
BEGIN:STANDARD
TZOFFSETFROM:+0200
TZOFFSETTO:+0100
TZNAME:CET
DTSTART:20251026T010000
END:STANDARD
BEGIN:DAYLIGHT
TZOFFSETFROM:+0100
TZOFFSETTO:+0200
TZNAME:CEST
DTSTART:20260329T010000
END:DAYLIGHT
BEGIN:STANDARD
TZOFFSETFROM:+0200
TZOFFSETTO:+0100
TZNAME:CET
DTSTART:20261025T010000
END:STANDARD
END:VTIMEZONE
BEGIN:VEVENT
DTSTART;TZID=Europe/Amsterdam:20250916T110000
DTEND;TZID=Europe/Amsterdam:20250916T160000
DTSTAMP:20260423T001004
CREATED:20250913T125452Z
LAST-MODIFIED:20250913T125452Z
UID:58086-1758020400-1758038400@udenhout-centraal.nl
SUMMARY:Kunstspeurtocht
DESCRIPTION:Kunstenaars halen vaak ideeën uit de natuur. Ze kijken naar bloemen\, bladeren\, groenten en dieren om kleuren en vormen te vinden. Dat ga jij ook doen! Bij elke opdracht die je hebt volbracht\, krijg je een kleur. Aan het einde maak je daar samen een prachtig kunstwerk van. \nDe speurtocht is van 6 t/m 28 september.\nKosten € 4\,00 per kind.
URL:https://udenhout-centraal.nl/evenement/kunstspeurtocht-4/
LOCATION:Sprankenhof\, Schoorstraat 26 – A\, Udenhout\, 5071 RA\, Nederland
CATEGORIES:Evenementen
END:VEVENT
BEGIN:VEVENT
DTSTART;TZID=Europe/Amsterdam:20250916T130000
DTEND;TZID=Europe/Amsterdam:20250916T150000
DTSTAMP:20260423T001004
CREATED:20250606T144613Z
LAST-MODIFIED:20250606T144613Z
UID:57459-1758027600-1758034800@udenhout-centraal.nl
SUMMARY:Inloopspreekuur Stichting Leergeld
DESCRIPTION:Heb je vragen over de mogelijkheden van Stichting Leergeld Tilburg? Kom dan naar het maandelijkse spreekuur in de Bibliotheek.\n\nGratis inloopspreekuur\nTijdens het gratis inloopspreekuur kun je vragen stellen of en hoe je kind voor ondersteuning in aanmerking kan komen. Er zijn kinderen die om financiële redenen niet kunnen meedoen aan activiteiten die andere leeftijdsgenootjes wel doen. Stichting Leergeld Tilburg wil alle kinderen de kans geven om deel te nemen aan binnen- en buitenschoolse activiteiten. Het kan hier gaan om schoolspullen\, muziekles of een lidmaatschap bij een sportvereniging. Leergeld biedt de kinderen een opstapje\, waardoor ze toch deel kunnen nemen\, kennis kunnen opdoen en vaardigheden kunnen ontwikkelen. \nWil je weten waarvoor je een aanvraag kunt doen? Kijk dan op de website van Stichting Leergeld Tilburg. Je kunt hier ook direct een aanvraag indienen. \nOver Stichting Leergeld\nStichting Leergeld Tilburg richt zich op kinderen uit gezinnen met geldzorgen. Deze kinderen dreigen door de financiële situatie buiten de boot te vallen als het gaat om binnen- en buitenschoolse activiteiten. De stichting zet zich in voor deze kinderen in de leeftijd van 4 tot 18 jaar. De missie is dat elk kind kan meedoen. Want nu meedoen is later meetellen in de maatschappij!
URL:https://udenhout-centraal.nl/evenement/inloopspreekuur-stichting-leergeld-2/
LOCATION:de Bibliotheek Udenhout\, Tongerloplein 15\, Udenhout\, 5071 CX
CATEGORIES:Evenementen
END:VEVENT
END:VCALENDAR