BEGIN:VCALENDAR
VERSION:2.0
PRODID:-//Udenhout-Centraal - ECPv6.15.20//NONSGML v1.0//EN
CALSCALE:GREGORIAN
METHOD:PUBLISH
X-ORIGINAL-URL:https://udenhout-centraal.nl
X-WR-CALDESC:Evenementen voor Udenhout-Centraal
REFRESH-INTERVAL;VALUE=DURATION:PT1H
X-Robots-Tag:noindex
X-PUBLISHED-TTL:PT1H
BEGIN:VTIMEZONE
TZID:Europe/Amsterdam
BEGIN:DAYLIGHT
TZOFFSETFROM:+0100
TZOFFSETTO:+0200
TZNAME:CEST
DTSTART:20240331T010000
END:DAYLIGHT
BEGIN:STANDARD
TZOFFSETFROM:+0200
TZOFFSETTO:+0100
TZNAME:CET
DTSTART:20241027T010000
END:STANDARD
BEGIN:DAYLIGHT
TZOFFSETFROM:+0100
TZOFFSETTO:+0200
TZNAME:CEST
DTSTART:20250330T010000
END:DAYLIGHT
BEGIN:STANDARD
TZOFFSETFROM:+0200
TZOFFSETTO:+0100
TZNAME:CET
DTSTART:20251026T010000
END:STANDARD
BEGIN:DAYLIGHT
TZOFFSETFROM:+0100
TZOFFSETTO:+0200
TZNAME:CEST
DTSTART:20260329T010000
END:DAYLIGHT
BEGIN:STANDARD
TZOFFSETFROM:+0200
TZOFFSETTO:+0100
TZNAME:CET
DTSTART:20261025T010000
END:STANDARD
END:VTIMEZONE
BEGIN:VEVENT
DTSTART;TZID=Europe/Amsterdam:20250927T100000
DTEND;TZID=Europe/Amsterdam:20250927T170000
DTSTAMP:20260423T001002
CREATED:20250920T134936Z
LAST-MODIFIED:20250920T134936Z
UID:58226-1758967200-1758992400@udenhout-centraal.nl
SUMMARY:Open Bedrijvendag op Bedrijventerrein Kreitenmolen in Udenhout
DESCRIPTION:Lijkt het je leuk om een kijkje achter de schermen te nemen bij grote bedrijven? Wil je je oriënteren op de arbeidsmarkt? Of ben je gewoon geïnteresseerd en een beetje nieuwsgierig? Kom dan op 27 september van 10.00 tot 17.00 uur naar de Open Bedrijvendag op bedrijventerrein Kreitenmolen in Udenhout. Dat is dé kans om kennis te maken met zo’n vijfentwintig Udenhoutse bedrijven in verschillende sectoren. \nVan alles te zien\, beleven\, ontdekken en zelfs te proeven\nTijdens de Open Bedrijvendag is er van alles te zien\, proeven\, bekijken en ontdekken. Van rondleidingen\, demonstraties en presentaties tot leuke activiteiten en wedstrijden voor kinderen. De bedrijven zijn onderverdeeld in verschillende routes. Gaat je interesse uit naar HighTech? Of volg je liever de route van de Bouwers en Sjouwers? De keuze is aan jou! \nBouw je eigen Kreitenmobiel tijdens de Dag van de Techniek Udenhout\nOok voor de jongere bezoekers is er vanalles te doen tijdens deze dag. Door de samenwerking met Midpoint Brabant – bekend van de Dagen van de Techniek in de regio Hart van Brabant – is er ook een “Dag van de Techniek-plein” te vinden op de Open Dag. Een aantal technische bedrijven uit udenhout hebben ervoor gezorgd dat kinderen een eigen ‘Kreitenmobiel’ in elkaar kunnen zetten. Zo kunnen de kinderen techniek niet alleen van dichtbij zien\, maar ook beleven en ontdekken! \nHeb je er na deze dag nog geen genoeg van? Kom dan 4 oktober naar de Dag van de Techniek Oisterwijk of Dongen. Meer informatie vind je op: www.dagenvandetechniek.nl \nPraktische informatie\nBezoekers van de Open Bedrijvendag kunnen alleen te voet of met de fiets het bedrijventerrein op. Kom je met de auto? Dan kun je parkeren op de parkeerplaats bij de rotonde met de bekende Toren voor Udenhout. Vanaf de parkeerplaats rijden er golfkarretjes het terrein op. \nMeer informatie over de Open Bedrijvendag is te vinden op https://kreitenmolenvitaal.nl/opendag
URL:https://udenhout-centraal.nl/evenement/open-bedrijvendag-op-bedrijventerrein-kreitenmolen-in-udenhout/
LOCATION:Bedrijventerrein Kreitenmolen\, Udenhout
CATEGORIES:Evenementen
END:VEVENT
BEGIN:VEVENT
DTSTART;TZID=Europe/Amsterdam:20250927T110000
DTEND;TZID=Europe/Amsterdam:20250927T160000
DTSTAMP:20260423T001002
CREATED:20250913T125747Z
LAST-MODIFIED:20250913T125747Z
UID:58116-1758970800-1758988800@udenhout-centraal.nl
SUMMARY:Kunstspeurtocht
DESCRIPTION:Kunstenaars halen vaak ideeën uit de natuur. Ze kijken naar bloemen\, bladeren\, groenten en dieren om kleuren en vormen te vinden. Dat ga jij ook doen! Bij elke opdracht die je hebt volbracht\, krijg je een kleur. Aan het einde maak je daar samen een prachtig kunstwerk van. \nDe speurtocht is van 6 t/m 28 september.\nKosten € 4\,00 per kind.
URL:https://udenhout-centraal.nl/evenement/kunstspeurtocht-14/
LOCATION:Sprankenhof\, Schoorstraat 26 – A\, Udenhout\, 5071 RA\, Nederland
CATEGORIES:Evenementen
END:VEVENT
END:VCALENDAR