BEGIN:VCALENDAR
VERSION:2.0
PRODID:-//Udenhout-Centraal - ECPv6.15.20//NONSGML v1.0//EN
CALSCALE:GREGORIAN
METHOD:PUBLISH
X-WR-CALNAME:Udenhout-Centraal
X-ORIGINAL-URL:https://udenhout-centraal.nl
X-WR-CALDESC:Evenementen voor Udenhout-Centraal
REFRESH-INTERVAL;VALUE=DURATION:PT1H
X-Robots-Tag:noindex
X-PUBLISHED-TTL:PT1H
BEGIN:VTIMEZONE
TZID:Europe/Amsterdam
BEGIN:DAYLIGHT
TZOFFSETFROM:+0100
TZOFFSETTO:+0200
TZNAME:CEST
DTSTART:20250330T010000
END:DAYLIGHT
BEGIN:STANDARD
TZOFFSETFROM:+0200
TZOFFSETTO:+0100
TZNAME:CET
DTSTART:20251026T010000
END:STANDARD
BEGIN:DAYLIGHT
TZOFFSETFROM:+0100
TZOFFSETTO:+0200
TZNAME:CEST
DTSTART:20260329T010000
END:DAYLIGHT
BEGIN:STANDARD
TZOFFSETFROM:+0200
TZOFFSETTO:+0100
TZNAME:CET
DTSTART:20261025T010000
END:STANDARD
BEGIN:DAYLIGHT
TZOFFSETFROM:+0100
TZOFFSETTO:+0200
TZNAME:CEST
DTSTART:20270328T010000
END:DAYLIGHT
BEGIN:STANDARD
TZOFFSETFROM:+0200
TZOFFSETTO:+0100
TZNAME:CET
DTSTART:20271031T010000
END:STANDARD
END:VTIMEZONE
BEGIN:VEVENT
DTSTART;TZID=Europe/Amsterdam:20260504T190000
DTEND;TZID=Europe/Amsterdam:20260504T200000
DTSTAMP:20260422T163959
CREATED:20260420T125234Z
LAST-MODIFIED:20260420T125234Z
UID:60191-1777921200-1777924800@udenhout-centraal.nl
SUMMARY:Dodenherdenking
DESCRIPTION:Maandag 4 mei a.s. wordt om 19.00 uur\, door Stichting “Udenhouts Belang“ in samenwerking met erfgoedcentrum “ ’t Schoor ” op bescheiden wijze opnieuw stilgestaan bij de oorlogsslachtoffers. \nDeze herdenking vindt plaats op het kerkhof van de Lambertuskerk\, op de plaats waar bij een begrafenis afscheid wordt genomen. \nBeide Gilden brengen de vendelgroet gevolgd door een toespraak van de voorzitter van de Dorpsraad. De namen van de gevallenen van Udenhout en Biezenmortel worden voorgelezen.\n1 leerling van kindcentrum “ de Mortel“ leest een gedicht voor\, en een 3 tal leerlingen brengen bloemen naar de drie oorlogsgraven. Daarna wordt de Last Post gespeeld. \nWij nodigen u allen van harte uit om ook op de dag van\n“ Nationale Herdenking” 4 mei om 19.00 uur a.s. onze oorlogsslachtoffers samen te herdenken.
URL:https://udenhout-centraal.nl/evenement/dodenherdenking-2/
LOCATION:Begraafplaats Lambertuskerk
CATEGORIES:Evenementen
END:VEVENT
END:VCALENDAR