BEGIN:VCALENDAR
VERSION:2.0
PRODID:-//Udenhout-Centraal - ECPv6.15.20//NONSGML v1.0//EN
CALSCALE:GREGORIAN
METHOD:PUBLISH
X-WR-CALNAME:Udenhout-Centraal
X-ORIGINAL-URL:https://udenhout-centraal.nl
X-WR-CALDESC:Evenementen voor Udenhout-Centraal
REFRESH-INTERVAL;VALUE=DURATION:PT1H
X-Robots-Tag:noindex
X-PUBLISHED-TTL:PT1H
BEGIN:VTIMEZONE
TZID:Europe/Amsterdam
BEGIN:DAYLIGHT
TZOFFSETFROM:+0100
TZOFFSETTO:+0200
TZNAME:CEST
DTSTART:20240331T010000
END:DAYLIGHT
BEGIN:STANDARD
TZOFFSETFROM:+0200
TZOFFSETTO:+0100
TZNAME:CET
DTSTART:20241027T010000
END:STANDARD
BEGIN:DAYLIGHT
TZOFFSETFROM:+0100
TZOFFSETTO:+0200
TZNAME:CEST
DTSTART:20250330T010000
END:DAYLIGHT
BEGIN:STANDARD
TZOFFSETFROM:+0200
TZOFFSETTO:+0100
TZNAME:CET
DTSTART:20251026T010000
END:STANDARD
BEGIN:DAYLIGHT
TZOFFSETFROM:+0100
TZOFFSETTO:+0200
TZNAME:CEST
DTSTART:20260329T010000
END:DAYLIGHT
BEGIN:STANDARD
TZOFFSETFROM:+0200
TZOFFSETTO:+0100
TZNAME:CET
DTSTART:20261025T010000
END:STANDARD
END:VTIMEZONE
BEGIN:VEVENT
DTSTART;TZID=Europe/Amsterdam:20250305T103000
DTEND;TZID=Europe/Amsterdam:20250305T110000
DTSTAMP:20260420T000202
CREATED:20241206T184123Z
LAST-MODIFIED:20241206T184123Z
UID:55923-1741170600-1741172400@udenhout-centraal.nl
SUMMARY:Letterlol! Voorlezen voor peuters en kleuters in de Bibliotheek Udenhout
DESCRIPTION:We gaan lol maken met letters in de bibliotheek Udenhout. We lezen voor uit een mooi of grappig prentenboek.\nMeld je even aan via de website van de bibliotheek: www.bibliotheekmb.nl/udenhout.
URL:https://udenhout-centraal.nl/evenement/letterlol-voorlezen-voor-peuters-en-kleuters-in-de-bibliotheek-udenhout/
LOCATION:Bibliotheek Udenhout\, Tongerloplein 15\, Udenhout\, 5071 CX
CATEGORIES:Evenementen
END:VEVENT
BEGIN:VEVENT
DTSTART;TZID=Europe/Amsterdam:20250304T193000
DTEND;TZID=Europe/Amsterdam:20250304T213000
DTSTAMP:20260420T000202
CREATED:20250214T145054Z
LAST-MODIFIED:20250223T193420Z
UID:56747-1741116600-1741123800@udenhout-centraal.nl
SUMMARY:Lichtjesoptocht d'n Haozenpot
DESCRIPTION:’s Avonds genieten van vele mooi verlichte carnavalswagens en natuurlijk loopgroepen tijdens de enige echte Lichtjesoptocht!
URL:https://udenhout-centraal.nl/evenement/lichtjesoptocht-dn-haozenpot/
LOCATION:Kreitenmolenstraat – Slimstraat – van Heeswijkstraat
CATEGORIES:Evenementen
END:VEVENT
BEGIN:VEVENT
DTSTART;TZID=Europe/Amsterdam:20250304T140000
DTEND;TZID=Europe/Amsterdam:20250304T170000
DTSTAMP:20260420T000202
CREATED:20250214T141812Z
LAST-MODIFIED:20250214T142053Z
UID:56642-1741096800-1741107600@udenhout-centraal.nl
SUMMARY:Haoskesbal 2025
DESCRIPTION:Jeugdcarnaval D’n Haozenpot.
URL:https://udenhout-centraal.nl/evenement/haoskesbal-2025/
LOCATION:’t Plein\, Tongerloplein 1\, Udenhout
CATEGORIES:Evenementen
END:VEVENT
BEGIN:VEVENT
DTSTART;TZID=Europe/Amsterdam:20250304T130000
DTEND;TZID=Europe/Amsterdam:20250304T173000
DTSTAMP:20260420T000202
CREATED:20241214T142222Z
LAST-MODIFIED:20241214T142222Z
UID:56063-1741093200-1741109400@udenhout-centraal.nl
SUMMARY:Jeu de boules Carnevalsmix leden VOP
DESCRIPTION:Een toernooi over 3 speelrondes waar alleen leden zich voor kunnen inschrijven.\nAanmelden in de kantine tussen 13.00 uur en 13.30 uur.\nPrijzen in de vorm van levensmiddelenpakketten.
URL:https://udenhout-centraal.nl/evenement/jeu-de-boules-carnevalsmix-leden-vop/
LOCATION:Petanquevereniging VOP\, Sportpark Zeshoeven\, Sportlaan 15e\, Udenhout
CATEGORIES:Evenementen
ORGANIZER;CN="Petanque vereniging Voor Ons Plezier":MAILTO:hans_verhagen@wxs.nl
END:VEVENT
BEGIN:VEVENT
DTSTART;TZID=Europe/Amsterdam:20250304T110000
DTEND;TZID=Europe/Amsterdam:20250304T160000
DTSTAMP:20260420T000202
CREATED:20250214T143152Z
LAST-MODIFIED:20250214T143152Z
UID:56718-1741086000-1741104000@udenhout-centraal.nl
SUMMARY:Carnaval speurtocht
DESCRIPTION:Tijdens de carnaval vakantie even lekker actief in de frisse buitenlucht. Speur naar gekke figuurtjes. Vind de oplossing. En ervaar hoe de eenvoud van een speurtocht door de tuin de leukste dag van de vakantie kan worden! \nDe wandeling door en de stilte van de tuin hebben een kalmerend effect. Deze speurtocht is daarom voor jou en/of je kind een ideale afwisseling met het carnavalsfeest. Even een rustmoment in het feestgedruis. Carnaval heeft een traditie van harde muziek en veel mensen dicht op elkaar. Dit kan een mooi pauze moment zijn in de vele prikkels die afkomen op jou en je kind. \nKom samen speuren naar carnavaleske figuurtjes en leer de tuin in de winter kennen.
URL:https://udenhout-centraal.nl/evenement/carnaval-speurtocht-18/
LOCATION:Sprankenhof\, Schoorstraat 26 – A\, Udenhout\, 5071 RA\, Nederland
CATEGORIES:Evenementen
END:VEVENT
BEGIN:VEVENT
DTSTART;TZID=Europe/Amsterdam:20250303T140000
DTEND;TZID=Europe/Amsterdam:20250303T235900
DTSTAMP:20260420T000202
CREATED:20250206T101526Z
LAST-MODIFIED:20250206T101526Z
UID:56511-1741010400-1741046340@udenhout-centraal.nl
SUMMARY:Boerenbruiloft Udenhout
DESCRIPTION:Hét feestje op carnavalsmaandag in d’n Haozenpot.
URL:https://udenhout-centraal.nl/evenement/boerenbruiloft-udenhout/
LOCATION:’t Centrum\, Slimstraat 1\, Udenhout
CATEGORIES:Evenementen
END:VEVENT
BEGIN:VEVENT
DTSTART;TZID=Europe/Amsterdam:20250303T140000
DTEND;TZID=Europe/Amsterdam:20250303T160000
DTSTAMP:20260420T000202
CREATED:20250206T103626Z
LAST-MODIFIED:20250206T103626Z
UID:56551-1741010400-1741017600@udenhout-centraal.nl
SUMMARY:Carnavalsbingo voor senioren
DESCRIPTION:Bingomiddag voor senioren met een carnavalstintje.\nStart bingo 14.00 uur.\nDeuren open om 13.30 uur.\nEen bingokaart kost 5 euro. Er is voor iedereen iets te drinken in de pauze (inbegrepen in prijs).
URL:https://udenhout-centraal.nl/evenement/carnavalsbingo-voor-senioren/
LOCATION:TrefpunT\, Tuinstraat 69\, Udenhout\, 5071 CP\, Nederland
CATEGORIES:Evenementen
END:VEVENT
BEGIN:VEVENT
DTSTART;TZID=Europe/Amsterdam:20250303T110000
DTEND;TZID=Europe/Amsterdam:20250303T160000
DTSTAMP:20260420T000202
CREATED:20250214T143141Z
LAST-MODIFIED:20250214T143141Z
UID:56715-1740999600-1741017600@udenhout-centraal.nl
SUMMARY:Carnaval speurtocht
DESCRIPTION:Tijdens de carnaval vakantie even lekker actief in de frisse buitenlucht. Speur naar gekke figuurtjes. Vind de oplossing. En ervaar hoe de eenvoud van een speurtocht door de tuin de leukste dag van de vakantie kan worden! \nDe wandeling door en de stilte van de tuin hebben een kalmerend effect. Deze speurtocht is daarom voor jou en/of je kind een ideale afwisseling met het carnavalsfeest. Even een rustmoment in het feestgedruis. Carnaval heeft een traditie van harde muziek en veel mensen dicht op elkaar. Dit kan een mooi pauze moment zijn in de vele prikkels die afkomen op jou en je kind. \nKom samen speuren naar carnavaleske figuurtjes en leer de tuin in de winter kennen.
URL:https://udenhout-centraal.nl/evenement/carnaval-speurtocht-17/
LOCATION:Sprankenhof\, Schoorstraat 26 – A\, Udenhout\, 5071 RA\, Nederland
CATEGORIES:Evenementen
END:VEVENT
BEGIN:VEVENT
DTSTART;TZID=Europe/Amsterdam:20250302T141100
DTEND;TZID=Europe/Amsterdam:20250302T170000
DTSTAMP:20260420T000202
CREATED:20250214T145004Z
LAST-MODIFIED:20250214T145004Z
UID:56741-1740924660-1740934800@udenhout-centraal.nl
SUMMARY:Haozenpotse Optocht
DESCRIPTION:De leukste optocht van de omgeving!
URL:https://udenhout-centraal.nl/evenement/haozenpotse-optocht/
LOCATION:Kreitenmolenstraat-Slimstraat-Tuinstraat
CATEGORIES:Evenementen
END:VEVENT
BEGIN:VEVENT
DTSTART;TZID=Europe/Amsterdam:20250302T110000
DTEND;TZID=Europe/Amsterdam:20250302T160000
DTSTAMP:20260420T000202
CREATED:20250214T143131Z
LAST-MODIFIED:20250214T143131Z
UID:56712-1740913200-1740931200@udenhout-centraal.nl
SUMMARY:Carnaval speurtocht
DESCRIPTION:Tijdens de carnaval vakantie even lekker actief in de frisse buitenlucht. Speur naar gekke figuurtjes. Vind de oplossing. En ervaar hoe de eenvoud van een speurtocht door de tuin de leukste dag van de vakantie kan worden! \nDe wandeling door en de stilte van de tuin hebben een kalmerend effect. Deze speurtocht is daarom voor jou en/of je kind een ideale afwisseling met het carnavalsfeest. Even een rustmoment in het feestgedruis. Carnaval heeft een traditie van harde muziek en veel mensen dicht op elkaar. Dit kan een mooi pauze moment zijn in de vele prikkels die afkomen op jou en je kind. \nKom samen speuren naar carnavaleske figuurtjes en leer de tuin in de winter kennen.
URL:https://udenhout-centraal.nl/evenement/carnaval-speurtocht-16/
LOCATION:Sprankenhof\, Schoorstraat 26 – A\, Udenhout\, 5071 RA\, Nederland
CATEGORIES:Evenementen
END:VEVENT
BEGIN:VEVENT
DTSTART;TZID=Europe/Amsterdam:20250301T183000
DTEND;TZID=Europe/Amsterdam:20250301T193000
DTSTAMP:20260420T000202
CREATED:20250223T193315Z
LAST-MODIFIED:20250223T193315Z
UID:56828-1740853800-1740857400@udenhout-centraal.nl
SUMMARY:Carnavalsmis
DESCRIPTION:
URL:https://udenhout-centraal.nl/evenement/carnavalsmis/
LOCATION:St. Lambertuskerk\, Slimstraat 7\, Udenhout\, Nederland
CATEGORIES:Evenementen
END:VEVENT
BEGIN:VEVENT
DTSTART;TZID=Europe/Amsterdam:20250301T140000
DTEND;TZID=Europe/Amsterdam:20250301T180000
DTSTAMP:20260420T000202
CREATED:20250223T193216Z
LAST-MODIFIED:20250223T193216Z
UID:56825-1740837600-1740852000@udenhout-centraal.nl
SUMMARY:Kwieke Haozenfist
DESCRIPTION:Een gezellige carnavalsmiddag voor de 50+er die zin heeft in een polonaise\, een lekkere Haozensoes\, lachen bij een tonpraoter en gezellig mee-eten met een stamppottenbuffet. \nKaartverkoop via Fotogalerie Angelique\, Kreit57 en DA Venmans.
URL:https://udenhout-centraal.nl/evenement/kwieke-haozenfist-2/
LOCATION:Oude Raadhuis\, Slimstraat 2\, Udenhout\, Nederland
CATEGORIES:Evenementen
END:VEVENT
BEGIN:VEVENT
DTSTART;TZID=Europe/Amsterdam:20250301T140000
DTEND;TZID=Europe/Amsterdam:20250301T180000
DTSTAMP:20260420T000202
CREATED:20250214T144833Z
LAST-MODIFIED:20250214T144833Z
UID:56738-1740837600-1740852000@udenhout-centraal.nl
SUMMARY:Kwieke Haozenfist
DESCRIPTION:Een gezellige carnavalsmiddag voor de 50+er die zin heeft in een polonaise\, een lekkere Haozensoes\, lachen bij een tonpraoter en gezellig mee-eten met een stamppottenbuffet. \nKaartverkoop via Fotogalerie Angelique\, Kreit57 en DA Venmans
URL:https://udenhout-centraal.nl/evenement/kwieke-haozenfist/
LOCATION:Oude Raadhuis\, Slimstraat 2\, Udenhout\, Nederland
END:VEVENT
BEGIN:VEVENT
DTSTART;TZID=Europe/Amsterdam:20250301T120000
DTEND;TZID=Europe/Amsterdam:20250301T130000
DTSTAMP:20260420T000202
CREATED:20250223T193047Z
LAST-MODIFIED:20250223T193047Z
UID:56822-1740830400-1740834000@udenhout-centraal.nl
SUMMARY:Installatie Kupke de Stéloor
DESCRIPTION:De start van carnaval! Na ontvangst van de burgermeester in ’t Plein word gezamenlijk Kupke de Stéloor word op zijn sokkel bij het oude Raadhuis geplaatst.
URL:https://udenhout-centraal.nl/evenement/installatie-kupke-de-steloor/
LOCATION:’t Raadhuis\, Slimstraat 2\, Udenhout\, 5071 EJ\, Nederland
CATEGORIES:Evenementen
END:VEVENT
BEGIN:VEVENT
DTSTART;TZID=Europe/Amsterdam:20250301T110000
DTEND;TZID=Europe/Amsterdam:20250301T160000
DTSTAMP:20260420T000202
CREATED:20250214T143121Z
LAST-MODIFIED:20250214T143121Z
UID:56709-1740826800-1740844800@udenhout-centraal.nl
SUMMARY:Carnaval speurtocht
DESCRIPTION:Tijdens de carnaval vakantie even lekker actief in de frisse buitenlucht. Speur naar gekke figuurtjes. Vind de oplossing. En ervaar hoe de eenvoud van een speurtocht door de tuin de leukste dag van de vakantie kan worden! \nDe wandeling door en de stilte van de tuin hebben een kalmerend effect. Deze speurtocht is daarom voor jou en/of je kind een ideale afwisseling met het carnavalsfeest. Even een rustmoment in het feestgedruis. Carnaval heeft een traditie van harde muziek en veel mensen dicht op elkaar. Dit kan een mooi pauze moment zijn in de vele prikkels die afkomen op jou en je kind. \nKom samen speuren naar carnavaleske figuurtjes en leer de tuin in de winter kennen.
URL:https://udenhout-centraal.nl/evenement/carnaval-speurtocht-15/
LOCATION:Sprankenhof\, Schoorstraat 26 – A\, Udenhout\, 5071 RA\, Nederland
CATEGORIES:Evenementen
END:VEVENT
BEGIN:VEVENT
DTSTART;TZID=Europe/Amsterdam:20250228T110000
DTEND;TZID=Europe/Amsterdam:20250228T160000
DTSTAMP:20260420T000202
CREATED:20250214T143058Z
LAST-MODIFIED:20250214T143058Z
UID:56706-1740740400-1740758400@udenhout-centraal.nl
SUMMARY:Carnaval speurtocht
DESCRIPTION:Tijdens de carnaval vakantie even lekker actief in de frisse buitenlucht. Speur naar gekke figuurtjes. Vind de oplossing. En ervaar hoe de eenvoud van een speurtocht door de tuin de leukste dag van de vakantie kan worden! \nDe wandeling door en de stilte van de tuin hebben een kalmerend effect. Deze speurtocht is daarom voor jou en/of je kind een ideale afwisseling met het carnavalsfeest. Even een rustmoment in het feestgedruis. Carnaval heeft een traditie van harde muziek en veel mensen dicht op elkaar. Dit kan een mooi pauze moment zijn in de vele prikkels die afkomen op jou en je kind. \nKom samen speuren naar carnavaleske figuurtjes en leer de tuin in de winter kennen.
URL:https://udenhout-centraal.nl/evenement/carnaval-speurtocht-14/
LOCATION:Sprankenhof\, Schoorstraat 26 – A\, Udenhout\, 5071 RA\, Nederland
CATEGORIES:Evenementen
END:VEVENT
BEGIN:VEVENT
DTSTART;TZID=Europe/Amsterdam:20250227T110000
DTEND;TZID=Europe/Amsterdam:20250227T160000
DTSTAMP:20260420T000202
CREATED:20250214T143047Z
LAST-MODIFIED:20250214T143047Z
UID:56703-1740654000-1740672000@udenhout-centraal.nl
SUMMARY:Carnaval speurtocht
DESCRIPTION:Tijdens de carnaval vakantie even lekker actief in de frisse buitenlucht. Speur naar gekke figuurtjes. Vind de oplossing. En ervaar hoe de eenvoud van een speurtocht door de tuin de leukste dag van de vakantie kan worden! \nDe wandeling door en de stilte van de tuin hebben een kalmerend effect. Deze speurtocht is daarom voor jou en/of je kind een ideale afwisseling met het carnavalsfeest. Even een rustmoment in het feestgedruis. Carnaval heeft een traditie van harde muziek en veel mensen dicht op elkaar. Dit kan een mooi pauze moment zijn in de vele prikkels die afkomen op jou en je kind. \nKom samen speuren naar carnavaleske figuurtjes en leer de tuin in de winter kennen.
URL:https://udenhout-centraal.nl/evenement/carnaval-speurtocht-13/
LOCATION:Sprankenhof\, Schoorstraat 26 – A\, Udenhout\, 5071 RA\, Nederland
CATEGORIES:Evenementen
END:VEVENT
BEGIN:VEVENT
DTSTART;TZID=Europe/Amsterdam:20250227T110000
DTEND;TZID=Europe/Amsterdam:20250227T150000
DTSTAMP:20260420T000202
CREATED:20250123T190807Z
LAST-MODIFIED:20250206T105419Z
UID:56448-1740654000-1740668400@udenhout-centraal.nl
SUMMARY:Speciale openstelling voor vragen over stamboomonderzoek
DESCRIPTION:Stap in het verleden van Udenhout en Biezenmortel\, voor boekverkoop en voor vragen over de historie is ’t Schoor elke donderdag en de tweede zaterdagmiddag van de maand open. Op donderdag 27 februari 2025 kunt u van 11.00-15.00 uur in ons erfgoedcentrum (eigen ingang achterzijde Schoorstraat 2) terecht voor vragen over stamboomonderzoek. Wilt u weten hoe te beginnen of heeft u vragen over uw Udenhoutse familie? Annie Duijf\, onze stamboomvrijwilliger\, is aanwezig om U op weg te helpen. Voor vragen: genealogieschoor@gmail.com
URL:https://udenhout-centraal.nl/evenement/speciale-openstelling-voor-vragen-over-stamboomonderzoek/
LOCATION:Erfgoedcentrum ’t Schoor\, Schoorstraat 2\, Udenhout\, Nederland
CATEGORIES:Evenementen
ORGANIZER;CN="Erfgoedcentrum 't Schoor":MAILTO:erfgoedcentrumudenhout@gmail.com
END:VEVENT
BEGIN:VEVENT
DTSTART;TZID=Europe/Amsterdam:20250226T153000
DTEND;TZID=Europe/Amsterdam:20250226T173000
DTSTAMP:20260420T000202
CREATED:20250206T102748Z
LAST-MODIFIED:20250206T102748Z
UID:56530-1740583800-1740591000@udenhout-centraal.nl
SUMMARY:Energieloket
DESCRIPTION:Met al je vragen over energie besparen en opwekken kun je nu terecht bij het energieloket in bibliotheek Udenhout !
URL:https://udenhout-centraal.nl/evenement/energieloket-5/
LOCATION:de Bibliotheek Udenhout\, Tongerloplein 15\, Udenhout\, 5071 CX
CATEGORIES:Evenementen
END:VEVENT
BEGIN:VEVENT
DTSTART;TZID=Europe/Amsterdam:20250226T110000
DTEND;TZID=Europe/Amsterdam:20250226T160000
DTSTAMP:20260420T000202
CREATED:20250214T143038Z
LAST-MODIFIED:20250214T143038Z
UID:56700-1740567600-1740585600@udenhout-centraal.nl
SUMMARY:Carnaval speurtocht
DESCRIPTION:Tijdens de carnaval vakantie even lekker actief in de frisse buitenlucht. Speur naar gekke figuurtjes. Vind de oplossing. En ervaar hoe de eenvoud van een speurtocht door de tuin de leukste dag van de vakantie kan worden! \nDe wandeling door en de stilte van de tuin hebben een kalmerend effect. Deze speurtocht is daarom voor jou en/of je kind een ideale afwisseling met het carnavalsfeest. Even een rustmoment in het feestgedruis. Carnaval heeft een traditie van harde muziek en veel mensen dicht op elkaar. Dit kan een mooi pauze moment zijn in de vele prikkels die afkomen op jou en je kind. \nKom samen speuren naar carnavaleske figuurtjes en leer de tuin in de winter kennen.
URL:https://udenhout-centraal.nl/evenement/carnaval-speurtocht-12/
LOCATION:Sprankenhof\, Schoorstraat 26 – A\, Udenhout\, 5071 RA\, Nederland
CATEGORIES:Evenementen
END:VEVENT
BEGIN:VEVENT
DTSTART;TZID=Europe/Amsterdam:20250225T153000
DTEND;TZID=Europe/Amsterdam:20250225T173000
DTSTAMP:20260420T000202
CREATED:20250206T103226Z
LAST-MODIFIED:20250206T103226Z
UID:56533-1740497400-1740504600@udenhout-centraal.nl
SUMMARY:Energieloket
DESCRIPTION:Met al je vragen over energie besparen en opwekken kun je nu terecht bij het energieloket in bibliotheek Udenhout !
URL:https://udenhout-centraal.nl/evenement/energieloket-6/
LOCATION:de Bibliotheek Udenhout\, Tongerloplein 15\, Udenhout\, 5071 CX
CATEGORIES:Evenementen
END:VEVENT
BEGIN:VEVENT
DTSTART;TZID=Europe/Amsterdam:20250225T110000
DTEND;TZID=Europe/Amsterdam:20250225T160000
DTSTAMP:20260420T000202
CREATED:20250214T143028Z
LAST-MODIFIED:20250214T143028Z
UID:56697-1740481200-1740499200@udenhout-centraal.nl
SUMMARY:Carnaval speurtocht
DESCRIPTION:Tijdens de carnaval vakantie even lekker actief in de frisse buitenlucht. Speur naar gekke figuurtjes. Vind de oplossing. En ervaar hoe de eenvoud van een speurtocht door de tuin de leukste dag van de vakantie kan worden! \nDe wandeling door en de stilte van de tuin hebben een kalmerend effect. Deze speurtocht is daarom voor jou en/of je kind een ideale afwisseling met het carnavalsfeest. Even een rustmoment in het feestgedruis. Carnaval heeft een traditie van harde muziek en veel mensen dicht op elkaar. Dit kan een mooi pauze moment zijn in de vele prikkels die afkomen op jou en je kind. \nKom samen speuren naar carnavaleske figuurtjes en leer de tuin in de winter kennen.
URL:https://udenhout-centraal.nl/evenement/carnaval-speurtocht-11/
LOCATION:Sprankenhof\, Schoorstraat 26 – A\, Udenhout\, 5071 RA\, Nederland
CATEGORIES:Evenementen
END:VEVENT
BEGIN:VEVENT
DTSTART;TZID=Europe/Amsterdam:20250224T110000
DTEND;TZID=Europe/Amsterdam:20250224T160000
DTSTAMP:20260420T000202
CREATED:20250214T143008Z
LAST-MODIFIED:20250214T143019Z
UID:56694-1740394800-1740412800@udenhout-centraal.nl
SUMMARY:Carnaval speurtocht
DESCRIPTION:Tijdens de carnaval vakantie even lekker actief in de frisse buitenlucht. Speur naar gekke figuurtjes. Vind de oplossing. En ervaar hoe de eenvoud van een speurtocht door de tuin de leukste dag van de vakantie kan worden! \nDe wandeling door en de stilte van de tuin hebben een kalmerend effect. Deze speurtocht is daarom voor jou en/of je kind een ideale afwisseling met het carnavalsfeest. Even een rustmoment in het feestgedruis. Carnaval heeft een traditie van harde muziek en veel mensen dicht op elkaar. Dit kan een mooi pauze moment zijn in de vele prikkels die afkomen op jou en je kind. \nKom samen speuren naar carnavaleske figuurtjes en leer de tuin in de winter kennen.
URL:https://udenhout-centraal.nl/evenement/carnaval-speurtocht-10/
LOCATION:Sprankenhof\, Schoorstraat 26 – A\, Udenhout\, 5071 RA\, Nederland
CATEGORIES:Evenementen
END:VEVENT
BEGIN:VEVENT
DTSTART;TZID=Europe/Amsterdam:20250223T110000
DTEND;TZID=Europe/Amsterdam:20250223T160000
DTSTAMP:20260420T000202
CREATED:20250214T142957Z
LAST-MODIFIED:20250214T142957Z
UID:56691-1740308400-1740326400@udenhout-centraal.nl
SUMMARY:Carnaval speurtocht
DESCRIPTION:Tijdens de carnaval vakantie even lekker actief in de frisse buitenlucht. Speur naar gekke figuurtjes. Vind de oplossing. En ervaar hoe de eenvoud van een speurtocht door de tuin de leukste dag van de vakantie kan worden! \nDe wandeling door en de stilte van de tuin hebben een kalmerend effect. Deze speurtocht is daarom voor jou en/of je kind een ideale afwisseling met het carnavalsfeest. Even een rustmoment in het feestgedruis. Carnaval heeft een traditie van harde muziek en veel mensen dicht op elkaar. Dit kan een mooi pauze moment zijn in de vele prikkels die afkomen op jou en je kind. \nKom samen speuren naar carnavaleske figuurtjes en leer de tuin in de winter kennen.
URL:https://udenhout-centraal.nl/evenement/carnaval-speurtocht-9/
LOCATION:Sprankenhof\, Schoorstraat 26 – A\, Udenhout\, 5071 RA\, Nederland
CATEGORIES:Evenementen
END:VEVENT
BEGIN:VEVENT
DTSTART;TZID=Europe/Amsterdam:20250222T110000
DTEND;TZID=Europe/Amsterdam:20250222T160000
DTSTAMP:20260420T000202
CREATED:20250214T142945Z
LAST-MODIFIED:20250214T142945Z
UID:56688-1740222000-1740240000@udenhout-centraal.nl
SUMMARY:Carnaval speurtocht
DESCRIPTION:Tijdens de carnaval vakantie even lekker actief in de frisse buitenlucht. Speur naar gekke figuurtjes. Vind de oplossing. En ervaar hoe de eenvoud van een speurtocht door de tuin de leukste dag van de vakantie kan worden! \nDe wandeling door en de stilte van de tuin hebben een kalmerend effect. Deze speurtocht is daarom voor jou en/of je kind een ideale afwisseling met het carnavalsfeest. Even een rustmoment in het feestgedruis. Carnaval heeft een traditie van harde muziek en veel mensen dicht op elkaar. Dit kan een mooi pauze moment zijn in de vele prikkels die afkomen op jou en je kind. \nKom samen speuren naar carnavaleske figuurtjes en leer de tuin in de winter kennen.
URL:https://udenhout-centraal.nl/evenement/carnaval-speurtocht-8/
LOCATION:Sprankenhof\, Schoorstraat 26 – A\, Udenhout\, 5071 RA\, Nederland
CATEGORIES:Evenementen
END:VEVENT
BEGIN:VEVENT
DTSTART;TZID=Europe/Amsterdam:20250221T201100
DTEND;TZID=Europe/Amsterdam:20250221T201100
DTSTAMP:20260420T000202
CREATED:20250110T105225Z
LAST-MODIFIED:20250206T191957Z
UID:56247-1740168660-1740168660@udenhout-centraal.nl
SUMMARY:Zing oe Zot in d'n Haozenpot
DESCRIPTION:Carnavalsavond mmv. zangers\, zangeressen\, Raad van Elf\, Jeugdraad\, dansgarde\, ’n Tonpraoter en harmonie- en opleidingsorkest.\nZoals het thema al aangeeft is het een meezing avond. \nKaarten zijn verkrijgbaar bij ’t Plein en online https://www.tplein.com/tickets
URL:https://udenhout-centraal.nl/evenement/56247/
LOCATION:’t Plein\, Tongerloplein 1\, Udenhout
CATEGORIES:Evenementen
END:VEVENT
BEGIN:VEVENT
DTSTART;TZID=Europe/Amsterdam:20250221T133000
DTEND;TZID=Europe/Amsterdam:20250221T160000
DTSTAMP:20260420T000202
CREATED:20250114T181321Z
LAST-MODIFIED:20250219T190656Z
UID:56301-1740144600-1740153600@udenhout-centraal.nl
SUMMARY:Boekpresentatie boek "Als ge moe van het wandelen bent ...'
DESCRIPTION:Boekpresentatie boek “Als ge moe van het wandelen bent…” (over Bos en Duin en de familie Kruijssen) \nMeer info: https://udenhout-centraal.nl/boekbosenduin/ 
URL:https://udenhout-centraal.nl/evenement/boekpresentatie-boek-als-ge-moe-van-het-wandelen-bent/
LOCATION:Bosch en Duin\, Oude Bosschebaan 1\, Udenhout
CATEGORIES:Evenementen
END:VEVENT
BEGIN:VEVENT
DTSTART;TZID=Europe/Amsterdam:20250221T110000
DTEND;TZID=Europe/Amsterdam:20250221T160000
DTSTAMP:20260420T000202
CREATED:20250214T142932Z
LAST-MODIFIED:20250214T142932Z
UID:56685-1740135600-1740153600@udenhout-centraal.nl
SUMMARY:Carnaval speurtocht
DESCRIPTION:Tijdens de carnaval vakantie even lekker actief in de frisse buitenlucht. Speur naar gekke figuurtjes. Vind de oplossing. En ervaar hoe de eenvoud van een speurtocht door de tuin de leukste dag van de vakantie kan worden! \nDe wandeling door en de stilte van de tuin hebben een kalmerend effect. Deze speurtocht is daarom voor jou en/of je kind een ideale afwisseling met het carnavalsfeest. Even een rustmoment in het feestgedruis. Carnaval heeft een traditie van harde muziek en veel mensen dicht op elkaar. Dit kan een mooi pauze moment zijn in de vele prikkels die afkomen op jou en je kind. \nKom samen speuren naar carnavaleske figuurtjes en leer de tuin in de winter kennen.
URL:https://udenhout-centraal.nl/evenement/carnaval-speurtocht-7/
LOCATION:Sprankenhof\, Schoorstraat 26 – A\, Udenhout\, 5071 RA\, Nederland
CATEGORIES:Evenementen
END:VEVENT
BEGIN:VEVENT
DTSTART;TZID=Europe/Amsterdam:20250220T110000
DTEND;TZID=Europe/Amsterdam:20250220T160000
DTSTAMP:20260420T000202
CREATED:20250214T142920Z
LAST-MODIFIED:20250214T142920Z
UID:56682-1740049200-1740067200@udenhout-centraal.nl
SUMMARY:Carnaval speurtocht
DESCRIPTION:Tijdens de carnaval vakantie even lekker actief in de frisse buitenlucht. Speur naar gekke figuurtjes. Vind de oplossing. En ervaar hoe de eenvoud van een speurtocht door de tuin de leukste dag van de vakantie kan worden! \nDe wandeling door en de stilte van de tuin hebben een kalmerend effect. Deze speurtocht is daarom voor jou en/of je kind een ideale afwisseling met het carnavalsfeest. Even een rustmoment in het feestgedruis. Carnaval heeft een traditie van harde muziek en veel mensen dicht op elkaar. Dit kan een mooi pauze moment zijn in de vele prikkels die afkomen op jou en je kind. \nKom samen speuren naar carnavaleske figuurtjes en leer de tuin in de winter kennen.
URL:https://udenhout-centraal.nl/evenement/carnaval-speurtocht-6/
LOCATION:Sprankenhof\, Schoorstraat 26 – A\, Udenhout\, 5071 RA\, Nederland
CATEGORIES:Evenementen
END:VEVENT
BEGIN:VEVENT
DTSTART;TZID=Europe/Amsterdam:20250220T110000
DTEND;TZID=Europe/Amsterdam:20250220T150000
DTSTAMP:20260420T000202
CREATED:20250123T190632Z
LAST-MODIFIED:20250123T190632Z
UID:56442-1740049200-1740063600@udenhout-centraal.nl
SUMMARY:Erfgoedcentrum 't Schoor geopend
DESCRIPTION:Stap in het verleden van Udenhout en Biezenmortel\, voor boekverkoop en voor vragen over de historie is ’t Schoor elke donderdag en de tweede zaterdagmiddag van de maand open.
URL:https://udenhout-centraal.nl/evenement/erfgoedcentrum-t-schoor-geopend-8/
LOCATION:Erfgoedcentrum ’t Schoor\, Schoorstraat 2\, Udenhout\, Nederland
CATEGORIES:Evenementen
ORGANIZER;CN="Erfgoedcentrum 't Schoor":MAILTO:erfgoedcentrumudenhout@gmail.com
END:VEVENT
END:VCALENDAR