BEGIN:VCALENDAR
VERSION:2.0
PRODID:-//Udenhout-Centraal - ECPv6.15.20//NONSGML v1.0//EN
CALSCALE:GREGORIAN
METHOD:PUBLISH
X-WR-CALNAME:Udenhout-Centraal
X-ORIGINAL-URL:https://udenhout-centraal.nl
X-WR-CALDESC:Evenementen voor Udenhout-Centraal
REFRESH-INTERVAL;VALUE=DURATION:PT1H
X-Robots-Tag:noindex
X-PUBLISHED-TTL:PT1H
BEGIN:VTIMEZONE
TZID:Europe/Amsterdam
BEGIN:DAYLIGHT
TZOFFSETFROM:+0100
TZOFFSETTO:+0200
TZNAME:CEST
DTSTART:20240331T010000
END:DAYLIGHT
BEGIN:STANDARD
TZOFFSETFROM:+0200
TZOFFSETTO:+0100
TZNAME:CET
DTSTART:20241027T010000
END:STANDARD
BEGIN:DAYLIGHT
TZOFFSETFROM:+0100
TZOFFSETTO:+0200
TZNAME:CEST
DTSTART:20250330T010000
END:DAYLIGHT
BEGIN:STANDARD
TZOFFSETFROM:+0200
TZOFFSETTO:+0100
TZNAME:CET
DTSTART:20251026T010000
END:STANDARD
BEGIN:DAYLIGHT
TZOFFSETFROM:+0100
TZOFFSETTO:+0200
TZNAME:CEST
DTSTART:20260329T010000
END:DAYLIGHT
BEGIN:STANDARD
TZOFFSETFROM:+0200
TZOFFSETTO:+0100
TZNAME:CET
DTSTART:20261025T010000
END:STANDARD
END:VTIMEZONE
BEGIN:VEVENT
DTSTART;TZID=Europe/Amsterdam:20250702T103000
DTEND;TZID=Europe/Amsterdam:20250702T110000
DTSTAMP:20260421T161705
CREATED:20241209T155917Z
LAST-MODIFIED:20241209T155917Z
UID:55968-1751452200-1751454000@udenhout-centraal.nl
SUMMARY:Letterlol in de Bibliotheek Udenhout
DESCRIPTION:We gaan lol maken met letters in de bibliotheek Udenhout. We lezen voor uit een mooi of grappig prentenboek.\nMeld je even aan via de website van de bibliotheek: www.bibliotheekmb.nl/udenhout.
URL:https://udenhout-centraal.nl/evenement/letterlol-in-de-bibliotheek-udenhout-2/
LOCATION:Bibliotheek Udenhout\, Tongerloplein 15\, Udenhout\, 5071 CX
CATEGORIES:Evenementen
END:VEVENT
BEGIN:VEVENT
DTSTART;TZID=Europe/Amsterdam:20250702T140000
DTEND;TZID=Europe/Amsterdam:20250702T160000
DTSTAMP:20260421T161705
CREATED:20250115T183117Z
LAST-MODIFIED:20250115T183117Z
UID:56348-1751464800-1751472000@udenhout-centraal.nl
SUMMARY:Handwerkcafé (vooraf aanmelden)
DESCRIPTION:Graag vooraf aanmelden via info@dewolbeer.nl of 06-20703255\nBreng je eigen haak- of breiwerk mee. \nKosten zijn incl. een kopje koffie of thee.
URL:https://udenhout-centraal.nl/evenement/handwerkcafe-vooraf-aanmelden-23/
LOCATION:De Peppel ingang Tuinstraat\, Tuinstraat 69\, Udenhout
CATEGORIES:Evenementen
END:VEVENT
BEGIN:VEVENT
DTSTART;TZID=Europe/Amsterdam:20250703T110000
DTEND;TZID=Europe/Amsterdam:20250703T150000
DTSTAMP:20260421T161705
CREATED:20250606T145248Z
LAST-MODIFIED:20250606T145248Z
UID:57472-1751540400-1751554800@udenhout-centraal.nl
SUMMARY:Openstelling Erfgoedcentrum 't Schoor Udenhout-Biezenmortel
DESCRIPTION:Stap in het verleden van Udenhout en Biezenmortel\, ook voor boekverkoop en voor vragen over de historie is ’t Schoor elke donderdag en de tweede zaterdagmiddag van de maand open.
URL:https://udenhout-centraal.nl/evenement/openstelling-erfgoedcentrum-t-schoor-udenhout-biezenmortel-3/
LOCATION:’t Schoor\, Schoorstraat 2\, eigen ingang achterzijde\, Udenhout
CATEGORIES:Evenementen
ORGANIZER;CN="Erfgoedcentrum 't Schoor":MAILTO:erfgoedcentrumudenhout@gmail.com
END:VEVENT
BEGIN:VEVENT
DTSTART;TZID=Europe/Amsterdam:20250705T100000
DTEND;TZID=Europe/Amsterdam:20250705T130000
DTSTAMP:20260421T161705
CREATED:20250615T191646Z
LAST-MODIFIED:20250615T191646Z
UID:57515-1751709600-1751720400@udenhout-centraal.nl
SUMMARY:Repaircafé
DESCRIPTION:Repareren kapotte spullen.
URL:https://udenhout-centraal.nl/evenement/repaircafe-3/
LOCATION:Basisschool De Wichelroede (Ingang Kloosterpad t.o. Kerkhof)
CATEGORIES:Evenementen
ORGANIZER;CN="Repaircaf%C3%A9 Udenhout":MAILTO:repaircafe@seniorenub.nl
END:VEVENT
BEGIN:VEVENT
DTSTART;TZID=Europe/Amsterdam:20250710T110000
DTEND;TZID=Europe/Amsterdam:20250710T150000
DTSTAMP:20260421T161705
CREATED:20250606T145301Z
LAST-MODIFIED:20250606T145301Z
UID:57475-1752145200-1752159600@udenhout-centraal.nl
SUMMARY:Openstelling Erfgoedcentrum 't Schoor Udenhout-Biezenmortel
DESCRIPTION:Stap in het verleden van Udenhout en Biezenmortel\, ook voor boekverkoop en voor vragen over de historie is ’t Schoor elke donderdag en de tweede zaterdagmiddag van de maand open.
URL:https://udenhout-centraal.nl/evenement/openstelling-erfgoedcentrum-t-schoor-udenhout-biezenmortel-4/
LOCATION:’t Schoor\, Schoorstraat 2\, eigen ingang achterzijde\, Udenhout
CATEGORIES:Evenementen
ORGANIZER;CN="Erfgoedcentrum 't Schoor":MAILTO:erfgoedcentrumudenhout@gmail.com
END:VEVENT
BEGIN:VEVENT
DTSTART;TZID=Europe/Amsterdam:20250714T133000
DTEND;TZID=Europe/Amsterdam:20250714T150000
DTSTAMP:20260421T161705
CREATED:20250120T142621Z
LAST-MODIFIED:20250120T142621Z
UID:56414-1752499800-1752505200@udenhout-centraal.nl
SUMMARY:Mantelzorginloop voor mantelzorgers die zorgen voor iemand met Dementie
DESCRIPTION:Tijdens de mantelzorginloop komen mantelzorgers die zorgen voor iemand met dementie bij elkaar. Ze delen hun verhaal\, luchten hun hart en krijgen (h)erkenning voor hun zorg. Het wordt als waardevol ervaren en als ontspannend. Deze activiteit wordt georganiseerd door DVN (dementievriendelijknetwerk).
URL:https://udenhout-centraal.nl/evenement/mantelzorginloop-voor-mantelzorgers-die-zorgen-voor-iemand-met-dementie-5/
LOCATION:De Peppel\, Zeshoevenstraat 36\, Udenhout\, 5071 BP
CATEGORIES:Evenementen
END:VEVENT
BEGIN:VEVENT
DTSTART;TZID=Europe/Amsterdam:20250715T133000
DTEND;TZID=Europe/Amsterdam:20250715T150000
DTSTAMP:20260421T161705
CREATED:20250206T104030Z
LAST-MODIFIED:20250206T105817Z
UID:56569-1752586200-1752591600@udenhout-centraal.nl
SUMMARY:ONT-moeten voor mantelzorgers
DESCRIPTION:Wat is ONT-moeten voor Mantelzorgers?\nDeze mantelzorg inloop biedt een informele\, toegankelijke plek voor mantelzorgers om even tijd voor zichzelf te nemen en in contact te komen met anderen die in dezelfde situatie zitten. Of je nu zorgt voor een partner\, ouder\, vriend of andere naaste\, het kan fijn zijn om met iemand te praten die begrijpt wat je doormaakt. \nTijdens deze inloop MOET je niks maar kun je: ervaringen delen\, informatie verkrijgen\, en even ontspanning vinden. \nGratis toegang\, consumpties voor eigen rekening.
URL:https://udenhout-centraal.nl/evenement/ont-moeten-voor-mantelzorgers-6/
LOCATION:’t Plein\, Tongerloplein 1\, Udenhout
CATEGORIES:Evenementen
END:VEVENT
BEGIN:VEVENT
DTSTART;TZID=Europe/Amsterdam:20250717T110000
DTEND;TZID=Europe/Amsterdam:20250717T150000
DTSTAMP:20260421T161705
CREATED:20250702T191245Z
LAST-MODIFIED:20250702T191245Z
UID:57617-1752750000-1752764400@udenhout-centraal.nl
SUMMARY:Openstelling Erfgoedcentrum 't Schoor Udenhout-Biezenmortel
DESCRIPTION:Stap in het verleden van Udenhout en Biezenmortel\, ook voor boekverkoop en voor vragen over de historie is ’t Schoor elke donderdag en de tweede zaterdagmiddag van de maand open.
URL:https://udenhout-centraal.nl/evenement/openstelling-erfgoedcentrum-t-schoor-udenhout-biezenmortel-6/
LOCATION:’t Schoor\, Schoorstraat 2\, eigen ingang achterzijde\, Udenhout
CATEGORIES:Evenementen
ORGANIZER;CN="Erfgoedcentrum 't Schoor":MAILTO:erfgoedcentrumudenhout@gmail.com
END:VEVENT
BEGIN:VEVENT
DTSTART;TZID=Europe/Amsterdam:20250719T130000
DTEND;TZID=Europe/Amsterdam:20250719T173000
DTSTAMP:20260421T161705
CREATED:20241214T142955Z
LAST-MODIFIED:20241214T142955Z
UID:56066-1752930000-1752946200@udenhout-centraal.nl
SUMMARY:Jeu de Boules Lente Mini-Mix
DESCRIPTION:Een toernooi over 3 speelrondes waar iedereen zich ter plaatse voor kan inschrijven.\nU hoeft geen lid te zijn van een vereniging.\nAanmelden in de kantine tussen 13.00 uur en 13.30 uur.\nPrijzen in de vorm van levensmiddelenpakketten.
URL:https://udenhout-centraal.nl/evenement/jeu-de-boules-lente-mini-mix/
LOCATION:Petanquevereniging VOP\, Sportpark Zeshoeven\, Sportlaan 15e\, Udenhout
CATEGORIES:Evenementen
ORGANIZER;CN="Petanque vereniging Voor Ons Plezier":MAILTO:hans_verhagen@wxs.nl
END:VEVENT
BEGIN:VEVENT
DTSTART;TZID=Europe/Amsterdam:20250724T110000
DTEND;TZID=Europe/Amsterdam:20250724T150000
DTSTAMP:20260421T161705
CREATED:20250606T145327Z
LAST-MODIFIED:20250702T191232Z
UID:57478-1753354800-1753369200@udenhout-centraal.nl
SUMMARY:Openstelling Erfgoedcentrum 't Schoor Udenhout-Biezenmortel
DESCRIPTION:Stap in het verleden van Udenhout en Biezenmortel\, ook voor boekverkoop en voor vragen over de historie is ’t Schoor elke donderdag en de tweede zaterdagmiddag van de maand open.
URL:https://udenhout-centraal.nl/evenement/openstelling-erfgoedcentrum-t-schoor-udenhout-biezenmortel-5/
LOCATION:’t Schoor\, Schoorstraat 2\, eigen ingang achterzijde\, Udenhout
CATEGORIES:Evenementen
ORGANIZER;CN="Erfgoedcentrum 't Schoor":MAILTO:erfgoedcentrumudenhout@gmail.com
END:VEVENT
BEGIN:VEVENT
DTSTART;TZID=Europe/Amsterdam:20250731T110000
DTEND;TZID=Europe/Amsterdam:20250731T150000
DTSTAMP:20260421T161705
CREATED:20250702T191257Z
LAST-MODIFIED:20250702T191257Z
UID:57620-1753959600-1753974000@udenhout-centraal.nl
SUMMARY:Openstelling Erfgoedcentrum 't Schoor Udenhout-Biezenmortel
DESCRIPTION:Stap in het verleden van Udenhout en Biezenmortel\, ook voor boekverkoop en voor vragen over de historie is ’t Schoor elke donderdag en de tweede zaterdagmiddag van de maand open.
URL:https://udenhout-centraal.nl/evenement/openstelling-erfgoedcentrum-t-schoor-udenhout-biezenmortel-7/
LOCATION:’t Schoor\, Schoorstraat 2\, eigen ingang achterzijde\, Udenhout
CATEGORIES:Evenementen
ORGANIZER;CN="Erfgoedcentrum 't Schoor":MAILTO:erfgoedcentrumudenhout@gmail.com
END:VEVENT
END:VCALENDAR